BEGIN:VCALENDAR
VERSION:2.0
PRODID:-//Gwinnett Bible Chapel - ECPv6.15.16.1//NONSGML v1.0//EN
CALSCALE:GREGORIAN
METHOD:PUBLISH
X-ORIGINAL-URL:https://gwinnettbiblechapel.org
X-WR-CALDESC:Events for Gwinnett Bible Chapel
REFRESH-INTERVAL;VALUE=DURATION:PT1H
X-Robots-Tag:noindex
X-PUBLISHED-TTL:PT1H
BEGIN:VTIMEZONE
TZID:America/New_York
BEGIN:DAYLIGHT
TZOFFSETFROM:-0500
TZOFFSETTO:-0400
TZNAME:EDT
DTSTART:20170312T070000
END:DAYLIGHT
BEGIN:STANDARD
TZOFFSETFROM:-0400
TZOFFSETTO:-0500
TZNAME:EST
DTSTART:20171105T060000
END:STANDARD
BEGIN:DAYLIGHT
TZOFFSETFROM:-0500
TZOFFSETTO:-0400
TZNAME:EDT
DTSTART:20180311T070000
END:DAYLIGHT
BEGIN:STANDARD
TZOFFSETFROM:-0400
TZOFFSETTO:-0500
TZNAME:EST
DTSTART:20181104T060000
END:STANDARD
BEGIN:DAYLIGHT
TZOFFSETFROM:-0500
TZOFFSETTO:-0400
TZNAME:EDT
DTSTART:20190310T070000
END:DAYLIGHT
BEGIN:STANDARD
TZOFFSETFROM:-0400
TZOFFSETTO:-0500
TZNAME:EST
DTSTART:20191103T060000
END:STANDARD
BEGIN:DAYLIGHT
TZOFFSETFROM:-0500
TZOFFSETTO:-0400
TZNAME:EDT
DTSTART:20200308T070000
END:DAYLIGHT
BEGIN:STANDARD
TZOFFSETFROM:-0400
TZOFFSETTO:-0500
TZNAME:EST
DTSTART:20201101T060000
END:STANDARD
BEGIN:DAYLIGHT
TZOFFSETFROM:-0500
TZOFFSETTO:-0400
TZNAME:EDT
DTSTART:20210314T070000
END:DAYLIGHT
BEGIN:STANDARD
TZOFFSETFROM:-0400
TZOFFSETTO:-0500
TZNAME:EST
DTSTART:20211107T060000
END:STANDARD
END:VTIMEZONE
BEGIN:VEVENT
DTSTART;TZID=America/New_York:20201213T114500
DTEND;TZID=America/New_York:20201213T123000
DTSTAMP:20260423T125711
CREATED:20201129T213033Z
LAST-MODIFIED:20201129T213033Z
UID:5019-1607859900-1607862600@gwinnettbiblechapel.org
SUMMARY:Online Sunday School Program
DESCRIPTION:
URL:https://gwinnettbiblechapel.org/event/online-sunday-school-program/
END:VEVENT
BEGIN:VEVENT
DTSTART;TZID=America/New_York:20180729T110000
DTEND;TZID=America/New_York:20180729T120000
DTSTAMP:20260423T125711
CREATED:20180725T140459Z
LAST-MODIFIED:20180725T140459Z
UID:4592-1532862000-1532865600@gwinnettbiblechapel.org
SUMMARY:Speaker @11am
DESCRIPTION:Vinoji S.
URL:https://gwinnettbiblechapel.org/event/speaker-11am-15/
END:VEVENT
BEGIN:VEVENT
DTSTART;TZID=America/New_York:20180729T090000
DTEND;TZID=America/New_York:20180729T120000
DTSTAMP:20260423T125711
CREATED:20180725T140712Z
LAST-MODIFIED:20180725T140712Z
UID:4607-1532854800-1532865600@gwinnettbiblechapel.org
SUMMARY:Open/Close @9am
DESCRIPTION:Volunteer Needed
URL:https://gwinnettbiblechapel.org/event/open-close-9am-4/
END:VEVENT
BEGIN:VEVENT
DTSTART;TZID=America/New_York:20180722T110000
DTEND;TZID=America/New_York:20180722T120000
DTSTAMP:20260423T125711
CREATED:20180725T140436Z
LAST-MODIFIED:20180725T140436Z
UID:4589-1532257200-1532260800@gwinnettbiblechapel.org
SUMMARY:Speaker @11am
DESCRIPTION:Rod S.
URL:https://gwinnettbiblechapel.org/event/speaker-11am-14/
END:VEVENT
BEGIN:VEVENT
DTSTART;TZID=America/New_York:20180722T090000
DTEND;TZID=America/New_York:20180722T120000
DTSTAMP:20260423T125711
CREATED:20180725T140645Z
LAST-MODIFIED:20180725T140645Z
UID:4604-1532250000-1532260800@gwinnettbiblechapel.org
SUMMARY:Open/Close @9am
DESCRIPTION:Paul K.
URL:https://gwinnettbiblechapel.org/event/open-close-9am-3/
END:VEVENT
BEGIN:VEVENT
DTSTART;TZID=America/New_York:20180715T110000
DTEND;TZID=America/New_York:20180715T120000
DTSTAMP:20260423T125711
CREATED:20180725T140411Z
LAST-MODIFIED:20180725T140411Z
UID:4586-1531652400-1531656000@gwinnettbiblechapel.org
SUMMARY:Speaker @11am
DESCRIPTION:Link L.
URL:https://gwinnettbiblechapel.org/event/speaker-11am-13/
END:VEVENT
BEGIN:VEVENT
DTSTART;TZID=America/New_York:20180715T090000
DTEND;TZID=America/New_York:20180715T120000
DTSTAMP:20260423T125711
CREATED:20180725T140622Z
LAST-MODIFIED:20180725T140622Z
UID:4601-1531645200-1531656000@gwinnettbiblechapel.org
SUMMARY:Open/Close @9am
DESCRIPTION:Horace W.
URL:https://gwinnettbiblechapel.org/event/open-close-9am-2/
END:VEVENT
BEGIN:VEVENT
DTSTART;TZID=America/New_York:20180708T110000
DTEND;TZID=America/New_York:20180708T120000
DTSTAMP:20260423T125711
CREATED:20180725T140346Z
LAST-MODIFIED:20180725T140346Z
UID:4583-1531047600-1531051200@gwinnettbiblechapel.org
SUMMARY:Speaker @11am
DESCRIPTION:John G.
URL:https://gwinnettbiblechapel.org/event/speaker-11am-12/
END:VEVENT
BEGIN:VEVENT
DTSTART;TZID=America/New_York:20180708T090000
DTEND;TZID=America/New_York:20180708T120000
DTSTAMP:20260423T125711
CREATED:20180725T140600Z
LAST-MODIFIED:20180725T140600Z
UID:4598-1531040400-1531051200@gwinnettbiblechapel.org
SUMMARY:Open/Close @9am
DESCRIPTION:Kevin B.
URL:https://gwinnettbiblechapel.org/event/open-close-9am/
END:VEVENT
BEGIN:VEVENT
DTSTART;TZID=America/New_York:20180701T110000
DTEND;TZID=America/New_York:20180701T120000
DTSTAMP:20260423T125711
CREATED:20180725T140322Z
LAST-MODIFIED:20180725T140322Z
UID:4580-1530442800-1530446400@gwinnettbiblechapel.org
SUMMARY:Speaker @11am
DESCRIPTION:Clive B.
URL:https://gwinnettbiblechapel.org/event/speaker-11am-11/
END:VEVENT
BEGIN:VEVENT
DTSTART;TZID=America/New_York:20180701T090000
DTEND;TZID=America/New_York:20180715T170000
DTSTAMP:20260423T125711
CREATED:20180725T140936Z
LAST-MODIFIED:20180725T141056Z
UID:4610-1530435600-1531674000@gwinnettbiblechapel.org
SUMMARY:Camp Hope Summer Camps
DESCRIPTION:
URL:https://gwinnettbiblechapel.org/event/camp-hope-summer-camps/
ATTACH;FMTTYPE=image/png:https://gwinnettbiblechapel.org/wp-content/uploads/2018/07/Logo_2010.png
END:VEVENT
BEGIN:VEVENT
DTSTART;TZID=America/New_York:20180701T090000
DTEND;TZID=America/New_York:20180701T120000
DTSTAMP:20260423T125711
CREATED:20180725T140535Z
LAST-MODIFIED:20180725T140535Z
UID:4595-1530435600-1530446400@gwinnettbiblechapel.org
SUMMARY:Open/Close @9
DESCRIPTION:John J.
URL:https://gwinnettbiblechapel.org/event/open-close-9/
END:VEVENT
BEGIN:VEVENT
DTSTART;TZID=America/New_York:20180624T110000
DTEND;TZID=America/New_York:20180624T120000
DTSTAMP:20260423T125711
CREATED:20180604T150142Z
LAST-MODIFIED:20180604T150142Z
UID:4543-1529838000-1529841600@gwinnettbiblechapel.org
SUMMARY:Speaker @ 11
DESCRIPTION:Br. Mulugeta
URL:https://gwinnettbiblechapel.org/event/speaker-11-23/
END:VEVENT
BEGIN:VEVENT
DTSTART;TZID=America/New_York:20180617T110000
DTEND;TZID=America/New_York:20180617T120000
DTSTAMP:20260423T125711
CREATED:20180604T150109Z
LAST-MODIFIED:20180604T150614Z
UID:4540-1529233200-1529236800@gwinnettbiblechapel.org
SUMMARY:Speaker @ 11
DESCRIPTION:Richard M.
URL:https://gwinnettbiblechapel.org/event/speaker-11-22/
END:VEVENT
BEGIN:VEVENT
DTSTART;TZID=America/New_York:20180610T110000
DTEND;TZID=America/New_York:20180610T110000
DTSTAMP:20260423T125711
CREATED:20180604T150046Z
LAST-MODIFIED:20180604T150046Z
UID:4537-1528628400-1528628400@gwinnettbiblechapel.org
SUMMARY:Speaker @ 11
DESCRIPTION:John T.
URL:https://gwinnettbiblechapel.org/event/speaker-11-21/
END:VEVENT
BEGIN:VEVENT
DTSTART;TZID=America/New_York:20180604T090000
DTEND;TZID=America/New_York:20180609T120000
DTSTAMP:20260423T125711
CREATED:20180110T011241Z
LAST-MODIFIED:20180604T150746Z
UID:4333-1528102800-1528545600@gwinnettbiblechapel.org
SUMMARY:VBS
DESCRIPTION:
URL:https://gwinnettbiblechapel.org/event/vbs/
ATTACH;FMTTYPE=image/jpeg:https://gwinnettbiblechapel.org/wp-content/uploads/2018/01/vbs_orig.jpg
END:VEVENT
BEGIN:VEVENT
DTSTART;TZID=America/New_York:20180603T110000
DTEND;TZID=America/New_York:20180603T120000
DTSTAMP:20260423T125711
CREATED:20180604T150002Z
LAST-MODIFIED:20180604T150420Z
UID:4534-1528023600-1528027200@gwinnettbiblechapel.org
SUMMARY:Speaker @ 11
DESCRIPTION:Phil G.
URL:https://gwinnettbiblechapel.org/event/speaker-11-20/
END:VEVENT
BEGIN:VEVENT
DTSTART;TZID=America/New_York:20180429T110000
DTEND;TZID=America/New_York:20180429T120000
DTSTAMP:20260423T125711
CREATED:20180425T015216Z
LAST-MODIFIED:20180425T015216Z
UID:4496-1524999600-1525003200@gwinnettbiblechapel.org
SUMMARY:Speaker @ 11am
DESCRIPTION:Clive B.
URL:https://gwinnettbiblechapel.org/event/speaker-11am-10/
END:VEVENT
BEGIN:VEVENT
DTSTART;TZID=America/New_York:20180422T110000
DTEND;TZID=America/New_York:20180422T120000
DTSTAMP:20260423T125711
CREATED:20180425T015131Z
LAST-MODIFIED:20180425T015131Z
UID:4493-1524394800-1524398400@gwinnettbiblechapel.org
SUMMARY:Speaker @ 11am
DESCRIPTION:Rod S.
URL:https://gwinnettbiblechapel.org/event/speaker-11am-9/
END:VEVENT
BEGIN:VEVENT
DTSTART;TZID=America/New_York:20180415T110000
DTEND;TZID=America/New_York:20180415T120000
DTSTAMP:20260423T125711
CREATED:20180425T015104Z
LAST-MODIFIED:20180425T015104Z
UID:4490-1523790000-1523793600@gwinnettbiblechapel.org
SUMMARY:Speaker @ 11am
DESCRIPTION:Rojers P.
URL:https://gwinnettbiblechapel.org/event/speaker-11am-8/
END:VEVENT
BEGIN:VEVENT
DTSTART;TZID=America/New_York:20180408T110000
DTEND;TZID=America/New_York:20180408T120000
DTSTAMP:20260423T125711
CREATED:20180425T014943Z
LAST-MODIFIED:20180425T014943Z
UID:4487-1523185200-1523188800@gwinnettbiblechapel.org
SUMMARY:Speaker @ 11am
DESCRIPTION:Vinoji S.
URL:https://gwinnettbiblechapel.org/event/speaker-11am-7/
END:VEVENT
BEGIN:VEVENT
DTSTART;TZID=America/New_York:20180401T110000
DTEND;TZID=America/New_York:20180401T120000
DTSTAMP:20260423T125711
CREATED:20180425T014917Z
LAST-MODIFIED:20180425T014917Z
UID:4484-1522580400-1522584000@gwinnettbiblechapel.org
SUMMARY:Speaker @ 11am
DESCRIPTION:Dennis B.
URL:https://gwinnettbiblechapel.org/event/speaker-11am-6/
END:VEVENT
BEGIN:VEVENT
DTSTART;TZID=America/New_York:20180325T110000
DTEND;TZID=America/New_York:20180325T120000
DTSTAMP:20260423T125711
CREATED:20180316T144336Z
LAST-MODIFIED:20180316T144336Z
UID:4427-1521975600-1521979200@gwinnettbiblechapel.org
SUMMARY:Speaker @11
DESCRIPTION:Bruce C.
URL:https://gwinnettbiblechapel.org/event/speaker-11-19/
END:VEVENT
BEGIN:VEVENT
DTSTART;TZID=America/New_York:20180325T103000
DTEND;TZID=America/New_York:20180325T110000
DTSTAMP:20260423T125711
CREATED:20180316T144720Z
LAST-MODIFIED:20180316T144720Z
UID:4453-1521973800-1521975600@gwinnettbiblechapel.org
SUMMARY:Refreshments
DESCRIPTION:Ordenna B.
URL:https://gwinnettbiblechapel.org/event/refreshments-26/
END:VEVENT
BEGIN:VEVENT
DTSTART;TZID=America/New_York:20180325T090000
DTEND;TZID=America/New_York:20180325T120000
DTSTAMP:20260423T125711
CREATED:20180316T144533Z
LAST-MODIFIED:20180316T144533Z
UID:4439-1521968400-1521979200@gwinnettbiblechapel.org
SUMMARY:Open/Close Greeting
DESCRIPTION:Paul K.
URL:https://gwinnettbiblechapel.org/event/open-close-greeting-4/
END:VEVENT
BEGIN:VEVENT
DTSTART;TZID=America/New_York:20180318T103000
DTEND;TZID=America/New_York:20180318T110000
DTSTAMP:20260423T125711
CREATED:20180316T144659Z
LAST-MODIFIED:20180316T144659Z
UID:4450-1521369000-1521370800@gwinnettbiblechapel.org
SUMMARY:Refreshments
DESCRIPTION:Barbara D.
URL:https://gwinnettbiblechapel.org/event/refreshments-25/
END:VEVENT
BEGIN:VEVENT
DTSTART;TZID=America/New_York:20180318T090000
DTEND;TZID=America/New_York:20180318T120000
DTSTAMP:20260423T125711
CREATED:20180316T144508Z
LAST-MODIFIED:20180316T144508Z
UID:4436-1521363600-1521374400@gwinnettbiblechapel.org
SUMMARY:Open/Close Greeting
DESCRIPTION:Horace W.
URL:https://gwinnettbiblechapel.org/event/open-close-greeting-3/
END:VEVENT
BEGIN:VEVENT
DTSTART;TZID=America/New_York:20180318T080000
DTEND;TZID=America/New_York:20180318T120000
DTSTAMP:20260423T125711
CREATED:20180316T144312Z
LAST-MODIFIED:20180316T144312Z
UID:4424-1521360000-1521374400@gwinnettbiblechapel.org
SUMMARY:Speaker @11
DESCRIPTION:Gladin J.
URL:https://gwinnettbiblechapel.org/event/speaker-11-18/
END:VEVENT
BEGIN:VEVENT
DTSTART;TZID=America/New_York:20180311T110000
DTEND;TZID=America/New_York:20180311T120000
DTSTAMP:20260423T125711
CREATED:20180316T144234Z
LAST-MODIFIED:20180316T144234Z
UID:4421-1520766000-1520769600@gwinnettbiblechapel.org
SUMMARY:Speaker @11
DESCRIPTION:Richard M.
URL:https://gwinnettbiblechapel.org/event/speaker-11-17/
END:VEVENT
BEGIN:VEVENT
DTSTART;TZID=America/New_York:20180311T103000
DTEND;TZID=America/New_York:20180311T110000
DTSTAMP:20260423T125711
CREATED:20180316T144633Z
LAST-MODIFIED:20180316T144633Z
UID:4447-1520764200-1520766000@gwinnettbiblechapel.org
SUMMARY:Refreshments
DESCRIPTION:Cathy B.
URL:https://gwinnettbiblechapel.org/event/refreshments-24/
END:VEVENT
END:VCALENDAR