BEGIN:VCALENDAR
VERSION:2.0
PRODID:-//Gwinnett Bible Chapel - ECPv6.15.16.1//NONSGML v1.0//EN
CALSCALE:GREGORIAN
METHOD:PUBLISH
X-WR-CALNAME:Gwinnett Bible Chapel
X-ORIGINAL-URL:https://gwinnettbiblechapel.org
X-WR-CALDESC:Events for Gwinnett Bible Chapel
REFRESH-INTERVAL;VALUE=DURATION:PT1H
X-Robots-Tag:noindex
X-PUBLISHED-TTL:PT1H
BEGIN:VTIMEZONE
TZID:America/New_York
BEGIN:DAYLIGHT
TZOFFSETFROM:-0500
TZOFFSETTO:-0400
TZNAME:EDT
DTSTART:20160313T070000
END:DAYLIGHT
BEGIN:STANDARD
TZOFFSETFROM:-0400
TZOFFSETTO:-0500
TZNAME:EST
DTSTART:20161106T060000
END:STANDARD
BEGIN:DAYLIGHT
TZOFFSETFROM:-0500
TZOFFSETTO:-0400
TZNAME:EDT
DTSTART:20170312T070000
END:DAYLIGHT
BEGIN:STANDARD
TZOFFSETFROM:-0400
TZOFFSETTO:-0500
TZNAME:EST
DTSTART:20171105T060000
END:STANDARD
BEGIN:DAYLIGHT
TZOFFSETFROM:-0500
TZOFFSETTO:-0400
TZNAME:EDT
DTSTART:20180311T070000
END:DAYLIGHT
BEGIN:STANDARD
TZOFFSETFROM:-0400
TZOFFSETTO:-0500
TZNAME:EST
DTSTART:20181104T060000
END:STANDARD
END:VTIMEZONE
BEGIN:VEVENT
DTSTART;TZID=America/New_York:20171015T110000
DTEND;TZID=America/New_York:20171015T120000
DTSTAMP:20260424T050814
CREATED:20171006T172441Z
LAST-MODIFIED:20171006T172441Z
UID:4079-1508065200-1508068800@gwinnettbiblechapel.org
SUMMARY:Speaker @11
DESCRIPTION:Alan P.
URL:https://gwinnettbiblechapel.org/event/speaker-11-3/
END:VEVENT
BEGIN:VEVENT
DTSTART;TZID=America/New_York:20171015T103000
DTEND;TZID=America/New_York:20171015T110000
DTSTAMP:20260424T050814
CREATED:20171006T172925Z
LAST-MODIFIED:20171006T172925Z
UID:4109-1508063400-1508065200@gwinnettbiblechapel.org
SUMMARY:Refreshments
DESCRIPTION:Joy H.
URL:https://gwinnettbiblechapel.org/event/refreshments-12/
END:VEVENT
BEGIN:VEVENT
DTSTART;TZID=America/New_York:20171015T090000
DTEND;TZID=America/New_York:20171015T120000
DTSTAMP:20260424T050814
CREATED:20171006T172720Z
LAST-MODIFIED:20171006T172720Z
UID:4094-1508058000-1508068800@gwinnettbiblechapel.org
SUMMARY:Open/Close-Greet @9
DESCRIPTION:Horrace W.
URL:https://gwinnettbiblechapel.org/event/openclose-greet-9-3/
END:VEVENT
BEGIN:VEVENT
DTSTART;TZID=America/New_York:20171008T110000
DTEND;TZID=America/New_York:20171008T120000
DTSTAMP:20260424T050814
CREATED:20171006T172416Z
LAST-MODIFIED:20171006T172416Z
UID:4076-1507460400-1507464000@gwinnettbiblechapel.org
SUMMARY:Speaker @11
DESCRIPTION:Peterjohn W.
URL:https://gwinnettbiblechapel.org/event/speaker-11-2/
END:VEVENT
BEGIN:VEVENT
DTSTART;TZID=America/New_York:20171008T103000
DTEND;TZID=America/New_York:20171008T110000
DTSTAMP:20260424T050814
CREATED:20171006T172904Z
LAST-MODIFIED:20171006T172904Z
UID:4105-1507458600-1507460400@gwinnettbiblechapel.org
SUMMARY:Refreshments
DESCRIPTION:Kathy B.
URL:https://gwinnettbiblechapel.org/event/refreshments-11/
END:VEVENT
BEGIN:VEVENT
DTSTART;TZID=America/New_York:20171008T090000
DTEND;TZID=America/New_York:20171008T120000
DTSTAMP:20260424T050814
CREATED:20171006T172657Z
LAST-MODIFIED:20171006T172657Z
UID:4091-1507453200-1507464000@gwinnettbiblechapel.org
SUMMARY:Open/Close-Greet @9
DESCRIPTION:Kevin B.
URL:https://gwinnettbiblechapel.org/event/openclose-greet-9-2/
END:VEVENT
BEGIN:VEVENT
DTSTART;TZID=America/New_York:20171007T073000
DTEND;TZID=America/New_York:20171007T093000
DTSTAMP:20260424T050814
CREATED:20171003T145618Z
LAST-MODIFIED:20171003T145618Z
UID:4063-1507361400-1507368600@gwinnettbiblechapel.org
SUMMARY:Men's Breakfast @7:30am
DESCRIPTION:
URL:https://gwinnettbiblechapel.org/event/mens-breakfast-730am/
END:VEVENT
BEGIN:VEVENT
DTSTART;TZID=America/New_York:20171001T110000
DTEND;TZID=America/New_York:20171001T120000
DTSTAMP:20260424T050814
CREATED:20171006T172347Z
LAST-MODIFIED:20171006T172347Z
UID:4073-1506855600-1506859200@gwinnettbiblechapel.org
SUMMARY:Speaker @11
DESCRIPTION:Dennis B.
URL:https://gwinnettbiblechapel.org/event/speaker-11/
END:VEVENT
BEGIN:VEVENT
DTSTART;TZID=America/New_York:20171001T103000
DTEND;TZID=America/New_York:20171001T110000
DTSTAMP:20260424T050814
CREATED:20171006T172841Z
LAST-MODIFIED:20171006T172841Z
UID:4103-1506853800-1506855600@gwinnettbiblechapel.org
SUMMARY:Refreshments
DESCRIPTION:Claudia B.
URL:https://gwinnettbiblechapel.org/event/refreshments-10/
END:VEVENT
BEGIN:VEVENT
DTSTART;TZID=America/New_York:20171001T090000
DTEND;TZID=America/New_York:20171001T120000
DTSTAMP:20260424T050814
CREATED:20171006T172637Z
LAST-MODIFIED:20171006T172637Z
UID:4088-1506848400-1506859200@gwinnettbiblechapel.org
SUMMARY:Open/Close-Greet @9
DESCRIPTION:John J.
URL:https://gwinnettbiblechapel.org/event/openclose-greet-9/
END:VEVENT
BEGIN:VEVENT
DTSTART;TZID=America/New_York:20170927T190000
DTEND;TZID=America/New_York:20170927T201500
DTSTAMP:20260424T050814
CREATED:20170904T150313Z
LAST-MODIFIED:20170921T032136Z
UID:3982-1506538800-1506543300@gwinnettbiblechapel.org
SUMMARY:Wed evening Prayer & Bible Study 7pm
DESCRIPTION:
URL:https://gwinnettbiblechapel.org/event/wed-evening-prayer-bible-study-7pm-3/
END:VEVENT
BEGIN:VEVENT
DTSTART;TZID=America/New_York:20170927T190000
DTEND;TZID=America/New_York:20170927T200000
DTSTAMP:20260424T050814
CREATED:20170904T152727Z
LAST-MODIFIED:20170904T152727Z
UID:3995-1506538800-1506542400@gwinnettbiblechapel.org
SUMMARY:Wed AWANA at 7 pm
DESCRIPTION:
URL:https://gwinnettbiblechapel.org/event/wed-awana-7-pm-4/
ATTACH;FMTTYPE=image/gif:https://gwinnettbiblechapel.org/wp-content/uploads/2017/09/awana.gif
END:VEVENT
BEGIN:VEVENT
DTSTART;TZID=America/New_York:20170924T110000
DTEND;TZID=America/New_York:20170924T120000
DTSTAMP:20260424T050814
CREATED:20170904T145310Z
LAST-MODIFIED:20170921T031014Z
UID:3968-1506250800-1506254400@gwinnettbiblechapel.org
SUMMARY:Speaker at 11 am
DESCRIPTION:Richard M.
URL:https://gwinnettbiblechapel.org/event/speaker-at-11-am-6/
END:VEVENT
BEGIN:VEVENT
DTSTART;TZID=America/New_York:20170924T103000
DTEND;TZID=America/New_York:20170924T110000
DTSTAMP:20260424T050814
CREATED:20170904T160633Z
LAST-MODIFIED:20170904T160633Z
UID:4022-1506249000-1506250800@gwinnettbiblechapel.org
SUMMARY:Refreshments
DESCRIPTION:Giji J.
URL:https://gwinnettbiblechapel.org/event/refreshments-9/
END:VEVENT
BEGIN:VEVENT
DTSTART;TZID=America/New_York:20170924T090000
DTEND;TZID=America/New_York:20170924T100000
DTSTAMP:20260424T050814
CREATED:20170904T160450Z
LAST-MODIFIED:20170904T160450Z
UID:4010-1506243600-1506247200@gwinnettbiblechapel.org
SUMMARY:Open/Close Greet @9am
DESCRIPTION:Paul K.
URL:https://gwinnettbiblechapel.org/event/openclose-greet-9am-3/
END:VEVENT
BEGIN:VEVENT
DTSTART;TZID=America/New_York:20170922T120000
DTEND;TZID=America/New_York:20170924T120000
DTSTAMP:20260424T050814
CREATED:20170905T210155Z
LAST-MODIFIED:20170905T213534Z
UID:4025-1506081600-1506254400@gwinnettbiblechapel.org
SUMMARY:Ladies Retreat (Sep 22~24)
DESCRIPTION:@ Camp Hope //\nTheme- “Jesus Christ the same Yesterday\, Today\, Forever”
URL:https://gwinnettbiblechapel.org/event/ladies-retreat-sep-2224/
END:VEVENT
BEGIN:VEVENT
DTSTART;TZID=America/New_York:20170920T190000
DTEND;TZID=America/New_York:20170920T201500
DTSTAMP:20260424T050814
CREATED:20170904T150239Z
LAST-MODIFIED:20170904T150239Z
UID:3979-1505934000-1505938500@gwinnettbiblechapel.org
SUMMARY:Wed evening Prayer & Bible Study 7pm
DESCRIPTION:Abraham-Hebrews 11:8-10
URL:https://gwinnettbiblechapel.org/event/wed-evening-prayer-bible-study-7pm-2/
END:VEVENT
BEGIN:VEVENT
DTSTART;TZID=America/New_York:20170920T190000
DTEND;TZID=America/New_York:20170920T200000
DTSTAMP:20260424T050814
CREATED:20170904T152648Z
LAST-MODIFIED:20170904T152648Z
UID:3992-1505934000-1505937600@gwinnettbiblechapel.org
SUMMARY:Wed AWANA at 7 pm
DESCRIPTION:
URL:https://gwinnettbiblechapel.org/event/wed-awana-7-pm-3/
ATTACH;FMTTYPE=image/gif:https://gwinnettbiblechapel.org/wp-content/uploads/2017/09/awana.gif
END:VEVENT
BEGIN:VEVENT
DTSTART;TZID=America/New_York:20170917T110000
DTEND;TZID=America/New_York:20170917T120000
DTSTAMP:20260424T050814
CREATED:20170904T145239Z
LAST-MODIFIED:20170904T145239Z
UID:3965-1505646000-1505649600@gwinnettbiblechapel.org
SUMMARY:Speaker at 11 am
DESCRIPTION:John T.
URL:https://gwinnettbiblechapel.org/event/speaker-at-11-am-5/
END:VEVENT
BEGIN:VEVENT
DTSTART;TZID=America/New_York:20170917T103000
DTEND;TZID=America/New_York:20170917T110000
DTSTAMP:20260424T050814
CREATED:20170904T160611Z
LAST-MODIFIED:20170904T160611Z
UID:4019-1505644200-1505646000@gwinnettbiblechapel.org
SUMMARY:Refreshments
DESCRIPTION:Tracey M.
URL:https://gwinnettbiblechapel.org/event/refreshments-8/
END:VEVENT
BEGIN:VEVENT
DTSTART;TZID=America/New_York:20170917T090000
DTEND;TZID=America/New_York:20170917T100000
DTSTAMP:20260424T050814
CREATED:20170904T160430Z
LAST-MODIFIED:20170904T160430Z
UID:4007-1505638800-1505642400@gwinnettbiblechapel.org
SUMMARY:Open/Close Greet @9am
DESCRIPTION:Horace W.
URL:https://gwinnettbiblechapel.org/event/openclose-greet-9am-2/
END:VEVENT
BEGIN:VEVENT
DTSTART;TZID=America/New_York:20170913T190000
DTEND;TZID=America/New_York:20170913T201500
DTSTAMP:20260424T050814
CREATED:20170904T150150Z
LAST-MODIFIED:20170904T150150Z
UID:3975-1505329200-1505333700@gwinnettbiblechapel.org
SUMMARY:Wed evening Prayer & Bible Study 7pm
DESCRIPTION:Hebrews 11 intro
URL:https://gwinnettbiblechapel.org/event/wed-evening-prayer-bible-study-7pm/
ATTACH;FMTTYPE=image/jpeg:https://gwinnettbiblechapel.org/wp-content/uploads/2017/09/hebrews.jpg
END:VEVENT
BEGIN:VEVENT
DTSTART;TZID=America/New_York:20170913T190000
DTEND;TZID=America/New_York:20170913T200000
DTSTAMP:20260424T050814
CREATED:20170904T152619Z
LAST-MODIFIED:20170904T152619Z
UID:3989-1505329200-1505332800@gwinnettbiblechapel.org
SUMMARY:Wed AWANA at 7 pm
DESCRIPTION:
URL:https://gwinnettbiblechapel.org/event/wed-awana-7-pm-2/
ATTACH;FMTTYPE=image/gif:https://gwinnettbiblechapel.org/wp-content/uploads/2017/09/awana.gif
END:VEVENT
BEGIN:VEVENT
DTSTART;TZID=America/New_York:20170910T110000
DTEND;TZID=America/New_York:20170910T120000
DTSTAMP:20260424T050814
CREATED:20170904T145159Z
LAST-MODIFIED:20170904T145159Z
UID:3961-1505041200-1505044800@gwinnettbiblechapel.org
SUMMARY:Speaker at 11 am
DESCRIPTION:Vinoji S.
URL:https://gwinnettbiblechapel.org/event/speaker-at-11-am-4/
END:VEVENT
BEGIN:VEVENT
DTSTART;TZID=America/New_York:20170910T103000
DTEND;TZID=America/New_York:20170910T110000
DTSTAMP:20260424T050814
CREATED:20170904T160551Z
LAST-MODIFIED:20170904T160551Z
UID:4016-1505039400-1505041200@gwinnettbiblechapel.org
SUMMARY:Refreshments
DESCRIPTION:Betty B.
URL:https://gwinnettbiblechapel.org/event/refreshments-7/
END:VEVENT
BEGIN:VEVENT
DTSTART;TZID=America/New_York:20170910T090000
DTEND;TZID=America/New_York:20170910T100000
DTSTAMP:20260424T050814
CREATED:20170904T160409Z
LAST-MODIFIED:20170904T160409Z
UID:4004-1505034000-1505037600@gwinnettbiblechapel.org
SUMMARY:Open/Close Greet @9am
DESCRIPTION:Kevin B.
URL:https://gwinnettbiblechapel.org/event/openclose-greet-9am/
END:VEVENT
BEGIN:VEVENT
DTSTART;TZID=America/New_York:20170909T073000
DTEND;TZID=America/New_York:20170909T090000
DTSTAMP:20260424T050814
CREATED:20170904T144618Z
LAST-MODIFIED:20170904T144920Z
UID:3954-1504942200-1504947600@gwinnettbiblechapel.org
SUMMARY:Men's Breakfast 7:30 am
DESCRIPTION:
URL:https://gwinnettbiblechapel.org/event/mens-breakfast/
END:VEVENT
BEGIN:VEVENT
DTSTART;TZID=America/New_York:20170906T190000
DTEND;TZID=America/New_York:20170906T201500
DTSTAMP:20260424T050814
CREATED:20170904T153617Z
LAST-MODIFIED:20170904T160220Z
UID:3998-1504724400-1504728900@gwinnettbiblechapel.org
SUMMARY:Wed evening Prayer & Bible Study 7pm
DESCRIPTION:Speaker: Missionary from Tanzania
URL:https://gwinnettbiblechapel.org/event/wed-evening-prayer-bible-study-7pm-4/
END:VEVENT
BEGIN:VEVENT
DTSTART;TZID=America/New_York:20170906T190000
DTEND;TZID=America/New_York:20170906T200000
DTSTAMP:20260424T050814
CREATED:20170904T152534Z
LAST-MODIFIED:20170904T152534Z
UID:3985-1504724400-1504728000@gwinnettbiblechapel.org
SUMMARY:Wed AWANA at 7 pm
DESCRIPTION:
URL:https://gwinnettbiblechapel.org/event/wed-awana-7-pm/
ATTACH;FMTTYPE=image/gif:https://gwinnettbiblechapel.org/wp-content/uploads/2017/09/awana.gif
END:VEVENT
BEGIN:VEVENT
DTSTART;TZID=America/New_York:20170903T110000
DTEND;TZID=America/New_York:20170903T120000
DTSTAMP:20260424T050814
CREATED:20170904T145120Z
LAST-MODIFIED:20170904T145120Z
UID:3958-1504436400-1504440000@gwinnettbiblechapel.org
SUMMARY:Speaker at 11am
DESCRIPTION:Dennis B.
URL:https://gwinnettbiblechapel.org/event/speaker-at-11am-4/
END:VEVENT
END:VCALENDAR