BEGIN:VCALENDAR
VERSION:2.0
PRODID:-//Gwinnett Bible Chapel - ECPv6.15.16.1//NONSGML v1.0//EN
CALSCALE:GREGORIAN
METHOD:PUBLISH
X-ORIGINAL-URL:https://gwinnettbiblechapel.org
X-WR-CALDESC:Events for Gwinnett Bible Chapel
REFRESH-INTERVAL;VALUE=DURATION:PT1H
X-Robots-Tag:noindex
X-PUBLISHED-TTL:PT1H
BEGIN:VTIMEZONE
TZID:America/New_York
BEGIN:DAYLIGHT
TZOFFSETFROM:-0500
TZOFFSETTO:-0400
TZNAME:EDT
DTSTART:20160313T070000
END:DAYLIGHT
BEGIN:STANDARD
TZOFFSETFROM:-0400
TZOFFSETTO:-0500
TZNAME:EST
DTSTART:20161106T060000
END:STANDARD
BEGIN:DAYLIGHT
TZOFFSETFROM:-0500
TZOFFSETTO:-0400
TZNAME:EDT
DTSTART:20170312T070000
END:DAYLIGHT
BEGIN:STANDARD
TZOFFSETFROM:-0400
TZOFFSETTO:-0500
TZNAME:EST
DTSTART:20171105T060000
END:STANDARD
BEGIN:DAYLIGHT
TZOFFSETFROM:-0500
TZOFFSETTO:-0400
TZNAME:EDT
DTSTART:20180311T070000
END:DAYLIGHT
BEGIN:STANDARD
TZOFFSETFROM:-0400
TZOFFSETTO:-0500
TZNAME:EST
DTSTART:20181104T060000
END:STANDARD
END:VTIMEZONE
BEGIN:VEVENT
DTSTART;TZID=America/New_York:20170917T090000
DTEND;TZID=America/New_York:20170917T100000
DTSTAMP:20260424T091159
CREATED:20170904T160430Z
LAST-MODIFIED:20170904T160430Z
UID:4007-1505638800-1505642400@gwinnettbiblechapel.org
SUMMARY:Open/Close Greet @9am
DESCRIPTION:Horace W.
URL:https://gwinnettbiblechapel.org/event/openclose-greet-9am-2/
END:VEVENT
BEGIN:VEVENT
DTSTART;TZID=America/New_York:20170913T190000
DTEND;TZID=America/New_York:20170913T201500
DTSTAMP:20260424T091159
CREATED:20170904T150150Z
LAST-MODIFIED:20170904T150150Z
UID:3975-1505329200-1505333700@gwinnettbiblechapel.org
SUMMARY:Wed evening Prayer & Bible Study 7pm
DESCRIPTION:Hebrews 11 intro
URL:https://gwinnettbiblechapel.org/event/wed-evening-prayer-bible-study-7pm/
ATTACH;FMTTYPE=image/jpeg:https://gwinnettbiblechapel.org/wp-content/uploads/2017/09/hebrews.jpg
END:VEVENT
BEGIN:VEVENT
DTSTART;TZID=America/New_York:20170913T190000
DTEND;TZID=America/New_York:20170913T200000
DTSTAMP:20260424T091159
CREATED:20170904T152619Z
LAST-MODIFIED:20170904T152619Z
UID:3989-1505329200-1505332800@gwinnettbiblechapel.org
SUMMARY:Wed AWANA at 7 pm
DESCRIPTION:
URL:https://gwinnettbiblechapel.org/event/wed-awana-7-pm-2/
ATTACH;FMTTYPE=image/gif:https://gwinnettbiblechapel.org/wp-content/uploads/2017/09/awana.gif
END:VEVENT
BEGIN:VEVENT
DTSTART;TZID=America/New_York:20170910T110000
DTEND;TZID=America/New_York:20170910T120000
DTSTAMP:20260424T091159
CREATED:20170904T145159Z
LAST-MODIFIED:20170904T145159Z
UID:3961-1505041200-1505044800@gwinnettbiblechapel.org
SUMMARY:Speaker at 11 am
DESCRIPTION:Vinoji S.
URL:https://gwinnettbiblechapel.org/event/speaker-at-11-am-4/
END:VEVENT
BEGIN:VEVENT
DTSTART;TZID=America/New_York:20170910T103000
DTEND;TZID=America/New_York:20170910T110000
DTSTAMP:20260424T091159
CREATED:20170904T160551Z
LAST-MODIFIED:20170904T160551Z
UID:4016-1505039400-1505041200@gwinnettbiblechapel.org
SUMMARY:Refreshments
DESCRIPTION:Betty B.
URL:https://gwinnettbiblechapel.org/event/refreshments-7/
END:VEVENT
BEGIN:VEVENT
DTSTART;TZID=America/New_York:20170910T090000
DTEND;TZID=America/New_York:20170910T100000
DTSTAMP:20260424T091159
CREATED:20170904T160409Z
LAST-MODIFIED:20170904T160409Z
UID:4004-1505034000-1505037600@gwinnettbiblechapel.org
SUMMARY:Open/Close Greet @9am
DESCRIPTION:Kevin B.
URL:https://gwinnettbiblechapel.org/event/openclose-greet-9am/
END:VEVENT
BEGIN:VEVENT
DTSTART;TZID=America/New_York:20170909T073000
DTEND;TZID=America/New_York:20170909T090000
DTSTAMP:20260424T091159
CREATED:20170904T144618Z
LAST-MODIFIED:20170904T144920Z
UID:3954-1504942200-1504947600@gwinnettbiblechapel.org
SUMMARY:Men's Breakfast 7:30 am
DESCRIPTION:
URL:https://gwinnettbiblechapel.org/event/mens-breakfast/
END:VEVENT
BEGIN:VEVENT
DTSTART;TZID=America/New_York:20170906T190000
DTEND;TZID=America/New_York:20170906T201500
DTSTAMP:20260424T091159
CREATED:20170904T153617Z
LAST-MODIFIED:20170904T160220Z
UID:3998-1504724400-1504728900@gwinnettbiblechapel.org
SUMMARY:Wed evening Prayer & Bible Study 7pm
DESCRIPTION:Speaker: Missionary from Tanzania
URL:https://gwinnettbiblechapel.org/event/wed-evening-prayer-bible-study-7pm-4/
END:VEVENT
BEGIN:VEVENT
DTSTART;TZID=America/New_York:20170906T190000
DTEND;TZID=America/New_York:20170906T200000
DTSTAMP:20260424T091159
CREATED:20170904T152534Z
LAST-MODIFIED:20170904T152534Z
UID:3985-1504724400-1504728000@gwinnettbiblechapel.org
SUMMARY:Wed AWANA at 7 pm
DESCRIPTION:
URL:https://gwinnettbiblechapel.org/event/wed-awana-7-pm/
ATTACH;FMTTYPE=image/gif:https://gwinnettbiblechapel.org/wp-content/uploads/2017/09/awana.gif
END:VEVENT
BEGIN:VEVENT
DTSTART;TZID=America/New_York:20170903T110000
DTEND;TZID=America/New_York:20170903T120000
DTSTAMP:20260424T091159
CREATED:20170904T145120Z
LAST-MODIFIED:20170904T145120Z
UID:3958-1504436400-1504440000@gwinnettbiblechapel.org
SUMMARY:Speaker at 11am
DESCRIPTION:Dennis B.
URL:https://gwinnettbiblechapel.org/event/speaker-at-11am-4/
END:VEVENT
BEGIN:VEVENT
DTSTART;TZID=America/New_York:20170903T103000
DTEND;TZID=America/New_York:20170903T110000
DTSTAMP:20260424T091159
CREATED:20170904T160526Z
LAST-MODIFIED:20170904T160526Z
UID:4013-1504434600-1504436400@gwinnettbiblechapel.org
SUMMARY:Refreshments
DESCRIPTION:Tina K.
URL:https://gwinnettbiblechapel.org/event/refreshments-6/
END:VEVENT
BEGIN:VEVENT
DTSTART;TZID=America/New_York:20170903T090000
DTEND;TZID=America/New_York:20170903T100000
DTSTAMP:20260424T091159
CREATED:20170904T160314Z
LAST-MODIFIED:20170904T160314Z
UID:4001-1504429200-1504432800@gwinnettbiblechapel.org
SUMMARY:Open-Close Greet @9am
DESCRIPTION:John J.
URL:https://gwinnettbiblechapel.org/event/open-close-greet-9am/
END:VEVENT
BEGIN:VEVENT
DTSTART;TZID=America/New_York:20170827T110000
DTEND;TZID=America/New_York:20170827T120000
DTSTAMP:20260424T091159
CREATED:20170802T145352Z
LAST-MODIFIED:20170802T145352Z
UID:3939-1503831600-1503835200@gwinnettbiblechapel.org
SUMMARY:Speaker at 11 am
DESCRIPTION:Bobby Y.
URL:https://gwinnettbiblechapel.org/event/speaker-11-4/
END:VEVENT
BEGIN:VEVENT
DTSTART;TZID=America/New_York:20170820T120000
DTEND;TZID=America/New_York:20170820T133000
DTSTAMP:20260424T091159
CREATED:20170201T012325Z
LAST-MODIFIED:20170201T012325Z
UID:3180-1503230400-1503235800@gwinnettbiblechapel.org
SUMMARY:12pm Dinner on the Grounds
DESCRIPTION:
URL:https://gwinnettbiblechapel.org/event/12pm-dinner-grounds-5/
END:VEVENT
BEGIN:VEVENT
DTSTART;TZID=America/New_York:20170820T110000
DTEND;TZID=America/New_York:20170820T120000
DTSTAMP:20260424T091159
CREATED:20170802T145254Z
LAST-MODIFIED:20170802T145254Z
UID:3936-1503226800-1503230400@gwinnettbiblechapel.org
SUMMARY:Speaker at 11 am
DESCRIPTION:Rojers P.
URL:https://gwinnettbiblechapel.org/event/speaker-at-11-am-3/
END:VEVENT
BEGIN:VEVENT
DTSTART;TZID=America/New_York:20170813T110000
DTEND;TZID=America/New_York:20170813T120000
DTSTAMP:20260424T091159
CREATED:20170802T145210Z
LAST-MODIFIED:20170802T145210Z
UID:3933-1502622000-1502625600@gwinnettbiblechapel.org
SUMMARY:Speaker at 11 am
DESCRIPTION:Peterjohn W.
URL:https://gwinnettbiblechapel.org/event/speaker-at-11-am-2/
END:VEVENT
BEGIN:VEVENT
DTSTART;TZID=America/New_York:20170806T110000
DTEND;TZID=America/New_York:20170806T120000
DTSTAMP:20260424T091159
CREATED:20170802T145116Z
LAST-MODIFIED:20170802T145116Z
UID:3930-1502017200-1502020800@gwinnettbiblechapel.org
SUMMARY:Speaker at 11 am
DESCRIPTION:Dwight K.
URL:https://gwinnettbiblechapel.org/event/speaker-at-11-am/
END:VEVENT
BEGIN:VEVENT
DTSTART;TZID=America/New_York:20170730T110000
DTEND;TZID=America/New_York:20170730T120000
DTSTAMP:20260424T091159
CREATED:20170710T140451Z
LAST-MODIFIED:20170710T140451Z
UID:3887-1501412400-1501416000@gwinnettbiblechapel.org
SUMMARY:Speaker at 11am
DESCRIPTION:Richard M.
URL:https://gwinnettbiblechapel.org/event/speaker-at-11am-3/
END:VEVENT
BEGIN:VEVENT
DTSTART;TZID=America/New_York:20170730T103000
DTEND;TZID=America/New_York:20170730T110000
DTSTAMP:20260424T091159
CREATED:20170703T142456Z
LAST-MODIFIED:20170703T142456Z
UID:3417-1501410600-1501412400@gwinnettbiblechapel.org
SUMMARY:Refreshments
DESCRIPTION:Kaye B. & Amber H
URL:https://gwinnettbiblechapel.org/event/refreshments-5/
END:VEVENT
BEGIN:VEVENT
DTSTART;TZID=America/New_York:20170730T090000
DTEND;TZID=America/New_York:20170730T100000
DTSTAMP:20260424T091159
CREATED:20170703T141727Z
LAST-MODIFIED:20170703T142109Z
UID:3390-1501405200-1501408800@gwinnettbiblechapel.org
SUMMARY:Open/Close-Greet@9:00
DESCRIPTION:* Volunteer Needed *
URL:https://gwinnettbiblechapel.org/event/openclose-greet900-5/
END:VEVENT
BEGIN:VEVENT
DTSTART;TZID=America/New_York:20170723T110000
DTEND;TZID=America/New_York:20170723T120000
DTSTAMP:20260424T091159
CREATED:20170710T140426Z
LAST-MODIFIED:20170710T140426Z
UID:3884-1500807600-1500811200@gwinnettbiblechapel.org
SUMMARY:Speaker at 11am
DESCRIPTION:Rod S.
URL:https://gwinnettbiblechapel.org/event/speaker-at-11am-2/
END:VEVENT
BEGIN:VEVENT
DTSTART;TZID=America/New_York:20170723T103000
DTEND;TZID=America/New_York:20170723T110000
DTSTAMP:20260424T091159
CREATED:20170703T142419Z
LAST-MODIFIED:20170703T142419Z
UID:3414-1500805800-1500807600@gwinnettbiblechapel.org
SUMMARY:Refreshments
DESCRIPTION:Ordenna B.
URL:https://gwinnettbiblechapel.org/event/refreshments-4/
END:VEVENT
BEGIN:VEVENT
DTSTART;TZID=America/New_York:20170723T090000
DTEND;TZID=America/New_York:20170723T100000
DTSTAMP:20260424T091159
CREATED:20170703T141649Z
LAST-MODIFIED:20170703T141649Z
UID:3387-1500800400-1500804000@gwinnettbiblechapel.org
SUMMARY:Open/Close-Greet@9:00
DESCRIPTION:Paul K.
URL:https://gwinnettbiblechapel.org/event/openclose-greet900-4/
END:VEVENT
BEGIN:VEVENT
DTSTART;TZID=America/New_York:20170716T110000
DTEND;TZID=America/New_York:20170716T120000
DTSTAMP:20260424T091159
CREATED:20170710T140336Z
LAST-MODIFIED:20170710T140336Z
UID:3881-1500202800-1500206400@gwinnettbiblechapel.org
SUMMARY:Speaker at 11am
DESCRIPTION:Clive B.
URL:https://gwinnettbiblechapel.org/event/speaker-at-11am/
END:VEVENT
BEGIN:VEVENT
DTSTART;TZID=America/New_York:20170716T103000
DTEND;TZID=America/New_York:20170716T110000
DTSTAMP:20260424T091159
CREATED:20170703T142353Z
LAST-MODIFIED:20170703T142353Z
UID:3411-1500201000-1500202800@gwinnettbiblechapel.org
SUMMARY:Refreshments
DESCRIPTION:Jin K.
URL:https://gwinnettbiblechapel.org/event/refreshments-3/
END:VEVENT
BEGIN:VEVENT
DTSTART;TZID=America/New_York:20170716T090000
DTEND;TZID=America/New_York:20170716T100000
DTSTAMP:20260424T091159
CREATED:20170703T141620Z
LAST-MODIFIED:20170703T141620Z
UID:3384-1500195600-1500199200@gwinnettbiblechapel.org
SUMMARY:Open/Close-Greet@9:00
DESCRIPTION:Horace W.
URL:https://gwinnettbiblechapel.org/event/openclose-greet900-3/
END:VEVENT
BEGIN:VEVENT
DTSTART;TZID=America/New_York:20170713T183000
DTEND;TZID=America/New_York:20170713T193000
DTSTAMP:20260424T091159
CREATED:20170710T033416Z
LAST-MODIFIED:20170710T033416Z
UID:3424-1499970600-1499974200@gwinnettbiblechapel.org
SUMMARY:VBS Closing Program
DESCRIPTION:
URL:https://gwinnettbiblechapel.org/event/vbs-closing-program/
END:VEVENT
BEGIN:VEVENT
DTSTART;TZID=America/New_York:20170712T190000
DTEND;TZID=America/New_York:20170712T200000
DTSTAMP:20260424T091159
CREATED:20170709T223129Z
LAST-MODIFIED:20170709T223129Z
UID:3420-1499886000-1499889600@gwinnettbiblechapel.org
SUMMARY:Wednesday Prayer meeting CANCELED
DESCRIPTION:
URL:https://gwinnettbiblechapel.org/event/wednesday-prayer-meeting-canceled/
END:VEVENT
BEGIN:VEVENT
DTSTART;TZID=America/New_York:20170710T090000
DTEND;TZID=America/New_York:20170713T130000
DTSTAMP:20260424T091159
CREATED:20170703T140057Z
LAST-MODIFIED:20170703T140057Z
UID:3368-1499677200-1499950800@gwinnettbiblechapel.org
SUMMARY:2017 VBS
DESCRIPTION:
URL:https://gwinnettbiblechapel.org/event/2017-vbs/
END:VEVENT
BEGIN:VEVENT
DTSTART;TZID=America/New_York:20170709T150000
DTEND;TZID=America/New_York:20170716T120000
DTSTAMP:20260424T091159
CREATED:20170710T033538Z
LAST-MODIFIED:20170710T033859Z
UID:3427-1499612400-1500206400@gwinnettbiblechapel.org
SUMMARY:Camp Hope Summer Teen Camp 2
DESCRIPTION:
URL:https://gwinnettbiblechapel.org/event/camp-hope-summer-teen-camp-2/
ATTACH;FMTTYPE=image/png:https://gwinnettbiblechapel.org/wp-content/uploads/2017/07/camp-hope.png
END:VEVENT
END:VCALENDAR