BEGIN:VCALENDAR
VERSION:2.0
PRODID:-//Gwinnett Bible Chapel - ECPv6.15.16.1//NONSGML v1.0//EN
CALSCALE:GREGORIAN
METHOD:PUBLISH
X-WR-CALNAME:Gwinnett Bible Chapel
X-ORIGINAL-URL:https://gwinnettbiblechapel.org
X-WR-CALDESC:Events for Gwinnett Bible Chapel
REFRESH-INTERVAL;VALUE=DURATION:PT1H
X-Robots-Tag:noindex
X-PUBLISHED-TTL:PT1H
BEGIN:VTIMEZONE
TZID:America/New_York
BEGIN:DAYLIGHT
TZOFFSETFROM:-0500
TZOFFSETTO:-0400
TZNAME:EDT
DTSTART:20160313T070000
END:DAYLIGHT
BEGIN:STANDARD
TZOFFSETFROM:-0400
TZOFFSETTO:-0500
TZNAME:EST
DTSTART:20161106T060000
END:STANDARD
BEGIN:DAYLIGHT
TZOFFSETFROM:-0500
TZOFFSETTO:-0400
TZNAME:EDT
DTSTART:20170312T070000
END:DAYLIGHT
BEGIN:STANDARD
TZOFFSETFROM:-0400
TZOFFSETTO:-0500
TZNAME:EST
DTSTART:20171105T060000
END:STANDARD
BEGIN:DAYLIGHT
TZOFFSETFROM:-0500
TZOFFSETTO:-0400
TZNAME:EDT
DTSTART:20180311T070000
END:DAYLIGHT
BEGIN:STANDARD
TZOFFSETFROM:-0400
TZOFFSETTO:-0500
TZNAME:EST
DTSTART:20181104T060000
END:STANDARD
END:VTIMEZONE
BEGIN:VEVENT
DTSTART;TZID=America/New_York:20170723T110000
DTEND;TZID=America/New_York:20170723T120000
DTSTAMP:20260424T131256
CREATED:20170710T140426Z
LAST-MODIFIED:20170710T140426Z
UID:3884-1500807600-1500811200@gwinnettbiblechapel.org
SUMMARY:Speaker at 11am
DESCRIPTION:Rod S.
URL:https://gwinnettbiblechapel.org/event/speaker-at-11am-2/
END:VEVENT
BEGIN:VEVENT
DTSTART;TZID=America/New_York:20170723T103000
DTEND;TZID=America/New_York:20170723T110000
DTSTAMP:20260424T131256
CREATED:20170703T142419Z
LAST-MODIFIED:20170703T142419Z
UID:3414-1500805800-1500807600@gwinnettbiblechapel.org
SUMMARY:Refreshments
DESCRIPTION:Ordenna B.
URL:https://gwinnettbiblechapel.org/event/refreshments-4/
END:VEVENT
BEGIN:VEVENT
DTSTART;TZID=America/New_York:20170723T090000
DTEND;TZID=America/New_York:20170723T100000
DTSTAMP:20260424T131256
CREATED:20170703T141649Z
LAST-MODIFIED:20170703T141649Z
UID:3387-1500800400-1500804000@gwinnettbiblechapel.org
SUMMARY:Open/Close-Greet@9:00
DESCRIPTION:Paul K.
URL:https://gwinnettbiblechapel.org/event/openclose-greet900-4/
END:VEVENT
BEGIN:VEVENT
DTSTART;TZID=America/New_York:20170716T110000
DTEND;TZID=America/New_York:20170716T120000
DTSTAMP:20260424T131256
CREATED:20170710T140336Z
LAST-MODIFIED:20170710T140336Z
UID:3881-1500202800-1500206400@gwinnettbiblechapel.org
SUMMARY:Speaker at 11am
DESCRIPTION:Clive B.
URL:https://gwinnettbiblechapel.org/event/speaker-at-11am/
END:VEVENT
BEGIN:VEVENT
DTSTART;TZID=America/New_York:20170716T103000
DTEND;TZID=America/New_York:20170716T110000
DTSTAMP:20260424T131256
CREATED:20170703T142353Z
LAST-MODIFIED:20170703T142353Z
UID:3411-1500201000-1500202800@gwinnettbiblechapel.org
SUMMARY:Refreshments
DESCRIPTION:Jin K.
URL:https://gwinnettbiblechapel.org/event/refreshments-3/
END:VEVENT
BEGIN:VEVENT
DTSTART;TZID=America/New_York:20170716T090000
DTEND;TZID=America/New_York:20170716T100000
DTSTAMP:20260424T131256
CREATED:20170703T141620Z
LAST-MODIFIED:20170703T141620Z
UID:3384-1500195600-1500199200@gwinnettbiblechapel.org
SUMMARY:Open/Close-Greet@9:00
DESCRIPTION:Horace W.
URL:https://gwinnettbiblechapel.org/event/openclose-greet900-3/
END:VEVENT
BEGIN:VEVENT
DTSTART;TZID=America/New_York:20170713T183000
DTEND;TZID=America/New_York:20170713T193000
DTSTAMP:20260424T131256
CREATED:20170710T033416Z
LAST-MODIFIED:20170710T033416Z
UID:3424-1499970600-1499974200@gwinnettbiblechapel.org
SUMMARY:VBS Closing Program
DESCRIPTION:
URL:https://gwinnettbiblechapel.org/event/vbs-closing-program/
END:VEVENT
BEGIN:VEVENT
DTSTART;TZID=America/New_York:20170712T190000
DTEND;TZID=America/New_York:20170712T200000
DTSTAMP:20260424T131256
CREATED:20170709T223129Z
LAST-MODIFIED:20170709T223129Z
UID:3420-1499886000-1499889600@gwinnettbiblechapel.org
SUMMARY:Wednesday Prayer meeting CANCELED
DESCRIPTION:
URL:https://gwinnettbiblechapel.org/event/wednesday-prayer-meeting-canceled/
END:VEVENT
BEGIN:VEVENT
DTSTART;TZID=America/New_York:20170710T090000
DTEND;TZID=America/New_York:20170713T130000
DTSTAMP:20260424T131256
CREATED:20170703T140057Z
LAST-MODIFIED:20170703T140057Z
UID:3368-1499677200-1499950800@gwinnettbiblechapel.org
SUMMARY:2017 VBS
DESCRIPTION:
URL:https://gwinnettbiblechapel.org/event/2017-vbs/
END:VEVENT
BEGIN:VEVENT
DTSTART;TZID=America/New_York:20170709T150000
DTEND;TZID=America/New_York:20170716T120000
DTSTAMP:20260424T131256
CREATED:20170710T033538Z
LAST-MODIFIED:20170710T033859Z
UID:3427-1499612400-1500206400@gwinnettbiblechapel.org
SUMMARY:Camp Hope Summer Teen Camp 2
DESCRIPTION:
URL:https://gwinnettbiblechapel.org/event/camp-hope-summer-teen-camp-2/
ATTACH;FMTTYPE=image/png:https://gwinnettbiblechapel.org/wp-content/uploads/2017/07/camp-hope.png
END:VEVENT
BEGIN:VEVENT
DTSTART;TZID=America/New_York:20170709T103000
DTEND;TZID=America/New_York:20170709T110000
DTSTAMP:20260424T131256
CREATED:20170703T142324Z
LAST-MODIFIED:20170703T142324Z
UID:3408-1499596200-1499598000@gwinnettbiblechapel.org
SUMMARY:Refreshments
DESCRIPTION:Miju Y.
URL:https://gwinnettbiblechapel.org/event/refreshments-2/
END:VEVENT
BEGIN:VEVENT
DTSTART;TZID=America/New_York:20170709T090000
DTEND;TZID=America/New_York:20170709T100000
DTSTAMP:20260424T131256
CREATED:20170703T141420Z
LAST-MODIFIED:20170703T142128Z
UID:3378-1499590800-1499594400@gwinnettbiblechapel.org
SUMMARY:Open/Close-Greet@9:00
DESCRIPTION:Kevin B.
URL:https://gwinnettbiblechapel.org/event/openclose-greet900-2/
END:VEVENT
BEGIN:VEVENT
DTSTART;TZID=America/New_York:20170702T103000
DTEND;TZID=America/New_York:20170702T110000
DTSTAMP:20260424T131256
CREATED:20170703T142233Z
LAST-MODIFIED:20170703T142233Z
UID:3404-1498991400-1498993200@gwinnettbiblechapel.org
SUMMARY:Refreshments
DESCRIPTION:Elizabeth R.
URL:https://gwinnettbiblechapel.org/event/refreshments/
END:VEVENT
BEGIN:VEVENT
DTSTART;TZID=America/New_York:20170702T090000
DTEND;TZID=America/New_York:20170702T100000
DTSTAMP:20260424T131256
CREATED:20170703T141250Z
LAST-MODIFIED:20170703T142048Z
UID:3373-1498986000-1498989600@gwinnettbiblechapel.org
SUMMARY:Open/Close-Greet@9:00
DESCRIPTION:John J.
URL:https://gwinnettbiblechapel.org/event/openclose-greet900/
END:VEVENT
BEGIN:VEVENT
DTSTART;TZID=America/New_York:20170610T073000
DTEND;TZID=America/New_York:20170610T090000
DTSTAMP:20260424T131256
CREATED:20170201T012948Z
LAST-MODIFIED:20170201T012948Z
UID:3190-1497079800-1497085200@gwinnettbiblechapel.org
SUMMARY:7:30am Men’s Breakfast & Prayer
DESCRIPTION:
URL:https://gwinnettbiblechapel.org/event/730am-mens-breakfast-prayer-42/
END:VEVENT
BEGIN:VEVENT
DTSTART;TZID=America/New_York:20170521T120000
DTEND;TZID=America/New_York:20170521T133000
DTSTAMP:20260424T131256
CREATED:20170201T012229Z
LAST-MODIFIED:20170201T012229Z
UID:3177-1495368000-1495373400@gwinnettbiblechapel.org
SUMMARY:12pm Dinner on the Grounds
DESCRIPTION:
URL:https://gwinnettbiblechapel.org/event/12pm-dinner-grounds-4/
END:VEVENT
BEGIN:VEVENT
DTSTART;TZID=America/New_York:20170513T073000
DTEND;TZID=America/New_York:20170513T090000
DTSTAMP:20260424T131256
CREATED:20170201T012903Z
LAST-MODIFIED:20170201T012903Z
UID:3187-1494660600-1494666000@gwinnettbiblechapel.org
SUMMARY:7:30am Men’s Breakfast & Prayer
DESCRIPTION:
URL:https://gwinnettbiblechapel.org/event/730am-mens-breakfast-prayer-41/
END:VEVENT
BEGIN:VEVENT
DTSTART;TZID=America/New_York:20170503T190000
DTEND;TZID=America/New_York:20170503T200000
DTSTAMP:20260424T131256
CREATED:20170124T031058Z
LAST-MODIFIED:20170124T031058Z
UID:3144-1493838000-1493841600@gwinnettbiblechapel.org
SUMMARY:7:00pm Prayer & Bible Study
DESCRIPTION:
URL:https://gwinnettbiblechapel.org/event/700pm-prayer-bible-study-29/
END:VEVENT
BEGIN:VEVENT
DTSTART;TZID=America/New_York:20170430T123000
DTEND;TZID=America/New_York:20170430T150000
DTSTAMP:20260424T131256
CREATED:20170327T015746Z
LAST-MODIFIED:20170327T015746Z
UID:3294-1493555400-1493564400@gwinnettbiblechapel.org
SUMMARY:12:30pm 412 Youth
DESCRIPTION:
URL:https://gwinnettbiblechapel.org/event/1230pm-412-youth-13/
END:VEVENT
BEGIN:VEVENT
DTSTART;TZID=America/New_York:20170430T110000
DTEND;TZID=America/New_York:20170430T120000
DTSTAMP:20260424T131256
CREATED:20170327T015900Z
LAST-MODIFIED:20170327T015900Z
UID:3300-1493550000-1493553600@gwinnettbiblechapel.org
SUMMARY:11am Scott Batterton
DESCRIPTION:
URL:https://gwinnettbiblechapel.org/event/11am-scott-batterton-5/
END:VEVENT
BEGIN:VEVENT
DTSTART;TZID=America/New_York:20170426T190000
DTEND;TZID=America/New_York:20170426T200000
DTSTAMP:20260424T131256
CREATED:20170124T031023Z
LAST-MODIFIED:20170124T031023Z
UID:3141-1493233200-1493236800@gwinnettbiblechapel.org
SUMMARY:7:00pm Awana Closing Program
DESCRIPTION:
URL:https://gwinnettbiblechapel.org/event/700pm-awana-closing-program-3/
END:VEVENT
BEGIN:VEVENT
DTSTART;TZID=America/New_York:20170423T110000
DTEND;TZID=America/New_York:20170423T120000
DTSTAMP:20260424T131256
CREATED:20170327T015824Z
LAST-MODIFIED:20170327T015824Z
UID:3297-1492945200-1492948800@gwinnettbiblechapel.org
SUMMARY:11am Clive Beckford
DESCRIPTION:
URL:https://gwinnettbiblechapel.org/event/11am-clive-beckford-4/
END:VEVENT
BEGIN:VEVENT
DTSTART;TZID=America/New_York:20170419T190000
DTEND;TZID=America/New_York:20170419T200000
DTSTAMP:20260424T131256
CREATED:20170124T030924Z
LAST-MODIFIED:20170124T030924Z
UID:3138-1492628400-1492632000@gwinnettbiblechapel.org
SUMMARY:7:00pm Awana\, 7:15pm Prayer & Bible Study
DESCRIPTION:
URL:https://gwinnettbiblechapel.org/event/700pm-awana-715pm-prayer-bible-study-85/
END:VEVENT
BEGIN:VEVENT
DTSTART;TZID=America/New_York:20170416T110000
DTEND;TZID=America/New_York:20170416T120000
DTSTAMP:20260424T131256
CREATED:20170327T015624Z
LAST-MODIFIED:20170327T015624Z
UID:3288-1492340400-1492344000@gwinnettbiblechapel.org
SUMMARY:11am Dennis Bryan
DESCRIPTION:
URL:https://gwinnettbiblechapel.org/event/11am-dennis-bryan-9/
END:VEVENT
BEGIN:VEVENT
DTSTART;TZID=America/New_York:20170412T190000
DTEND;TZID=America/New_York:20170412T200000
DTSTAMP:20260424T131256
CREATED:20170124T030850Z
LAST-MODIFIED:20170124T030850Z
UID:3135-1492023600-1492027200@gwinnettbiblechapel.org
SUMMARY:7:00pm Awana\, 7:15pm Prayer & Bible Study
DESCRIPTION:
URL:https://gwinnettbiblechapel.org/event/700pm-awana-715pm-prayer-bible-study-84/
END:VEVENT
BEGIN:VEVENT
DTSTART;TZID=America/New_York:20170409T123000
DTEND;TZID=America/New_York:20170409T150000
DTSTAMP:20260424T131256
CREATED:20170327T015711Z
LAST-MODIFIED:20170327T015711Z
UID:3291-1491741000-1491750000@gwinnettbiblechapel.org
SUMMARY:12:30pm 412 Youth
DESCRIPTION:
URL:https://gwinnettbiblechapel.org/event/1230pm-412-youth-12/
END:VEVENT
BEGIN:VEVENT
DTSTART;TZID=America/New_York:20170409T110000
DTEND;TZID=America/New_York:20170409T120000
DTSTAMP:20260424T131256
CREATED:20170327T015537Z
LAST-MODIFIED:20170327T015537Z
UID:3285-1491735600-1491739200@gwinnettbiblechapel.org
SUMMARY:11am Rojers Paul
DESCRIPTION:
URL:https://gwinnettbiblechapel.org/event/11am-rojers-paul-11/
END:VEVENT
BEGIN:VEVENT
DTSTART;TZID=America/New_York:20170408T073000
DTEND;TZID=America/New_York:20170408T090000
DTSTAMP:20260424T131256
CREATED:20170124T030453Z
LAST-MODIFIED:20170124T030453Z
UID:3118-1491636600-1491642000@gwinnettbiblechapel.org
SUMMARY:7:30am Men’s Breakfast & Prayer
DESCRIPTION:
URL:https://gwinnettbiblechapel.org/event/730am-mens-breakfast-prayer-40/
END:VEVENT
BEGIN:VEVENT
DTSTART;TZID=America/New_York:20170405T190000
DTEND;TZID=America/New_York:20170405T200000
DTSTAMP:20260424T131256
CREATED:20170124T030817Z
LAST-MODIFIED:20170124T030817Z
UID:3132-1491418800-1491422400@gwinnettbiblechapel.org
SUMMARY:7:00pm Prayer & Bible Study
DESCRIPTION:
URL:https://gwinnettbiblechapel.org/event/700pm-prayer-bible-study-28/
END:VEVENT
BEGIN:VEVENT
DTSTART;TZID=America/New_York:20170402T110000
DTEND;TZID=America/New_York:20170402T120000
DTSTAMP:20260424T131256
CREATED:20170327T015504Z
LAST-MODIFIED:20170327T015504Z
UID:3282-1491130800-1491134400@gwinnettbiblechapel.org
SUMMARY:11am Peterjohn Walters
DESCRIPTION:
URL:https://gwinnettbiblechapel.org/event/11am-peterjohn-walters-8/
END:VEVENT
END:VCALENDAR