BEGIN:VCALENDAR
VERSION:2.0
PRODID:-//Gwinnett Bible Chapel - ECPv6.15.16.1//NONSGML v1.0//EN
CALSCALE:GREGORIAN
METHOD:PUBLISH
X-ORIGINAL-URL:https://gwinnettbiblechapel.org
X-WR-CALDESC:Events for Gwinnett Bible Chapel
REFRESH-INTERVAL;VALUE=DURATION:PT1H
X-Robots-Tag:noindex
X-PUBLISHED-TTL:PT1H
BEGIN:VTIMEZONE
TZID:America/New_York
BEGIN:DAYLIGHT
TZOFFSETFROM:-0500
TZOFFSETTO:-0400
TZNAME:EDT
DTSTART:20160313T070000
END:DAYLIGHT
BEGIN:STANDARD
TZOFFSETFROM:-0400
TZOFFSETTO:-0500
TZNAME:EST
DTSTART:20161106T060000
END:STANDARD
BEGIN:DAYLIGHT
TZOFFSETFROM:-0500
TZOFFSETTO:-0400
TZNAME:EDT
DTSTART:20170312T070000
END:DAYLIGHT
BEGIN:STANDARD
TZOFFSETFROM:-0400
TZOFFSETTO:-0500
TZNAME:EST
DTSTART:20171105T060000
END:STANDARD
BEGIN:DAYLIGHT
TZOFFSETFROM:-0500
TZOFFSETTO:-0400
TZNAME:EDT
DTSTART:20180311T070000
END:DAYLIGHT
BEGIN:STANDARD
TZOFFSETFROM:-0400
TZOFFSETTO:-0500
TZNAME:EST
DTSTART:20181104T060000
END:STANDARD
END:VTIMEZONE
BEGIN:VEVENT
DTSTART;TZID=America/New_York:20170426T190000
DTEND;TZID=America/New_York:20170426T200000
DTSTAMP:20260424T153944
CREATED:20170124T031023Z
LAST-MODIFIED:20170124T031023Z
UID:3141-1493233200-1493236800@gwinnettbiblechapel.org
SUMMARY:7:00pm Awana Closing Program
DESCRIPTION:
URL:https://gwinnettbiblechapel.org/event/700pm-awana-closing-program-3/
END:VEVENT
BEGIN:VEVENT
DTSTART;TZID=America/New_York:20170423T110000
DTEND;TZID=America/New_York:20170423T120000
DTSTAMP:20260424T153944
CREATED:20170327T015824Z
LAST-MODIFIED:20170327T015824Z
UID:3297-1492945200-1492948800@gwinnettbiblechapel.org
SUMMARY:11am Clive Beckford
DESCRIPTION:
URL:https://gwinnettbiblechapel.org/event/11am-clive-beckford-4/
END:VEVENT
BEGIN:VEVENT
DTSTART;TZID=America/New_York:20170419T190000
DTEND;TZID=America/New_York:20170419T200000
DTSTAMP:20260424T153944
CREATED:20170124T030924Z
LAST-MODIFIED:20170124T030924Z
UID:3138-1492628400-1492632000@gwinnettbiblechapel.org
SUMMARY:7:00pm Awana\, 7:15pm Prayer & Bible Study
DESCRIPTION:
URL:https://gwinnettbiblechapel.org/event/700pm-awana-715pm-prayer-bible-study-85/
END:VEVENT
BEGIN:VEVENT
DTSTART;TZID=America/New_York:20170416T110000
DTEND;TZID=America/New_York:20170416T120000
DTSTAMP:20260424T153944
CREATED:20170327T015624Z
LAST-MODIFIED:20170327T015624Z
UID:3288-1492340400-1492344000@gwinnettbiblechapel.org
SUMMARY:11am Dennis Bryan
DESCRIPTION:
URL:https://gwinnettbiblechapel.org/event/11am-dennis-bryan-9/
END:VEVENT
BEGIN:VEVENT
DTSTART;TZID=America/New_York:20170412T190000
DTEND;TZID=America/New_York:20170412T200000
DTSTAMP:20260424T153944
CREATED:20170124T030850Z
LAST-MODIFIED:20170124T030850Z
UID:3135-1492023600-1492027200@gwinnettbiblechapel.org
SUMMARY:7:00pm Awana\, 7:15pm Prayer & Bible Study
DESCRIPTION:
URL:https://gwinnettbiblechapel.org/event/700pm-awana-715pm-prayer-bible-study-84/
END:VEVENT
BEGIN:VEVENT
DTSTART;TZID=America/New_York:20170409T123000
DTEND;TZID=America/New_York:20170409T150000
DTSTAMP:20260424T153944
CREATED:20170327T015711Z
LAST-MODIFIED:20170327T015711Z
UID:3291-1491741000-1491750000@gwinnettbiblechapel.org
SUMMARY:12:30pm 412 Youth
DESCRIPTION:
URL:https://gwinnettbiblechapel.org/event/1230pm-412-youth-12/
END:VEVENT
BEGIN:VEVENT
DTSTART;TZID=America/New_York:20170409T110000
DTEND;TZID=America/New_York:20170409T120000
DTSTAMP:20260424T153944
CREATED:20170327T015537Z
LAST-MODIFIED:20170327T015537Z
UID:3285-1491735600-1491739200@gwinnettbiblechapel.org
SUMMARY:11am Rojers Paul
DESCRIPTION:
URL:https://gwinnettbiblechapel.org/event/11am-rojers-paul-11/
END:VEVENT
BEGIN:VEVENT
DTSTART;TZID=America/New_York:20170408T073000
DTEND;TZID=America/New_York:20170408T090000
DTSTAMP:20260424T153944
CREATED:20170124T030453Z
LAST-MODIFIED:20170124T030453Z
UID:3118-1491636600-1491642000@gwinnettbiblechapel.org
SUMMARY:7:30am Men’s Breakfast & Prayer
DESCRIPTION:
URL:https://gwinnettbiblechapel.org/event/730am-mens-breakfast-prayer-40/
END:VEVENT
BEGIN:VEVENT
DTSTART;TZID=America/New_York:20170405T190000
DTEND;TZID=America/New_York:20170405T200000
DTSTAMP:20260424T153944
CREATED:20170124T030817Z
LAST-MODIFIED:20170124T030817Z
UID:3132-1491418800-1491422400@gwinnettbiblechapel.org
SUMMARY:7:00pm Prayer & Bible Study
DESCRIPTION:
URL:https://gwinnettbiblechapel.org/event/700pm-prayer-bible-study-28/
END:VEVENT
BEGIN:VEVENT
DTSTART;TZID=America/New_York:20170402T110000
DTEND;TZID=America/New_York:20170402T120000
DTSTAMP:20260424T153944
CREATED:20170327T015504Z
LAST-MODIFIED:20170327T015504Z
UID:3282-1491130800-1491134400@gwinnettbiblechapel.org
SUMMARY:11am Peterjohn Walters
DESCRIPTION:
URL:https://gwinnettbiblechapel.org/event/11am-peterjohn-walters-8/
END:VEVENT
BEGIN:VEVENT
DTSTART;TZID=America/New_York:20170401T100000
DTEND;TZID=America/New_York:20170401T120000
DTSTAMP:20260424T153944
CREATED:20170316T143032Z
LAST-MODIFIED:20170316T143032Z
UID:3251-1491040800-1491048000@gwinnettbiblechapel.org
SUMMARY:10am Ladies Prayer Breakfast
DESCRIPTION:
URL:https://gwinnettbiblechapel.org/event/10am-ladies-prayer-breakfast-3/
END:VEVENT
BEGIN:VEVENT
DTSTART;TZID=America/New_York:20170329T190000
DTEND;TZID=America/New_York:20170329T200000
DTSTAMP:20260424T153944
CREATED:20170124T030647Z
LAST-MODIFIED:20170124T030647Z
UID:3127-1490814000-1490817600@gwinnettbiblechapel.org
SUMMARY:7:00pm Awana\, 7:15pm Prayer & Bible Study
DESCRIPTION:
URL:https://gwinnettbiblechapel.org/event/700pm-awana-715pm-prayer-bible-study-82/
END:VEVENT
BEGIN:VEVENT
DTSTART;TZID=America/New_York:20170326T110000
DTEND;TZID=America/New_York:20170326T120000
DTSTAMP:20260424T153944
CREATED:20170223T025703Z
LAST-MODIFIED:20170223T025703Z
UID:3240-1490526000-1490529600@gwinnettbiblechapel.org
SUMMARY:11am Richard Marks
DESCRIPTION:
URL:https://gwinnettbiblechapel.org/event/11am-richard-marks-8/
END:VEVENT
BEGIN:VEVENT
DTSTART;TZID=America/New_York:20170322T190000
DTEND;TZID=America/New_York:20170322T200000
DTSTAMP:20260424T153944
CREATED:20170124T030730Z
LAST-MODIFIED:20170124T030730Z
UID:3130-1490209200-1490212800@gwinnettbiblechapel.org
SUMMARY:7:00pm Awana\, 7:15pm Prayer & Bible Study
DESCRIPTION:
URL:https://gwinnettbiblechapel.org/event/700pm-awana-715pm-prayer-bible-study-83/
END:VEVENT
BEGIN:VEVENT
DTSTART;TZID=America/New_York:20170319T123000
DTEND;TZID=America/New_York:20170319T150000
DTSTAMP:20260424T153944
CREATED:20170316T143142Z
LAST-MODIFIED:20170316T143142Z
UID:3254-1489926600-1489935600@gwinnettbiblechapel.org
SUMMARY:12:30pm 412 Youth
DESCRIPTION:
URL:https://gwinnettbiblechapel.org/event/1230pm-412-youth-11/
END:VEVENT
BEGIN:VEVENT
DTSTART;TZID=America/New_York:20170319T110000
DTEND;TZID=America/New_York:20170319T120000
DTSTAMP:20260424T153944
CREATED:20170223T025629Z
LAST-MODIFIED:20170223T025629Z
UID:3237-1489921200-1489924800@gwinnettbiblechapel.org
SUMMARY:11am Alan Parks
DESCRIPTION:
URL:https://gwinnettbiblechapel.org/event/11am-alan-parks-5/
END:VEVENT
BEGIN:VEVENT
DTSTART;TZID=America/New_York:20170315T190000
DTEND;TZID=America/New_York:20170315T200000
DTSTAMP:20260424T153944
CREATED:20170124T030608Z
LAST-MODIFIED:20170124T030608Z
UID:3124-1489604400-1489608000@gwinnettbiblechapel.org
SUMMARY:7:00pm Awana\, 7:15pm Prayer & Bible Study
DESCRIPTION:
URL:https://gwinnettbiblechapel.org/event/700pm-awana-715pm-prayer-bible-study-81/
END:VEVENT
BEGIN:VEVENT
DTSTART;TZID=America/New_York:20170312T123000
DTEND;TZID=America/New_York:20170312T150000
DTSTAMP:20260424T153944
CREATED:20170308T014938Z
LAST-MODIFIED:20170308T014938Z
UID:3247-1489321800-1489330800@gwinnettbiblechapel.org
SUMMARY:12:30pm 412 Youth
DESCRIPTION:
URL:https://gwinnettbiblechapel.org/event/1230pm-412-youth-10/
END:VEVENT
BEGIN:VEVENT
DTSTART;TZID=America/New_York:20170312T110000
DTEND;TZID=America/New_York:20170312T120000
DTSTAMP:20260424T153944
CREATED:20170223T025552Z
LAST-MODIFIED:20170223T025552Z
UID:3234-1489316400-1489320000@gwinnettbiblechapel.org
SUMMARY:11am John Michael Thomas
DESCRIPTION:
URL:https://gwinnettbiblechapel.org/event/11am-john-michael-thomas-3/
END:VEVENT
BEGIN:VEVENT
DTSTART;TZID=America/New_York:20170311T210000
DTEND;TZID=America/New_York:20170311T220000
DTSTAMP:20260424T153944
CREATED:20170301T042425Z
LAST-MODIFIED:20170301T042425Z
UID:3243-1489266000-1489269600@gwinnettbiblechapel.org
SUMMARY:Spring Forward 1 Hour
DESCRIPTION:
URL:https://gwinnettbiblechapel.org/event/spring-forward-1-hour/
END:VEVENT
BEGIN:VEVENT
DTSTART;TZID=America/New_York:20170311T073000
DTEND;TZID=America/New_York:20170311T090000
DTSTAMP:20260424T153944
CREATED:20170124T030404Z
LAST-MODIFIED:20170124T030404Z
UID:3115-1489217400-1489222800@gwinnettbiblechapel.org
SUMMARY:7:30am Men’s Breakfast & Prayer
DESCRIPTION:
URL:https://gwinnettbiblechapel.org/event/730am-mens-breakfast-prayer-39/
END:VEVENT
BEGIN:VEVENT
DTSTART;TZID=America/New_York:20170308T190000
DTEND;TZID=America/New_York:20170308T200000
DTSTAMP:20260424T153944
CREATED:20170124T030537Z
LAST-MODIFIED:20170124T030537Z
UID:3121-1488999600-1489003200@gwinnettbiblechapel.org
SUMMARY:7:00pm Awana\, 7:15pm Prayer & Bible Study
DESCRIPTION:
URL:https://gwinnettbiblechapel.org/event/700pm-awana-715pm-prayer-bible-study-80/
END:VEVENT
BEGIN:VEVENT
DTSTART;TZID=America/New_York:20170305T110000
DTEND;TZID=America/New_York:20170305T170000
DTSTAMP:20260424T153944
CREATED:20170223T025517Z
LAST-MODIFIED:20170223T025517Z
UID:3231-1488711600-1488733200@gwinnettbiblechapel.org
SUMMARY:11am V. K. Abraham
DESCRIPTION:
URL:https://gwinnettbiblechapel.org/event/11am-v-k-abraham/
END:VEVENT
BEGIN:VEVENT
DTSTART;TZID=America/New_York:20170301T190000
DTEND;TZID=America/New_York:20170301T200000
DTSTAMP:20260424T153944
CREATED:20170124T030024Z
LAST-MODIFIED:20170124T030024Z
UID:3109-1488394800-1488398400@gwinnettbiblechapel.org
SUMMARY:7:00pm Awana\, 7:15pm Prayer & Bible Study
DESCRIPTION:
URL:https://gwinnettbiblechapel.org/event/700pm-awana-715pm-prayer-bible-study-79/
END:VEVENT
BEGIN:VEVENT
DTSTART;TZID=America/New_York:20170226T110000
DTEND;TZID=America/New_York:20170226T170000
DTSTAMP:20260424T153944
CREATED:20170124T025736Z
LAST-MODIFIED:20170124T025736Z
UID:3097-1488106800-1488128400@gwinnettbiblechapel.org
SUMMARY:11am Clive Beckford
DESCRIPTION:
URL:https://gwinnettbiblechapel.org/event/11am-clive-beckford-3/
END:VEVENT
BEGIN:VEVENT
DTSTART;TZID=America/New_York:20170222T190000
DTEND;TZID=America/New_York:20170222T200000
DTSTAMP:20260424T153944
CREATED:20170124T025951Z
LAST-MODIFIED:20170124T025951Z
UID:3106-1487790000-1487793600@gwinnettbiblechapel.org
SUMMARY:7:00pm Awana\, 7:15pm Prayer & Bible Study
DESCRIPTION:
URL:https://gwinnettbiblechapel.org/event/700pm-awana-715pm-prayer-bible-study-78/
END:VEVENT
BEGIN:VEVENT
DTSTART;TZID=America/New_York:20170219T120000
DTEND;TZID=America/New_York:20170219T133000
DTSTAMP:20260424T153944
CREATED:20170201T011456Z
LAST-MODIFIED:20170201T011456Z
UID:3165-1487505600-1487511000@gwinnettbiblechapel.org
SUMMARY:12pm Dinner on the Grounds
DESCRIPTION:
URL:https://gwinnettbiblechapel.org/event/12pm-dinner-grounds/
END:VEVENT
BEGIN:VEVENT
DTSTART;TZID=America/New_York:20170219T110000
DTEND;TZID=America/New_York:20170219T120000
DTSTAMP:20260424T153944
CREATED:20170124T025706Z
LAST-MODIFIED:20170216T031616Z
UID:3094-1487502000-1487505600@gwinnettbiblechapel.org
SUMMARY:11am Phil Guikema
DESCRIPTION:
URL:https://gwinnettbiblechapel.org/event/11am-john-michael-thomas-2/
END:VEVENT
BEGIN:VEVENT
DTSTART;TZID=America/New_York:20170215T190000
DTEND;TZID=America/New_York:20170215T200000
DTSTAMP:20260424T153944
CREATED:20170124T025920Z
LAST-MODIFIED:20170124T025920Z
UID:3103-1487185200-1487188800@gwinnettbiblechapel.org
SUMMARY:7:00pm Awana\, 7:15pm Prayer & Bible Study
DESCRIPTION:
URL:https://gwinnettbiblechapel.org/event/700pm-awana-715pm-prayer-bible-study-77/
END:VEVENT
BEGIN:VEVENT
DTSTART;TZID=America/New_York:20170212T110000
DTEND;TZID=America/New_York:20170212T170000
DTSTAMP:20260424T153944
CREATED:20170124T025641Z
LAST-MODIFIED:20170124T025641Z
UID:3091-1486897200-1486918800@gwinnettbiblechapel.org
SUMMARY:11am Rod Sharp
DESCRIPTION:
URL:https://gwinnettbiblechapel.org/event/11am-rod-sharp-5/
END:VEVENT
END:VCALENDAR