BEGIN:VCALENDAR
VERSION:2.0
PRODID:-//Gwinnett Bible Chapel - ECPv6.15.16.1//NONSGML v1.0//EN
CALSCALE:GREGORIAN
METHOD:PUBLISH
X-ORIGINAL-URL:https://gwinnettbiblechapel.org
X-WR-CALDESC:Events for Gwinnett Bible Chapel
REFRESH-INTERVAL;VALUE=DURATION:PT1H
X-Robots-Tag:noindex
X-PUBLISHED-TTL:PT1H
BEGIN:VTIMEZONE
TZID:America/New_York
BEGIN:DAYLIGHT
TZOFFSETFROM:-0500
TZOFFSETTO:-0400
TZNAME:EDT
DTSTART:20150308T070000
END:DAYLIGHT
BEGIN:STANDARD
TZOFFSETFROM:-0400
TZOFFSETTO:-0500
TZNAME:EST
DTSTART:20151101T060000
END:STANDARD
BEGIN:DAYLIGHT
TZOFFSETFROM:-0500
TZOFFSETTO:-0400
TZNAME:EDT
DTSTART:20160313T070000
END:DAYLIGHT
BEGIN:STANDARD
TZOFFSETFROM:-0400
TZOFFSETTO:-0500
TZNAME:EST
DTSTART:20161106T060000
END:STANDARD
BEGIN:DAYLIGHT
TZOFFSETFROM:-0500
TZOFFSETTO:-0400
TZNAME:EDT
DTSTART:20170312T070000
END:DAYLIGHT
BEGIN:STANDARD
TZOFFSETFROM:-0400
TZOFFSETTO:-0500
TZNAME:EST
DTSTART:20171105T060000
END:STANDARD
BEGIN:DAYLIGHT
TZOFFSETFROM:-0500
TZOFFSETTO:-0400
TZNAME:EDT
DTSTART:20180311T070000
END:DAYLIGHT
BEGIN:STANDARD
TZOFFSETFROM:-0400
TZOFFSETTO:-0500
TZNAME:EST
DTSTART:20181104T060000
END:STANDARD
END:VTIMEZONE
BEGIN:VEVENT
DTSTART;TZID=America/New_York:20170114T073000
DTEND;TZID=America/New_York:20170114T090000
DTSTAMP:20260425T085536
CREATED:20161127T023338Z
LAST-MODIFIED:20161127T023419Z
UID:3057-1484379000-1484384400@gwinnettbiblechapel.org
SUMMARY:7:30am Men's Breakfast & Prayer
DESCRIPTION:
URL:https://gwinnettbiblechapel.org/event/730am-mens-breakfast-prayer-37/
END:VEVENT
BEGIN:VEVENT
DTSTART;TZID=America/New_York:20170111T190000
DTEND;TZID=America/New_York:20170111T203000
DTSTAMP:20260425T085536
CREATED:20161127T022954Z
LAST-MODIFIED:20161127T022954Z
UID:3042-1484161200-1484166600@gwinnettbiblechapel.org
SUMMARY:7:00pm Awana\, 7:15pm Prayer & Bible Study
DESCRIPTION:
URL:https://gwinnettbiblechapel.org/event/700pm-awana-715pm-prayer-bible-study-72/
END:VEVENT
BEGIN:VEVENT
DTSTART;TZID=America/New_York:20170108T110000
DTEND;TZID=America/New_York:20170108T170000
DTSTAMP:20260425T085536
CREATED:20170102T015041Z
LAST-MODIFIED:20170102T015041Z
UID:3073-1483873200-1483894800@gwinnettbiblechapel.org
SUMMARY:11am Richard Marks
DESCRIPTION:
URL:https://gwinnettbiblechapel.org/event/11am-richard-marks-7/
END:VEVENT
BEGIN:VEVENT
DTSTART;TZID=America/New_York:20170104T190000
DTEND;TZID=America/New_York:20170104T200000
DTSTAMP:20260425T085536
CREATED:20161127T022840Z
LAST-MODIFIED:20161127T022840Z
UID:3039-1483556400-1483560000@gwinnettbiblechapel.org
SUMMARY:7:00pm Prayer & Bible Study (No Awana)
DESCRIPTION:
URL:https://gwinnettbiblechapel.org/event/700pm-prayer-bible-study-no-awana-3/
END:VEVENT
BEGIN:VEVENT
DTSTART;TZID=America/New_York:20170101T110000
DTEND;TZID=America/New_York:20170101T170000
DTSTAMP:20260425T085536
CREATED:20170102T014801Z
LAST-MODIFIED:20170102T014801Z
UID:3070-1483268400-1483290000@gwinnettbiblechapel.org
SUMMARY:11am Rojers Paul
DESCRIPTION:
URL:https://gwinnettbiblechapel.org/event/11am-rojers-paul-10/
END:VEVENT
BEGIN:VEVENT
DTSTART;TZID=America/New_York:20170101T110000
DTEND;TZID=America/New_York:20170101T120000
DTSTAMP:20260425T085536
CREATED:20161127T023242Z
LAST-MODIFIED:20161127T023242Z
UID:3054-1483268400-1483272000@gwinnettbiblechapel.org
SUMMARY:11am Family Bible Hour
DESCRIPTION:
URL:https://gwinnettbiblechapel.org/event/11am-family-bible-hour/
END:VEVENT
BEGIN:VEVENT
DTSTART;TZID=America/New_York:20170101T100000
DTEND;TZID=America/New_York:20170101T110000
DTSTAMP:20260425T085536
CREATED:20161127T022729Z
LAST-MODIFIED:20161127T022729Z
UID:3036-1483264800-1483268400@gwinnettbiblechapel.org
SUMMARY:10am Worship Service (no 9am service)
DESCRIPTION:
URL:https://gwinnettbiblechapel.org/event/10am-worship-service-no-9am-service-2/
END:VEVENT
BEGIN:VEVENT
DTSTART;TZID=America/New_York:20161231T200000
DTEND;TZID=America/New_York:20161231T235500
DTSTAMP:20260425T085536
CREATED:20161202T132405Z
LAST-MODIFIED:20161202T132509Z
UID:3061-1483214400-1483228500@gwinnettbiblechapel.org
SUMMARY:8:00pm New Year's Eve at the Paul's
DESCRIPTION:
URL:https://gwinnettbiblechapel.org/event/800-new-years-eve-pauls/
END:VEVENT
BEGIN:VEVENT
DTSTART;TZID=America/New_York:20161228T190000
DTEND;TZID=America/New_York:20161228T200000
DTSTAMP:20260425T085536
CREATED:20161127T022413Z
LAST-MODIFIED:20161127T022413Z
UID:3024-1482951600-1482955200@gwinnettbiblechapel.org
SUMMARY:7:00pm Prayer & Bible Study (No Awana)
DESCRIPTION:
URL:https://gwinnettbiblechapel.org/event/700pm-prayer-bible-study-no-awana-2/
END:VEVENT
BEGIN:VEVENT
DTSTART;TZID=America/New_York:20161225T110000
DTEND;TZID=America/New_York:20161225T120000
DTSTAMP:20260425T085536
CREATED:20161127T022601Z
LAST-MODIFIED:20161127T022601Z
UID:3030-1482663600-1482667200@gwinnettbiblechapel.org
SUMMARY:11am Alex Thomas
DESCRIPTION:
URL:https://gwinnettbiblechapel.org/event/11am-alex-thomas/
END:VEVENT
BEGIN:VEVENT
DTSTART;TZID=America/New_York:20161225T100000
DTEND;TZID=America/New_York:20161225T110000
DTSTAMP:20260425T085536
CREATED:20161127T022649Z
LAST-MODIFIED:20161127T022649Z
UID:3033-1482660000-1482663600@gwinnettbiblechapel.org
SUMMARY:10am Worship Service (no 9am service)
DESCRIPTION:
URL:https://gwinnettbiblechapel.org/event/10am-worship-service-no-9am-service/
END:VEVENT
BEGIN:VEVENT
DTSTART;TZID=America/New_York:20161221T190000
DTEND;TZID=America/New_York:20161221T200000
DTSTAMP:20260425T085536
CREATED:20161127T022340Z
LAST-MODIFIED:20161127T022340Z
UID:3021-1482346800-1482350400@gwinnettbiblechapel.org
SUMMARY:7:00pm Prayer & Bible Study (No Awana)
DESCRIPTION:
URL:https://gwinnettbiblechapel.org/event/700pm-prayer-bible-study-no-awana/
END:VEVENT
BEGIN:VEVENT
DTSTART;TZID=America/New_York:20161218T110000
DTEND;TZID=America/New_York:20161218T112000
DTSTAMP:20260425T085536
CREATED:20160926T031627Z
LAST-MODIFIED:20161127T022240Z
UID:2964-1482058800-1482060000@gwinnettbiblechapel.org
SUMMARY:11am Choir Christmas Program\, Alan Parks
DESCRIPTION:
URL:https://gwinnettbiblechapel.org/event/11am-choir-program/
END:VEVENT
BEGIN:VEVENT
DTSTART;TZID=America/New_York:20161214T190000
DTEND;TZID=America/New_York:20161214T200000
DTSTAMP:20260425T085536
CREATED:20160823T023254Z
LAST-MODIFIED:20160823T023254Z
UID:2924-1481742000-1481745600@gwinnettbiblechapel.org
SUMMARY:7:00pm Awana\, 7:15pm Prayer & Bible Study
DESCRIPTION:
URL:https://gwinnettbiblechapel.org/event/700pm-awana-715pm-prayer-bible-study-71/
END:VEVENT
BEGIN:VEVENT
DTSTART;TZID=America/New_York:20161211T110000
DTEND;TZID=America/New_York:20161211T120000
DTSTAMP:20260425T085536
CREATED:20160926T031707Z
LAST-MODIFIED:20161020T194147Z
UID:2967-1481454000-1481457600@gwinnettbiblechapel.org
SUMMARY:11am Children's Christmas Program
DESCRIPTION:
URL:https://gwinnettbiblechapel.org/event/11am-childrens-program/
END:VEVENT
BEGIN:VEVENT
DTSTART;TZID=America/New_York:20161210T073000
DTEND;TZID=America/New_York:20161210T090000
DTSTAMP:20260425T085536
CREATED:20160926T031311Z
LAST-MODIFIED:20160926T031311Z
UID:2958-1481355000-1481360400@gwinnettbiblechapel.org
SUMMARY:7:30am Men’s Breakfast & Prayer
DESCRIPTION:
URL:https://gwinnettbiblechapel.org/event/730am-mens-breakfast-prayer-36/
END:VEVENT
BEGIN:VEVENT
DTSTART;TZID=America/New_York:20161207T190000
DTEND;TZID=America/New_York:20161207T200000
DTSTAMP:20260425T085536
CREATED:20160823T023203Z
LAST-MODIFIED:20160823T023203Z
UID:2921-1481137200-1481140800@gwinnettbiblechapel.org
SUMMARY:7:00pm Awana\, 7:15pm Prayer & Bible Study
DESCRIPTION:
URL:https://gwinnettbiblechapel.org/event/700pm-awana-715pm-prayer-bible-study-70/
END:VEVENT
BEGIN:VEVENT
DTSTART;TZID=America/New_York:20161204T110000
DTEND;TZID=America/New_York:20161204T120000
DTSTAMP:20260425T085536
CREATED:20161127T022502Z
LAST-MODIFIED:20161127T022502Z
UID:3027-1480849200-1480852800@gwinnettbiblechapel.org
SUMMARY:11am Clive Beckford
DESCRIPTION:
URL:https://gwinnettbiblechapel.org/event/11am-clive-beckford-2/
END:VEVENT
BEGIN:VEVENT
DTSTART;TZID=America/New_York:20161130T190000
DTEND;TZID=America/New_York:20161130T200000
DTSTAMP:20260425T085536
CREATED:20160823T023120Z
LAST-MODIFIED:20160823T023120Z
UID:2918-1480532400-1480536000@gwinnettbiblechapel.org
SUMMARY:7:00pm Awana\, 7:15pm Prayer & Bible Study
DESCRIPTION:
URL:https://gwinnettbiblechapel.org/event/700pm-awana-715pm-prayer-bible-study-69/
END:VEVENT
BEGIN:VEVENT
DTSTART;TZID=America/New_York:20161127T110000
DTEND;TZID=America/New_York:20161127T120000
DTSTAMP:20260425T085536
CREATED:20161020T193938Z
LAST-MODIFIED:20161024T031536Z
UID:2994-1480244400-1480248000@gwinnettbiblechapel.org
SUMMARY:11am Dennis Bryan
DESCRIPTION:
URL:https://gwinnettbiblechapel.org/event/11am-peterjohn-walters-6/
END:VEVENT
BEGIN:VEVENT
DTSTART;TZID=America/New_York:20161123T190000
DTEND;TZID=America/New_York:20161123T200000
DTSTAMP:20260425T085536
CREATED:20160823T023017Z
LAST-MODIFIED:20160823T023017Z
UID:2915-1479927600-1479931200@gwinnettbiblechapel.org
SUMMARY:7:00pm Time of Thanksgiving
DESCRIPTION:
URL:https://gwinnettbiblechapel.org/event/700pm-time-thanksgiving/
END:VEVENT
BEGIN:VEVENT
DTSTART;TZID=America/New_York:20161120T123000
DTEND;TZID=America/New_York:20161120T150000
DTSTAMP:20260425T085536
CREATED:20160926T031503Z
LAST-MODIFIED:20160926T031503Z
UID:2961-1479645000-1479654000@gwinnettbiblechapel.org
SUMMARY:12:30pm 412 Youth
DESCRIPTION:
URL:https://gwinnettbiblechapel.org/event/1230pm-412-youth-9/
END:VEVENT
BEGIN:VEVENT
DTSTART;TZID=America/New_York:20161120T110000
DTEND;TZID=America/New_York:20161120T120000
DTSTAMP:20260425T085536
CREATED:20161020T193726Z
LAST-MODIFIED:20161024T031513Z
UID:2991-1479639600-1479643200@gwinnettbiblechapel.org
SUMMARY:11am Peterjohn Walters
DESCRIPTION:
URL:https://gwinnettbiblechapel.org/event/11am-dennis-bryan-7/
END:VEVENT
BEGIN:VEVENT
DTSTART;TZID=America/New_York:20161116T190000
DTEND;TZID=America/New_York:20161116T200000
DTSTAMP:20260425T085536
CREATED:20160823T022817Z
LAST-MODIFIED:20160823T022817Z
UID:2912-1479322800-1479326400@gwinnettbiblechapel.org
SUMMARY:7:00pm Awana\, 7:15pm Prayer & Bible Study
DESCRIPTION:
URL:https://gwinnettbiblechapel.org/event/700pm-awana-715pm-prayer-bible-study-68/
END:VEVENT
BEGIN:VEVENT
DTSTART;TZID=America/New_York:20161113T110000
DTEND;TZID=America/New_York:20161113T120000
DTSTAMP:20260425T085536
CREATED:20161020T193555Z
LAST-MODIFIED:20161020T193555Z
UID:2988-1479034800-1479038400@gwinnettbiblechapel.org
SUMMARY:11am John Michael Thomas
DESCRIPTION:
URL:https://gwinnettbiblechapel.org/event/11am-john-michael-thomas/
END:VEVENT
BEGIN:VEVENT
DTSTART;TZID=America/New_York:20161112T073000
DTEND;TZID=America/New_York:20161112T090000
DTSTAMP:20260425T085536
CREATED:20160926T031215Z
LAST-MODIFIED:20160926T031215Z
UID:2955-1478935800-1478941200@gwinnettbiblechapel.org
SUMMARY:7:30am Men’s Breakfast & Prayer
DESCRIPTION:
URL:https://gwinnettbiblechapel.org/event/730am-mens-breakfast-prayer-35/
END:VEVENT
BEGIN:VEVENT
DTSTART;TZID=America/New_York:20161109T190000
DTEND;TZID=America/New_York:20161109T200000
DTSTAMP:20260425T085536
CREATED:20160823T022653Z
LAST-MODIFIED:20160823T022653Z
UID:2909-1478718000-1478721600@gwinnettbiblechapel.org
SUMMARY:7:00pm Awana\, 7:15pm Prayer & Bible Study
DESCRIPTION:
URL:https://gwinnettbiblechapel.org/event/700pm-awana-715pm-prayer-bible-study-67/
END:VEVENT
BEGIN:VEVENT
DTSTART;TZID=America/New_York:20161106T110000
DTEND;TZID=America/New_York:20161106T120000
DTSTAMP:20260425T085536
CREATED:20161020T193156Z
LAST-MODIFIED:20161020T193157Z
UID:2985-1478430000-1478433600@gwinnettbiblechapel.org
SUMMARY:11am Rojers Paul
DESCRIPTION:
URL:https://gwinnettbiblechapel.org/event/11am-rojers-paul-9/
END:VEVENT
BEGIN:VEVENT
DTSTART;TZID=America/New_York:20161105T080000
DTEND;TZID=America/New_York:20161105T080000
DTSTAMP:20260425T085536
CREATED:20160926T031856Z
LAST-MODIFIED:20160926T031856Z
UID:2970-1478332800-1478332800@gwinnettbiblechapel.org
SUMMARY:Fall behind
DESCRIPTION:
URL:https://gwinnettbiblechapel.org/event/fall-behind/
END:VEVENT
BEGIN:VEVENT
DTSTART;TZID=America/New_York:20161102T190000
DTEND;TZID=America/New_York:20161102T200000
DTSTAMP:20260425T085536
CREATED:20160823T022610Z
LAST-MODIFIED:20160823T022610Z
UID:2906-1478113200-1478116800@gwinnettbiblechapel.org
SUMMARY:7:00pm Awana\, 7:15pm Prayer & Bible Study
DESCRIPTION:
URL:https://gwinnettbiblechapel.org/event/700pm-awana-715pm-prayer-bible-study-66/
END:VEVENT
END:VCALENDAR