BEGIN:VCALENDAR
VERSION:2.0
PRODID:-//Gwinnett Bible Chapel - ECPv6.15.16.1//NONSGML v1.0//EN
CALSCALE:GREGORIAN
METHOD:PUBLISH
X-WR-CALNAME:Gwinnett Bible Chapel
X-ORIGINAL-URL:https://gwinnettbiblechapel.org
X-WR-CALDESC:Events for Gwinnett Bible Chapel
REFRESH-INTERVAL;VALUE=DURATION:PT1H
X-Robots-Tag:noindex
X-PUBLISHED-TTL:PT1H
BEGIN:VTIMEZONE
TZID:America/New_York
BEGIN:DAYLIGHT
TZOFFSETFROM:-0500
TZOFFSETTO:-0400
TZNAME:EDT
DTSTART:20150308T070000
END:DAYLIGHT
BEGIN:STANDARD
TZOFFSETFROM:-0400
TZOFFSETTO:-0500
TZNAME:EST
DTSTART:20151101T060000
END:STANDARD
BEGIN:DAYLIGHT
TZOFFSETFROM:-0500
TZOFFSETTO:-0400
TZNAME:EDT
DTSTART:20160313T070000
END:DAYLIGHT
BEGIN:STANDARD
TZOFFSETFROM:-0400
TZOFFSETTO:-0500
TZNAME:EST
DTSTART:20161106T060000
END:STANDARD
BEGIN:DAYLIGHT
TZOFFSETFROM:-0500
TZOFFSETTO:-0400
TZNAME:EDT
DTSTART:20170312T070000
END:DAYLIGHT
BEGIN:STANDARD
TZOFFSETFROM:-0400
TZOFFSETTO:-0500
TZNAME:EST
DTSTART:20171105T060000
END:STANDARD
END:VTIMEZONE
BEGIN:VEVENT
DTSTART;TZID=America/New_York:20161030T110000
DTEND;TZID=America/New_York:20161030T170000
DTSTAMP:20260425T130449
CREATED:20160926T030544Z
LAST-MODIFIED:20160926T030544Z
UID:2948-1477825200-1477846800@gwinnettbiblechapel.org
SUMMARY:11am Allan Knowles
DESCRIPTION:
URL:https://gwinnettbiblechapel.org/event/11am-allan-knowles-2/
END:VEVENT
BEGIN:VEVENT
DTSTART;TZID=America/New_York:20161026T190000
DTEND;TZID=America/New_York:20161026T200000
DTSTAMP:20260425T130449
CREATED:20160823T022526Z
LAST-MODIFIED:20160823T022526Z
UID:2903-1477508400-1477512000@gwinnettbiblechapel.org
SUMMARY:7:00pm Awana\, 7:15pm Prayer & Bible Study
DESCRIPTION:
URL:https://gwinnettbiblechapel.org/event/700pm-awana-715pm-prayer-bible-study-65/
END:VEVENT
BEGIN:VEVENT
DTSTART;TZID=America/New_York:20161023T110000
DTEND;TZID=America/New_York:20161023T170000
DTSTAMP:20260425T130449
CREATED:20160926T030511Z
LAST-MODIFIED:20160926T030511Z
UID:2946-1477220400-1477242000@gwinnettbiblechapel.org
SUMMARY:11am Vinoji Samuel
DESCRIPTION:
URL:https://gwinnettbiblechapel.org/event/11am-vinoji-samuel-4/
END:VEVENT
BEGIN:VEVENT
DTSTART;TZID=America/New_York:20161019T190000
DTEND;TZID=America/New_York:20161019T200000
DTSTAMP:20260425T130449
CREATED:20160823T022447Z
LAST-MODIFIED:20160823T022447Z
UID:2900-1476903600-1476907200@gwinnettbiblechapel.org
SUMMARY:7:00pm Awana\, 7:15pm Prayer & Bible Study
DESCRIPTION:
URL:https://gwinnettbiblechapel.org/event/700pm-awana-715pm-prayer-bible-study-64/
END:VEVENT
BEGIN:VEVENT
DTSTART;TZID=America/New_York:20161016T120000
DTEND;TZID=America/New_York:20161016T170000
DTSTAMP:20260425T130449
CREATED:20160926T005644Z
LAST-MODIFIED:20160926T005644Z
UID:2931-1476619200-1476637200@gwinnettbiblechapel.org
SUMMARY:Dinner on the Grounds
DESCRIPTION:
URL:https://gwinnettbiblechapel.org/event/dinner-on-the-grounds-4/
END:VEVENT
BEGIN:VEVENT
DTSTART;TZID=America/New_York:20161016T110000
DTEND;TZID=America/New_York:20161016T120000
DTSTAMP:20260425T130449
CREATED:20160926T030435Z
LAST-MODIFIED:20160926T030435Z
UID:2942-1476615600-1476619200@gwinnettbiblechapel.org
SUMMARY:11am Rod Sharp
DESCRIPTION:
URL:https://gwinnettbiblechapel.org/event/11am-rod-sharp-4/
END:VEVENT
BEGIN:VEVENT
DTSTART;TZID=America/New_York:20161012T190000
DTEND;TZID=America/New_York:20161012T200000
DTSTAMP:20260425T130449
CREATED:20160823T022415Z
LAST-MODIFIED:20160823T022415Z
UID:2897-1476298800-1476302400@gwinnettbiblechapel.org
SUMMARY:7:00pm Awana\, 7:15pm Prayer & Bible Study
DESCRIPTION:
URL:https://gwinnettbiblechapel.org/event/700pm-awana-715pm-prayer-bible-study-63/
END:VEVENT
BEGIN:VEVENT
DTSTART;TZID=America/New_York:20161009T123000
DTEND;TZID=America/New_York:20161009T150000
DTSTAMP:20260425T130449
CREATED:20160823T022240Z
LAST-MODIFIED:20160823T022240Z
UID:2894-1476016200-1476025200@gwinnettbiblechapel.org
SUMMARY:12:30pm 412 Youth
DESCRIPTION:
URL:https://gwinnettbiblechapel.org/event/1230pm-412-youth-8/
END:VEVENT
BEGIN:VEVENT
DTSTART;TZID=America/New_York:20161009T110000
DTEND;TZID=America/New_York:20161009T120000
DTSTAMP:20260425T130449
CREATED:20160926T030358Z
LAST-MODIFIED:20160926T031004Z
UID:2940-1476010800-1476014400@gwinnettbiblechapel.org
SUMMARY:11am Scott Batterton
DESCRIPTION:
URL:https://gwinnettbiblechapel.org/event/11am-scott-batterton-4/
END:VEVENT
BEGIN:VEVENT
DTSTART;TZID=America/New_York:20161008T100000
DTEND;TZID=America/New_York:20161008T120000
DTSTAMP:20260425T130449
CREATED:20160926T005423Z
LAST-MODIFIED:20160926T005423Z
UID:2928-1475920800-1475928000@gwinnettbiblechapel.org
SUMMARY:10am Ladies Breakfast
DESCRIPTION:
URL:https://gwinnettbiblechapel.org/event/10am-ladies-breakfast/
END:VEVENT
BEGIN:VEVENT
DTSTART;TZID=America/New_York:20161008T073000
DTEND;TZID=America/New_York:20161008T090000
DTSTAMP:20260425T130449
CREATED:20160823T022104Z
LAST-MODIFIED:20160823T022104Z
UID:2888-1475911800-1475917200@gwinnettbiblechapel.org
SUMMARY:7:30am Men’s Breakfast & Prayer
DESCRIPTION:
URL:https://gwinnettbiblechapel.org/event/730am-mens-breakfast-prayer-34/
END:VEVENT
BEGIN:VEVENT
DTSTART;TZID=America/New_York:20161005T080000
DTEND;TZID=America/New_York:20161005T170000
DTSTAMP:20260425T130449
CREATED:20160801T132713Z
LAST-MODIFIED:20160801T132713Z
UID:2831-1475654400-1475686800@gwinnettbiblechapel.org
SUMMARY:7:00pm Awana\, 7:15pm Prayer & Bible Study
DESCRIPTION:
URL:https://gwinnettbiblechapel.org/event/700pm-awana-715pm-prayer-bible-study-62/
END:VEVENT
BEGIN:VEVENT
DTSTART;TZID=America/New_York:20161002T110000
DTEND;TZID=America/New_York:20161002T170000
DTSTAMP:20260425T130449
CREATED:20160926T030321Z
LAST-MODIFIED:20160926T030321Z
UID:2937-1475406000-1475427600@gwinnettbiblechapel.org
SUMMARY:11am Richard Marks
DESCRIPTION:
URL:https://gwinnettbiblechapel.org/event/11am-richard-marks-6/
END:VEVENT
BEGIN:VEVENT
DTSTART;TZID=America/New_York:20161001T100000
DTEND;TZID=America/New_York:20161001T160000
DTSTAMP:20260425T130449
CREATED:20160823T021633Z
LAST-MODIFIED:20160926T030205Z
UID:2881-1475316000-1475337600@gwinnettbiblechapel.org
SUMMARY:10am-4pm Church Picnic
DESCRIPTION:
URL:https://gwinnettbiblechapel.org/event/church-picnic/
END:VEVENT
BEGIN:VEVENT
DTSTART;TZID=America/New_York:20160928T080000
DTEND;TZID=America/New_York:20160928T170000
DTSTAMP:20260425T130449
CREATED:20160801T132632Z
LAST-MODIFIED:20160801T132632Z
UID:2829-1475049600-1475082000@gwinnettbiblechapel.org
SUMMARY:7:00pm Awana\, 7:15pm Prayer & Bible Study
DESCRIPTION:
URL:https://gwinnettbiblechapel.org/event/700pm-awana-715pm-prayer-bible-study-61/
END:VEVENT
BEGIN:VEVENT
DTSTART;TZID=America/New_York:20160925T110000
DTEND;TZID=America/New_York:20160925T120000
DTSTAMP:20260425T130449
CREATED:20160823T021553Z
LAST-MODIFIED:20160823T021553Z
UID:2878-1474801200-1474804800@gwinnettbiblechapel.org
SUMMARY:11am Bobby Young
DESCRIPTION:
URL:https://gwinnettbiblechapel.org/event/11am-bobby-young-4/
END:VEVENT
BEGIN:VEVENT
DTSTART;TZID=America/New_York:20160921T080000
DTEND;TZID=America/New_York:20160921T170000
DTSTAMP:20260425T130449
CREATED:20160801T132601Z
LAST-MODIFIED:20160801T132601Z
UID:2827-1474444800-1474477200@gwinnettbiblechapel.org
SUMMARY:7:00pm Awana\, 7:15pm Prayer & Bible Study
DESCRIPTION:
URL:https://gwinnettbiblechapel.org/event/700pm-awana-715pm-prayer-bible-study-60/
END:VEVENT
BEGIN:VEVENT
DTSTART;TZID=America/New_York:20160918T123000
DTEND;TZID=America/New_York:20160918T150000
DTSTAMP:20260425T130449
CREATED:20160823T022154Z
LAST-MODIFIED:20160823T022154Z
UID:2891-1474201800-1474210800@gwinnettbiblechapel.org
SUMMARY:12:30pm 412 Youth
DESCRIPTION:
URL:https://gwinnettbiblechapel.org/event/1230pm-412-youth-7/
END:VEVENT
BEGIN:VEVENT
DTSTART;TZID=America/New_York:20160918T110000
DTEND;TZID=America/New_York:20160918T120000
DTSTAMP:20260425T130449
CREATED:20160823T021516Z
LAST-MODIFIED:20160823T021516Z
UID:2875-1474196400-1474200000@gwinnettbiblechapel.org
SUMMARY:11am Alan Parks
DESCRIPTION:
URL:https://gwinnettbiblechapel.org/event/11am-alan-parks-4/
END:VEVENT
BEGIN:VEVENT
DTSTART;TZID=America/New_York:20160914T080000
DTEND;TZID=America/New_York:20160914T170000
DTSTAMP:20260425T130449
CREATED:20160801T132536Z
LAST-MODIFIED:20160801T132536Z
UID:2825-1473840000-1473872400@gwinnettbiblechapel.org
SUMMARY:7:00pm Awana\, 7:15pm Prayer & Bible Study
DESCRIPTION:
URL:https://gwinnettbiblechapel.org/event/700pm-awana-715pm-prayer-bible-study-59/
END:VEVENT
BEGIN:VEVENT
DTSTART;TZID=America/New_York:20160911T110000
DTEND;TZID=America/New_York:20160911T120000
DTSTAMP:20260425T130449
CREATED:20160823T021436Z
LAST-MODIFIED:20160823T021436Z
UID:2872-1473591600-1473595200@gwinnettbiblechapel.org
SUMMARY:11am Clive Beckford
DESCRIPTION:
URL:https://gwinnettbiblechapel.org/event/11am-clive-beckford/
END:VEVENT
BEGIN:VEVENT
DTSTART;TZID=America/New_York:20160910T073000
DTEND;TZID=America/New_York:20160910T090000
DTSTAMP:20260425T130449
CREATED:20160602T033459Z
LAST-MODIFIED:20160602T033459Z
UID:2766-1473492600-1473498000@gwinnettbiblechapel.org
SUMMARY:7:30am Men’s Breakfast & Prayer
DESCRIPTION:
URL:https://gwinnettbiblechapel.org/event/730am-mens-breakfast-prayer-33/
END:VEVENT
BEGIN:VEVENT
DTSTART;TZID=America/New_York:20160907T080000
DTEND;TZID=America/New_York:20160907T170000
DTSTAMP:20260425T130449
CREATED:20160801T132451Z
LAST-MODIFIED:20160801T132451Z
UID:2823-1473235200-1473267600@gwinnettbiblechapel.org
SUMMARY:7:00pm Awana\, 7:15pm Prayer & Bible Study
DESCRIPTION:
URL:https://gwinnettbiblechapel.org/event/700pm-awana-715pm-prayer-bible-study-58/
END:VEVENT
BEGIN:VEVENT
DTSTART;TZID=America/New_York:20160904T110000
DTEND;TZID=America/New_York:20160904T120000
DTSTAMP:20260425T130449
CREATED:20160823T021358Z
LAST-MODIFIED:20160823T021358Z
UID:2869-1472986800-1472990400@gwinnettbiblechapel.org
SUMMARY:11am Dennis Bryan
DESCRIPTION:
URL:https://gwinnettbiblechapel.org/event/11am-dennis-bryan-6/
END:VEVENT
BEGIN:VEVENT
DTSTART;TZID=America/New_York:20160831T080000
DTEND;TZID=America/New_York:20160831T170000
DTSTAMP:20260425T130449
CREATED:20160801T132418Z
LAST-MODIFIED:20160801T132418Z
UID:2821-1472630400-1472662800@gwinnettbiblechapel.org
SUMMARY:7:00pm Awana\, 7:15pm Prayer & Bible Study
DESCRIPTION:
URL:https://gwinnettbiblechapel.org/event/700pm-awana-715pm-prayer-bible-study-57/
END:VEVENT
BEGIN:VEVENT
DTSTART;TZID=America/New_York:20160828T110000
DTEND;TZID=America/New_York:20160828T120000
DTSTAMP:20260425T130449
CREATED:20160801T132115Z
LAST-MODIFIED:20160801T132115Z
UID:2813-1472382000-1472385600@gwinnettbiblechapel.org
SUMMARY:11am Richard Marks
DESCRIPTION:
URL:https://gwinnettbiblechapel.org/event/11am-richard-marks-5/
END:VEVENT
BEGIN:VEVENT
DTSTART;TZID=America/New_York:20160824T190000
DTEND;TZID=America/New_York:20160824T203000
DTSTAMP:20260425T130449
CREATED:20160801T132340Z
LAST-MODIFIED:20160801T132340Z
UID:2819-1472065200-1472070600@gwinnettbiblechapel.org
SUMMARY:7:00pm Awana Kick-off\, 7:15pm Prayer & Bible Study
DESCRIPTION:
URL:https://gwinnettbiblechapel.org/event/700pm-awana-kick-off-715pm-prayer-bible-study/
END:VEVENT
BEGIN:VEVENT
DTSTART;TZID=America/New_York:20160821T120000
DTEND;TZID=America/New_York:20160821T133000
DTSTAMP:20260425T130449
CREATED:20160801T132759Z
LAST-MODIFIED:20160801T132759Z
UID:2833-1471780800-1471786200@gwinnettbiblechapel.org
SUMMARY:12pm Dinner on the Grounds
DESCRIPTION:
URL:https://gwinnettbiblechapel.org/event/12pm-dinner-grounds-3-2/
END:VEVENT
BEGIN:VEVENT
DTSTART;TZID=America/New_York:20160821T110000
DTEND;TZID=America/New_York:20160821T120000
DTSTAMP:20260425T130449
CREATED:20160801T132041Z
LAST-MODIFIED:20160823T021727Z
UID:2811-1471777200-1471780800@gwinnettbiblechapel.org
SUMMARY:11am Vinoji Samuel
DESCRIPTION:
URL:https://gwinnettbiblechapel.org/event/11am-scott-batterton-3/
END:VEVENT
BEGIN:VEVENT
DTSTART;TZID=America/New_York:20160817T080000
DTEND;TZID=America/New_York:20160817T170000
DTSTAMP:20260425T130449
CREATED:20160801T132244Z
LAST-MODIFIED:20160801T132244Z
UID:2817-1471420800-1471453200@gwinnettbiblechapel.org
SUMMARY:7:00pm Prayer & Bible Study
DESCRIPTION:
URL:https://gwinnettbiblechapel.org/event/700pm-prayer-bible-study-27/
END:VEVENT
END:VCALENDAR