BEGIN:VCALENDAR
VERSION:2.0
PRODID:-//Gwinnett Bible Chapel - ECPv6.15.16.1//NONSGML v1.0//EN
CALSCALE:GREGORIAN
METHOD:PUBLISH
X-ORIGINAL-URL:https://gwinnettbiblechapel.org
X-WR-CALDESC:Events for Gwinnett Bible Chapel
REFRESH-INTERVAL;VALUE=DURATION:PT1H
X-Robots-Tag:noindex
X-PUBLISHED-TTL:PT1H
BEGIN:VTIMEZONE
TZID:America/New_York
BEGIN:DAYLIGHT
TZOFFSETFROM:-0500
TZOFFSETTO:-0400
TZNAME:EDT
DTSTART:20150308T070000
END:DAYLIGHT
BEGIN:STANDARD
TZOFFSETFROM:-0400
TZOFFSETTO:-0500
TZNAME:EST
DTSTART:20151101T060000
END:STANDARD
BEGIN:DAYLIGHT
TZOFFSETFROM:-0500
TZOFFSETTO:-0400
TZNAME:EDT
DTSTART:20160313T070000
END:DAYLIGHT
BEGIN:STANDARD
TZOFFSETFROM:-0400
TZOFFSETTO:-0500
TZNAME:EST
DTSTART:20161106T060000
END:STANDARD
BEGIN:DAYLIGHT
TZOFFSETFROM:-0500
TZOFFSETTO:-0400
TZNAME:EDT
DTSTART:20170312T070000
END:DAYLIGHT
BEGIN:STANDARD
TZOFFSETFROM:-0400
TZOFFSETTO:-0500
TZNAME:EST
DTSTART:20171105T060000
END:STANDARD
END:VTIMEZONE
BEGIN:VEVENT
DTSTART;TZID=America/New_York:20160612T110000
DTEND;TZID=America/New_York:20160612T170000
DTSTAMP:20260425T192942
CREATED:20160602T032230Z
LAST-MODIFIED:20160602T032230Z
UID:2735-1465729200-1465750800@gwinnettbiblechapel.org
SUMMARY:11am Rojers Paul
DESCRIPTION:
URL:https://gwinnettbiblechapel.org/event/11am-rojers-paul-7/
END:VEVENT
BEGIN:VEVENT
DTSTART;TZID=America/New_York:20160611T073000
DTEND;TZID=America/New_York:20160611T090000
DTSTAMP:20260425T192942
CREATED:20160602T032459Z
LAST-MODIFIED:20160602T032459Z
UID:2741-1465630200-1465635600@gwinnettbiblechapel.org
SUMMARY:7:30am Men’s Breakfast & Prayer
DESCRIPTION:
URL:https://gwinnettbiblechapel.org/event/730am-mens-breakfast-prayer-30/
END:VEVENT
BEGIN:VEVENT
DTSTART;TZID=America/New_York:20160608T190000
DTEND;TZID=America/New_York:20160608T201500
DTSTAMP:20260425T192942
CREATED:20160602T032646Z
LAST-MODIFIED:20160602T032646Z
UID:2745-1465412400-1465416900@gwinnettbiblechapel.org
SUMMARY:7:00pm Prayer & Bible Study
DESCRIPTION:
URL:https://gwinnettbiblechapel.org/event/700pm-prayer-bible-study-17/
END:VEVENT
BEGIN:VEVENT
DTSTART;TZID=America/New_York:20160605T110000
DTEND;TZID=America/New_York:20160605T170000
DTSTAMP:20260425T192942
CREATED:20160602T032152Z
LAST-MODIFIED:20160602T032152Z
UID:2733-1465124400-1465146000@gwinnettbiblechapel.org
SUMMARY:11am Peterjohn Walters
DESCRIPTION:
URL:https://gwinnettbiblechapel.org/event/11am-peterjohn-walters-4/
END:VEVENT
BEGIN:VEVENT
DTSTART;TZID=America/New_York:20160603T183000
DTEND;TZID=America/New_York:20160603T200000
DTSTAMP:20260425T192942
CREATED:20160602T033556Z
LAST-MODIFIED:20160602T033556Z
UID:2768-1464978600-1464984000@gwinnettbiblechapel.org
SUMMARY:6:30pm VBS Closing Program
DESCRIPTION:
URL:https://gwinnettbiblechapel.org/event/630pm-vbs-closing-program/
END:VEVENT
BEGIN:VEVENT
DTSTART;TZID=America/New_York:20160601T190000
DTEND;TZID=America/New_York:20160601T190000
DTSTAMP:20260425T192942
CREATED:20160602T032604Z
LAST-MODIFIED:20160602T032604Z
UID:2743-1464807600-1464807600@gwinnettbiblechapel.org
SUMMARY:7:00pm Prayer & Bible Study
DESCRIPTION:
URL:https://gwinnettbiblechapel.org/event/700pm-prayer-bible-study-16/
END:VEVENT
BEGIN:VEVENT
DTSTART;TZID=America/New_York:20160531T090000
DTEND;TZID=America/New_York:20160603T120000
DTSTAMP:20260425T192942
CREATED:20160220T230605Z
LAST-MODIFIED:20160402T135026Z
UID:2619-1464685200-1464955200@gwinnettbiblechapel.org
SUMMARY:9:00am VBS
DESCRIPTION:
URL:https://gwinnettbiblechapel.org/event/900am-vbs/
END:VEVENT
BEGIN:VEVENT
DTSTART;TZID=America/New_York:20160515T120000
DTEND;TZID=America/New_York:20160515T140000
DTSTAMP:20260425T192942
CREATED:20160415T122549Z
LAST-MODIFIED:20160415T122549Z
UID:2686-1463313600-1463320800@gwinnettbiblechapel.org
SUMMARY:12pm Dinner on the Grounds
DESCRIPTION:
URL:https://gwinnettbiblechapel.org/event/12pm-dinner-grounds-3/
END:VEVENT
BEGIN:VEVENT
DTSTART;TZID=America/New_York:20160504T080000
DTEND;TZID=America/New_York:20160504T170000
DTSTAMP:20260425T192942
CREATED:20160229T035420Z
LAST-MODIFIED:20160229T035420Z
UID:2638-1462348800-1462381200@gwinnettbiblechapel.org
SUMMARY:7:00pm Prayer & Bible Study
DESCRIPTION:
URL:https://gwinnettbiblechapel.org/event/700pm-prayer-bible-study-15/
END:VEVENT
BEGIN:VEVENT
DTSTART;TZID=America/New_York:20160427T080000
DTEND;TZID=America/New_York:20160427T170000
DTSTAMP:20260425T192942
CREATED:20160229T035328Z
LAST-MODIFIED:20160229T035328Z
UID:2636-1461744000-1461776400@gwinnettbiblechapel.org
SUMMARY:7:00pm Awana Closing Program
DESCRIPTION:
URL:https://gwinnettbiblechapel.org/event/700pm-awana-closing-program-2/
END:VEVENT
BEGIN:VEVENT
DTSTART;TZID=America/New_York:20160424T123000
DTEND;TZID=America/New_York:20160424T153000
DTSTAMP:20260425T192942
CREATED:20160402T134322Z
LAST-MODIFIED:20160402T134322Z
UID:2672-1461501000-1461511800@gwinnettbiblechapel.org
SUMMARY:12:30pm 412 Youth
DESCRIPTION:
URL:https://gwinnettbiblechapel.org/event/1230pm-412-youth-6/
END:VEVENT
BEGIN:VEVENT
DTSTART;TZID=America/New_York:20160424T110000
DTEND;TZID=America/New_York:20160424T115500
DTSTAMP:20260425T192942
CREATED:20160402T134152Z
LAST-MODIFIED:20160415T123008Z
UID:2668-1461495600-1461498900@gwinnettbiblechapel.org
SUMMARY:11am Alan Parks
DESCRIPTION:
URL:https://gwinnettbiblechapel.org/event/11am-alan-parks-3/
END:VEVENT
BEGIN:VEVENT
DTSTART;TZID=America/New_York:20160423T100000
DTEND;TZID=America/New_York:20160423T170000
DTSTAMP:20260425T192942
CREATED:20160402T134113Z
LAST-MODIFIED:20160415T121745Z
UID:2666-1461405600-1461430800@gwinnettbiblechapel.org
SUMMARY:10am Ladies Brunch
DESCRIPTION:
URL:https://gwinnettbiblechapel.org/event/10am-ladies-brunch/
END:VEVENT
BEGIN:VEVENT
DTSTART;TZID=America/New_York:20160420T080000
DTEND;TZID=America/New_York:20160420T170000
DTSTAMP:20260425T192942
CREATED:20160229T035232Z
LAST-MODIFIED:20160229T035232Z
UID:2634-1461139200-1461171600@gwinnettbiblechapel.org
SUMMARY:7:00pm Awana\, 7:15pm Prayer & Bible Study
DESCRIPTION:
URL:https://gwinnettbiblechapel.org/event/700pm-awana-715pm-prayer-bible-study-56/
END:VEVENT
BEGIN:VEVENT
DTSTART;TZID=America/New_York:20160417T120000
DTEND;TZID=America/New_York:20160417T140000
DTSTAMP:20260425T192942
CREATED:20160402T133746Z
LAST-MODIFIED:20160415T123356Z
UID:2664-1460894400-1460901600@gwinnettbiblechapel.org
SUMMARY:12pm Dinner on the Grounds
DESCRIPTION:
URL:https://gwinnettbiblechapel.org/event/noon-dinner-grounds/
END:VEVENT
BEGIN:VEVENT
DTSTART;TZID=America/New_York:20160417T110000
DTEND;TZID=America/New_York:20160417T115500
DTSTAMP:20260425T192942
CREATED:20160402T140106Z
LAST-MODIFIED:20160415T122819Z
UID:2681-1460890800-1460894100@gwinnettbiblechapel.org
SUMMARY:11am Gladin Joseph
DESCRIPTION:
URL:https://gwinnettbiblechapel.org/event/11am-gladin-joseph/
END:VEVENT
BEGIN:VEVENT
DTSTART;TZID=America/New_York:20160413T080000
DTEND;TZID=America/New_York:20160413T170000
DTSTAMP:20260425T192942
CREATED:20160229T035058Z
LAST-MODIFIED:20160229T035058Z
UID:2630-1460534400-1460566800@gwinnettbiblechapel.org
SUMMARY:7:00pm Awana\, 7:15pm Prayer & Bible Study
DESCRIPTION:
URL:https://gwinnettbiblechapel.org/event/700pm-awana-715pm-prayer-bible-study-55/
END:VEVENT
BEGIN:VEVENT
DTSTART;TZID=America/New_York:20160410T123000
DTEND;TZID=America/New_York:20160410T153000
DTSTAMP:20260425T192942
CREATED:20160402T134243Z
LAST-MODIFIED:20160402T134243Z
UID:2670-1460291400-1460302200@gwinnettbiblechapel.org
SUMMARY:12:30pm 412 Youth
DESCRIPTION:
URL:https://gwinnettbiblechapel.org/event/1230pm-412-youth-5/
END:VEVENT
BEGIN:VEVENT
DTSTART;TZID=America/New_York:20160410T110000
DTEND;TZID=America/New_York:20160410T170000
DTSTAMP:20260425T192942
CREATED:20160402T135858Z
LAST-MODIFIED:20160402T135858Z
UID:2679-1460286000-1460307600@gwinnettbiblechapel.org
SUMMARY:11am Rojers Paul
DESCRIPTION:
URL:https://gwinnettbiblechapel.org/event/11am-rojers-paul-6/
END:VEVENT
BEGIN:VEVENT
DTSTART;TZID=America/New_York:20160409T073000
DTEND;TZID=America/New_York:20160409T090000
DTSTAMP:20260425T192942
CREATED:20160229T040200Z
LAST-MODIFIED:20160229T040242Z
UID:2652-1460187000-1460192400@gwinnettbiblechapel.org
SUMMARY:7:30am Men’s Breakfast & Prayer
DESCRIPTION:
URL:https://gwinnettbiblechapel.org/event/730am-mens-breakfast-prayer-29/
END:VEVENT
BEGIN:VEVENT
DTSTART;TZID=America/New_York:20160406T080000
DTEND;TZID=America/New_York:20160406T170000
DTSTAMP:20260425T192942
CREATED:20160229T035145Z
LAST-MODIFIED:20160229T035145Z
UID:2632-1459929600-1459962000@gwinnettbiblechapel.org
SUMMARY:7:00pm Prayer & Bible Study
DESCRIPTION:
URL:https://gwinnettbiblechapel.org/event/700pm-prayer-bible-study-14/
END:VEVENT
BEGIN:VEVENT
DTSTART;TZID=America/New_York:20160403T080000
DTEND;TZID=America/New_York:20160403T170000
DTSTAMP:20260425T192942
CREATED:20160402T134353Z
LAST-MODIFIED:20160402T134432Z
UID:2674-1459670400-1459702800@gwinnettbiblechapel.org
SUMMARY:11am Steve Roys
DESCRIPTION:
URL:https://gwinnettbiblechapel.org/event/11am-steve-roys/
END:VEVENT
BEGIN:VEVENT
DTSTART;TZID=America/New_York:20160330T080000
DTEND;TZID=America/New_York:20160330T170000
DTSTAMP:20260425T192942
CREATED:20160229T035020Z
LAST-MODIFIED:20160229T035020Z
UID:2628-1459324800-1459357200@gwinnettbiblechapel.org
SUMMARY:7:00pm Awana\, 7:15pm Prayer & Bible Study
DESCRIPTION:
URL:https://gwinnettbiblechapel.org/event/700pm-awana-715pm-prayer-bible-study-54/
END:VEVENT
BEGIN:VEVENT
DTSTART;TZID=America/New_York:20160327T080000
DTEND;TZID=America/New_York:20160327T170000
DTSTAMP:20260425T192942
CREATED:20160229T035818Z
LAST-MODIFIED:20160229T035818Z
UID:2646-1459065600-1459098000@gwinnettbiblechapel.org
SUMMARY:11am Bobby Young
DESCRIPTION:
URL:https://gwinnettbiblechapel.org/event/11am-bobby-young-3/
END:VEVENT
BEGIN:VEVENT
DTSTART;TZID=America/New_York:20160325T080000
DTEND;TZID=America/New_York:20160325T170000
DTSTAMP:20260425T192942
CREATED:20160229T035513Z
LAST-MODIFIED:20160229T035513Z
UID:2640-1458892800-1458925200@gwinnettbiblechapel.org
SUMMARY:7:00pm Good Friday Service
DESCRIPTION:
URL:https://gwinnettbiblechapel.org/event/700pm-good-friday-service/
END:VEVENT
BEGIN:VEVENT
DTSTART;TZID=America/New_York:20160323T080000
DTEND;TZID=America/New_York:20160323T170000
DTSTAMP:20260425T192942
CREATED:20160229T034932Z
LAST-MODIFIED:20160229T034932Z
UID:2626-1458720000-1458752400@gwinnettbiblechapel.org
SUMMARY:7:00pm Awana\, 7:15pm Prayer & Bible Study
DESCRIPTION:
URL:https://gwinnettbiblechapel.org/event/700pm-awana-715pm-prayer-bible-study-53/
END:VEVENT
BEGIN:VEVENT
DTSTART;TZID=America/New_York:20160320T080000
DTEND;TZID=America/New_York:20160320T170000
DTSTAMP:20260425T192942
CREATED:20160229T040000Z
LAST-MODIFIED:20160229T040000Z
UID:2650-1458460800-1458493200@gwinnettbiblechapel.org
SUMMARY:11am Joey Guikema
DESCRIPTION:
URL:https://gwinnettbiblechapel.org/event/11am-joey-guikema-2/
END:VEVENT
BEGIN:VEVENT
DTSTART;TZID=America/New_York:20160316T080000
DTEND;TZID=America/New_York:20160316T170000
DTSTAMP:20260425T192942
CREATED:20160229T034852Z
LAST-MODIFIED:20160229T034852Z
UID:2624-1458115200-1458147600@gwinnettbiblechapel.org
SUMMARY:7:00pm Awana\, 7:15pm Prayer & Bible Study
DESCRIPTION:
URL:https://gwinnettbiblechapel.org/event/700pm-awana-715pm-prayer-bible-study-52/
END:VEVENT
BEGIN:VEVENT
DTSTART;TZID=America/New_York:20160313T123000
DTEND;TZID=America/New_York:20160313T153000
DTSTAMP:20260425T192942
CREATED:20160229T035639Z
LAST-MODIFIED:20160229T035639Z
UID:2642-1457872200-1457883000@gwinnettbiblechapel.org
SUMMARY:12:30pm 412 Youth
DESCRIPTION:
URL:https://gwinnettbiblechapel.org/event/1230pm-412-youth-4/
END:VEVENT
BEGIN:VEVENT
DTSTART;TZID=America/New_York:20160313T080000
DTEND;TZID=America/New_York:20160313T170000
DTSTAMP:20260425T192942
CREATED:20160229T035919Z
LAST-MODIFIED:20160229T035919Z
UID:2648-1457856000-1457888400@gwinnettbiblechapel.org
SUMMARY:11am Peterjohn Walters
DESCRIPTION:
URL:https://gwinnettbiblechapel.org/event/11am-peterjohn-walters-3/
END:VEVENT
END:VCALENDAR