BEGIN:VCALENDAR
VERSION:2.0
PRODID:-//Gwinnett Bible Chapel - ECPv6.15.16.1//NONSGML v1.0//EN
CALSCALE:GREGORIAN
METHOD:PUBLISH
X-ORIGINAL-URL:https://gwinnettbiblechapel.org
X-WR-CALDESC:Events for Gwinnett Bible Chapel
REFRESH-INTERVAL;VALUE=DURATION:PT1H
X-Robots-Tag:noindex
X-PUBLISHED-TTL:PT1H
BEGIN:VTIMEZONE
TZID:America/New_York
BEGIN:DAYLIGHT
TZOFFSETFROM:-0500
TZOFFSETTO:-0400
TZNAME:EDT
DTSTART:20170312T070000
END:DAYLIGHT
BEGIN:STANDARD
TZOFFSETFROM:-0400
TZOFFSETTO:-0500
TZNAME:EST
DTSTART:20171105T060000
END:STANDARD
BEGIN:DAYLIGHT
TZOFFSETFROM:-0500
TZOFFSETTO:-0400
TZNAME:EDT
DTSTART:20180311T070000
END:DAYLIGHT
BEGIN:STANDARD
TZOFFSETFROM:-0400
TZOFFSETTO:-0500
TZNAME:EST
DTSTART:20181104T060000
END:STANDARD
BEGIN:DAYLIGHT
TZOFFSETFROM:-0500
TZOFFSETTO:-0400
TZNAME:EDT
DTSTART:20190310T070000
END:DAYLIGHT
BEGIN:STANDARD
TZOFFSETFROM:-0400
TZOFFSETTO:-0500
TZNAME:EST
DTSTART:20191103T060000
END:STANDARD
END:VTIMEZONE
BEGIN:VEVENT
DTSTART;TZID=America/New_York:20180408T110000
DTEND;TZID=America/New_York:20180408T120000
DTSTAMP:20260423T154254
CREATED:20180425T014943Z
LAST-MODIFIED:20180425T014943Z
UID:4487-1523185200-1523188800@gwinnettbiblechapel.org
SUMMARY:Speaker @ 11am
DESCRIPTION:Vinoji S.
URL:https://gwinnettbiblechapel.org/event/speaker-11am-7/
END:VEVENT
BEGIN:VEVENT
DTSTART;TZID=America/New_York:20180401T110000
DTEND;TZID=America/New_York:20180401T120000
DTSTAMP:20260423T154254
CREATED:20180425T014917Z
LAST-MODIFIED:20180425T014917Z
UID:4484-1522580400-1522584000@gwinnettbiblechapel.org
SUMMARY:Speaker @ 11am
DESCRIPTION:Dennis B.
URL:https://gwinnettbiblechapel.org/event/speaker-11am-6/
END:VEVENT
BEGIN:VEVENT
DTSTART;TZID=America/New_York:20180325T110000
DTEND;TZID=America/New_York:20180325T120000
DTSTAMP:20260423T154254
CREATED:20180316T144336Z
LAST-MODIFIED:20180316T144336Z
UID:4427-1521975600-1521979200@gwinnettbiblechapel.org
SUMMARY:Speaker @11
DESCRIPTION:Bruce C.
URL:https://gwinnettbiblechapel.org/event/speaker-11-19/
END:VEVENT
BEGIN:VEVENT
DTSTART;TZID=America/New_York:20180325T103000
DTEND;TZID=America/New_York:20180325T110000
DTSTAMP:20260423T154254
CREATED:20180316T144720Z
LAST-MODIFIED:20180316T144720Z
UID:4453-1521973800-1521975600@gwinnettbiblechapel.org
SUMMARY:Refreshments
DESCRIPTION:Ordenna B.
URL:https://gwinnettbiblechapel.org/event/refreshments-26/
END:VEVENT
BEGIN:VEVENT
DTSTART;TZID=America/New_York:20180325T090000
DTEND;TZID=America/New_York:20180325T120000
DTSTAMP:20260423T154254
CREATED:20180316T144533Z
LAST-MODIFIED:20180316T144533Z
UID:4439-1521968400-1521979200@gwinnettbiblechapel.org
SUMMARY:Open/Close Greeting
DESCRIPTION:Paul K.
URL:https://gwinnettbiblechapel.org/event/open-close-greeting-4/
END:VEVENT
BEGIN:VEVENT
DTSTART;TZID=America/New_York:20180318T103000
DTEND;TZID=America/New_York:20180318T110000
DTSTAMP:20260423T154254
CREATED:20180316T144659Z
LAST-MODIFIED:20180316T144659Z
UID:4450-1521369000-1521370800@gwinnettbiblechapel.org
SUMMARY:Refreshments
DESCRIPTION:Barbara D.
URL:https://gwinnettbiblechapel.org/event/refreshments-25/
END:VEVENT
BEGIN:VEVENT
DTSTART;TZID=America/New_York:20180318T090000
DTEND;TZID=America/New_York:20180318T120000
DTSTAMP:20260423T154254
CREATED:20180316T144508Z
LAST-MODIFIED:20180316T144508Z
UID:4436-1521363600-1521374400@gwinnettbiblechapel.org
SUMMARY:Open/Close Greeting
DESCRIPTION:Horace W.
URL:https://gwinnettbiblechapel.org/event/open-close-greeting-3/
END:VEVENT
BEGIN:VEVENT
DTSTART;TZID=America/New_York:20180318T080000
DTEND;TZID=America/New_York:20180318T120000
DTSTAMP:20260423T154254
CREATED:20180316T144312Z
LAST-MODIFIED:20180316T144312Z
UID:4424-1521360000-1521374400@gwinnettbiblechapel.org
SUMMARY:Speaker @11
DESCRIPTION:Gladin J.
URL:https://gwinnettbiblechapel.org/event/speaker-11-18/
END:VEVENT
BEGIN:VEVENT
DTSTART;TZID=America/New_York:20180311T110000
DTEND;TZID=America/New_York:20180311T120000
DTSTAMP:20260423T154254
CREATED:20180316T144234Z
LAST-MODIFIED:20180316T144234Z
UID:4421-1520766000-1520769600@gwinnettbiblechapel.org
SUMMARY:Speaker @11
DESCRIPTION:Richard M.
URL:https://gwinnettbiblechapel.org/event/speaker-11-17/
END:VEVENT
BEGIN:VEVENT
DTSTART;TZID=America/New_York:20180311T103000
DTEND;TZID=America/New_York:20180311T110000
DTSTAMP:20260423T154254
CREATED:20180316T144633Z
LAST-MODIFIED:20180316T144633Z
UID:4447-1520764200-1520766000@gwinnettbiblechapel.org
SUMMARY:Refreshments
DESCRIPTION:Cathy B.
URL:https://gwinnettbiblechapel.org/event/refreshments-24/
END:VEVENT
BEGIN:VEVENT
DTSTART;TZID=America/New_York:20180311T090000
DTEND;TZID=America/New_York:20180311T120000
DTSTAMP:20260423T154254
CREATED:20180316T144450Z
LAST-MODIFIED:20180316T144450Z
UID:4433-1520758800-1520769600@gwinnettbiblechapel.org
SUMMARY:Open/Close Greeting
DESCRIPTION:Kevin B.
URL:https://gwinnettbiblechapel.org/event/open-close-greeting-2/
END:VEVENT
BEGIN:VEVENT
DTSTART;TZID=America/New_York:20180304T110000
DTEND;TZID=America/New_York:20180304T120000
DTSTAMP:20260423T154254
CREATED:20180316T144208Z
LAST-MODIFIED:20180316T144208Z
UID:4418-1520161200-1520164800@gwinnettbiblechapel.org
SUMMARY:Speaker @11
DESCRIPTION:John T.
URL:https://gwinnettbiblechapel.org/event/speaker-11-16/
END:VEVENT
BEGIN:VEVENT
DTSTART;TZID=America/New_York:20180304T103000
DTEND;TZID=America/New_York:20180304T110000
DTSTAMP:20260423T154254
CREATED:20180316T144605Z
LAST-MODIFIED:20180316T144605Z
UID:4442-1520159400-1520161200@gwinnettbiblechapel.org
SUMMARY:Refreshments
DESCRIPTION:Claudia B.
URL:https://gwinnettbiblechapel.org/event/refreshments-23/
END:VEVENT
BEGIN:VEVENT
DTSTART;TZID=America/New_York:20180304T090000
DTEND;TZID=America/New_York:20180304T120000
DTSTAMP:20260423T154254
CREATED:20180316T144426Z
LAST-MODIFIED:20180316T144426Z
UID:4430-1520154000-1520164800@gwinnettbiblechapel.org
SUMMARY:Open/Close Greeting
DESCRIPTION:John J.
URL:https://gwinnettbiblechapel.org/event/open-close-greeting/
END:VEVENT
BEGIN:VEVENT
DTSTART;TZID=America/New_York:20180225T110000
DTEND;TZID=America/New_York:20180225T120000
DTSTAMP:20260423T154254
CREATED:20180222T165254Z
LAST-MODIFIED:20180222T165254Z
UID:4371-1519556400-1519560000@gwinnettbiblechapel.org
SUMMARY:Speaker @ 11
DESCRIPTION:Dennis B.
URL:https://gwinnettbiblechapel.org/event/speaker-11-15/
END:VEVENT
BEGIN:VEVENT
DTSTART;TZID=America/New_York:20180225T103000
DTEND;TZID=America/New_York:20180225T110000
DTSTAMP:20260423T154254
CREATED:20180222T165609Z
LAST-MODIFIED:20180222T165609Z
UID:4395-1519554600-1519556400@gwinnettbiblechapel.org
SUMMARY:Refreshments
DESCRIPTION:Giji J.
URL:https://gwinnettbiblechapel.org/event/refreshments-22/
END:VEVENT
BEGIN:VEVENT
DTSTART;TZID=America/New_York:20180225T090000
DTEND;TZID=America/New_York:20180225T120000
DTSTAMP:20260423T154254
CREATED:20180222T165437Z
LAST-MODIFIED:20180222T165437Z
UID:4383-1519549200-1519560000@gwinnettbiblechapel.org
SUMMARY:Open/Close Greet @ 9
DESCRIPTION:Paul K.
URL:https://gwinnettbiblechapel.org/event/open-close-greet-9-4/
END:VEVENT
BEGIN:VEVENT
DTSTART;TZID=America/New_York:20180218T110000
DTEND;TZID=America/New_York:20180218T120000
DTSTAMP:20260423T154254
CREATED:20180222T165232Z
LAST-MODIFIED:20180222T165232Z
UID:4368-1518951600-1518955200@gwinnettbiblechapel.org
SUMMARY:Speaker @ 11
DESCRIPTION:Rojers P.
URL:https://gwinnettbiblechapel.org/event/speaker-11-14/
END:VEVENT
BEGIN:VEVENT
DTSTART;TZID=America/New_York:20180218T103000
DTEND;TZID=America/New_York:20180218T110000
DTSTAMP:20260423T154254
CREATED:20180222T165548Z
LAST-MODIFIED:20180222T165548Z
UID:4392-1518949800-1518951600@gwinnettbiblechapel.org
SUMMARY:Refreshments
DESCRIPTION:Denise B.
URL:https://gwinnettbiblechapel.org/event/refreshments-21/
END:VEVENT
BEGIN:VEVENT
DTSTART;TZID=America/New_York:20180218T090000
DTEND;TZID=America/New_York:20180218T120000
DTSTAMP:20260423T154254
CREATED:20180222T165416Z
LAST-MODIFIED:20180222T165416Z
UID:4380-1518944400-1518955200@gwinnettbiblechapel.org
SUMMARY:Open/Close Greet @ 9
DESCRIPTION:Horace W.
URL:https://gwinnettbiblechapel.org/event/open-close-greet-9-3/
END:VEVENT
BEGIN:VEVENT
DTSTART;TZID=America/New_York:20180211T110000
DTEND;TZID=America/New_York:20180211T123000
DTSTAMP:20260423T154254
CREATED:20180222T165210Z
LAST-MODIFIED:20180222T165210Z
UID:4365-1518346800-1518352200@gwinnettbiblechapel.org
SUMMARY:Speaker @ 11
DESCRIPTION:Clive B.
URL:https://gwinnettbiblechapel.org/event/speaker-11-13/
END:VEVENT
BEGIN:VEVENT
DTSTART;TZID=America/New_York:20180211T103000
DTEND;TZID=America/New_York:20180211T110000
DTSTAMP:20260423T154254
CREATED:20180222T165525Z
LAST-MODIFIED:20180222T165525Z
UID:4389-1518345000-1518346800@gwinnettbiblechapel.org
SUMMARY:Refreshments
DESCRIPTION:Tina K.
URL:https://gwinnettbiblechapel.org/event/refreshments-20/
END:VEVENT
BEGIN:VEVENT
DTSTART;TZID=America/New_York:20180211T090000
DTEND;TZID=America/New_York:20180211T120000
DTSTAMP:20260423T154254
CREATED:20180222T165356Z
LAST-MODIFIED:20180222T165356Z
UID:4377-1518339600-1518350400@gwinnettbiblechapel.org
SUMMARY:Open/Close Greet @ 9
DESCRIPTION:Kevin B.
URL:https://gwinnettbiblechapel.org/event/open-close-greet-9-2/
END:VEVENT
BEGIN:VEVENT
DTSTART;TZID=America/New_York:20180204T110000
DTEND;TZID=America/New_York:20180204T120000
DTSTAMP:20260423T154254
CREATED:20180222T165143Z
LAST-MODIFIED:20180222T165143Z
UID:4362-1517742000-1517745600@gwinnettbiblechapel.org
SUMMARY:Speaker @ 11
DESCRIPTION:Alan P.
URL:https://gwinnettbiblechapel.org/event/speaker-11-12/
END:VEVENT
BEGIN:VEVENT
DTSTART;TZID=America/New_York:20180204T103000
DTEND;TZID=America/New_York:20180204T110000
DTSTAMP:20260423T154254
CREATED:20180222T165504Z
LAST-MODIFIED:20180222T165504Z
UID:4386-1517740200-1517742000@gwinnettbiblechapel.org
SUMMARY:Refreshments
DESCRIPTION:Tracey M.
URL:https://gwinnettbiblechapel.org/event/refreshments-19/
END:VEVENT
BEGIN:VEVENT
DTSTART;TZID=America/New_York:20180204T090000
DTEND;TZID=America/New_York:20180204T120000
DTSTAMP:20260423T154254
CREATED:20180222T165336Z
LAST-MODIFIED:20180222T165336Z
UID:4374-1517734800-1517745600@gwinnettbiblechapel.org
SUMMARY:Open/Close Greet @ 9
DESCRIPTION:John J.
URL:https://gwinnettbiblechapel.org/event/open-close-greet-9/
END:VEVENT
BEGIN:VEVENT
DTSTART;TZID=America/New_York:20180128T110000
DTEND;TZID=America/New_York:20180128T120000
DTSTAMP:20260423T154254
CREATED:20180107T225300Z
LAST-MODIFIED:20180107T225300Z
UID:4289-1517137200-1517140800@gwinnettbiblechapel.org
SUMMARY:Speaker @11am
DESCRIPTION:Rod S.
URL:https://gwinnettbiblechapel.org/event/speaker-11am-5/
END:VEVENT
BEGIN:VEVENT
DTSTART;TZID=America/New_York:20180128T090000
DTEND;TZID=America/New_York:20180128T120000
DTSTAMP:20260423T154254
CREATED:20180107T230236Z
LAST-MODIFIED:20180107T230236Z
UID:4324-1517130000-1517140800@gwinnettbiblechapel.org
SUMMARY:Community Bible Chapel 47th Anniversary
DESCRIPTION:
URL:https://gwinnettbiblechapel.org/event/community-bible-chapel-47th-anniversary/
ATTACH;FMTTYPE=image/jpeg:https://gwinnettbiblechapel.org/wp-content/uploads/2018/01/12550700_logo_1361123209640x360b_1.jpg
END:VEVENT
BEGIN:VEVENT
DTSTART;TZID=America/New_York:20180128T090000
DTEND;TZID=America/New_York:20180128T120000
DTSTAMP:20260423T154254
CREATED:20180107T225655Z
LAST-MODIFIED:20180107T225843Z
UID:4312-1517130000-1517140800@gwinnettbiblechapel.org
SUMMARY:Nursery @9am/10am/11am
DESCRIPTION:Louise C.\nBarbara D.\nKathy B.
URL:https://gwinnettbiblechapel.org/event/nursery-9am-10am-4/
END:VEVENT
BEGIN:VEVENT
DTSTART;TZID=America/New_York:20180128T090000
DTEND;TZID=America/New_York:20180128T120000
DTSTAMP:20260423T154254
CREATED:20180107T225428Z
LAST-MODIFIED:20180107T225428Z
UID:4301-1517130000-1517140800@gwinnettbiblechapel.org
SUMMARY:Open/Close Greet @9am
DESCRIPTION:Paul K.
URL:https://gwinnettbiblechapel.org/event/open-close-greet-9am-5/
END:VEVENT
END:VCALENDAR