BEGIN:VCALENDAR
VERSION:2.0
PRODID:-//Gwinnett Bible Chapel - ECPv6.15.16.1//NONSGML v1.0//EN
CALSCALE:GREGORIAN
METHOD:PUBLISH
X-ORIGINAL-URL:https://gwinnettbiblechapel.org
X-WR-CALDESC:Events for Gwinnett Bible Chapel
REFRESH-INTERVAL;VALUE=DURATION:PT1H
X-Robots-Tag:noindex
X-PUBLISHED-TTL:PT1H
BEGIN:VTIMEZONE
TZID:America/New_York
BEGIN:DAYLIGHT
TZOFFSETFROM:-0500
TZOFFSETTO:-0400
TZNAME:EDT
DTSTART:20150308T070000
END:DAYLIGHT
BEGIN:STANDARD
TZOFFSETFROM:-0400
TZOFFSETTO:-0500
TZNAME:EST
DTSTART:20151101T060000
END:STANDARD
BEGIN:DAYLIGHT
TZOFFSETFROM:-0500
TZOFFSETTO:-0400
TZNAME:EDT
DTSTART:20160313T070000
END:DAYLIGHT
BEGIN:STANDARD
TZOFFSETFROM:-0400
TZOFFSETTO:-0500
TZNAME:EST
DTSTART:20161106T060000
END:STANDARD
BEGIN:DAYLIGHT
TZOFFSETFROM:-0500
TZOFFSETTO:-0400
TZNAME:EDT
DTSTART:20170312T070000
END:DAYLIGHT
BEGIN:STANDARD
TZOFFSETFROM:-0400
TZOFFSETTO:-0500
TZNAME:EST
DTSTART:20171105T060000
END:STANDARD
END:VTIMEZONE
BEGIN:VEVENT
DTSTART;TZID=America/New_York:20160406T080000
DTEND;TZID=America/New_York:20160406T170000
DTSTAMP:20260425T221411
CREATED:20160229T035145Z
LAST-MODIFIED:20160229T035145Z
UID:2632-1459929600-1459962000@gwinnettbiblechapel.org
SUMMARY:7:00pm Prayer & Bible Study
DESCRIPTION:
URL:https://gwinnettbiblechapel.org/event/700pm-prayer-bible-study-14/
END:VEVENT
BEGIN:VEVENT
DTSTART;TZID=America/New_York:20160403T080000
DTEND;TZID=America/New_York:20160403T170000
DTSTAMP:20260425T221411
CREATED:20160402T134353Z
LAST-MODIFIED:20160402T134432Z
UID:2674-1459670400-1459702800@gwinnettbiblechapel.org
SUMMARY:11am Steve Roys
DESCRIPTION:
URL:https://gwinnettbiblechapel.org/event/11am-steve-roys/
END:VEVENT
BEGIN:VEVENT
DTSTART;TZID=America/New_York:20160330T080000
DTEND;TZID=America/New_York:20160330T170000
DTSTAMP:20260425T221411
CREATED:20160229T035020Z
LAST-MODIFIED:20160229T035020Z
UID:2628-1459324800-1459357200@gwinnettbiblechapel.org
SUMMARY:7:00pm Awana\, 7:15pm Prayer & Bible Study
DESCRIPTION:
URL:https://gwinnettbiblechapel.org/event/700pm-awana-715pm-prayer-bible-study-54/
END:VEVENT
BEGIN:VEVENT
DTSTART;TZID=America/New_York:20160327T080000
DTEND;TZID=America/New_York:20160327T170000
DTSTAMP:20260425T221411
CREATED:20160229T035818Z
LAST-MODIFIED:20160229T035818Z
UID:2646-1459065600-1459098000@gwinnettbiblechapel.org
SUMMARY:11am Bobby Young
DESCRIPTION:
URL:https://gwinnettbiblechapel.org/event/11am-bobby-young-3/
END:VEVENT
BEGIN:VEVENT
DTSTART;TZID=America/New_York:20160325T080000
DTEND;TZID=America/New_York:20160325T170000
DTSTAMP:20260425T221411
CREATED:20160229T035513Z
LAST-MODIFIED:20160229T035513Z
UID:2640-1458892800-1458925200@gwinnettbiblechapel.org
SUMMARY:7:00pm Good Friday Service
DESCRIPTION:
URL:https://gwinnettbiblechapel.org/event/700pm-good-friday-service/
END:VEVENT
BEGIN:VEVENT
DTSTART;TZID=America/New_York:20160323T080000
DTEND;TZID=America/New_York:20160323T170000
DTSTAMP:20260425T221411
CREATED:20160229T034932Z
LAST-MODIFIED:20160229T034932Z
UID:2626-1458720000-1458752400@gwinnettbiblechapel.org
SUMMARY:7:00pm Awana\, 7:15pm Prayer & Bible Study
DESCRIPTION:
URL:https://gwinnettbiblechapel.org/event/700pm-awana-715pm-prayer-bible-study-53/
END:VEVENT
BEGIN:VEVENT
DTSTART;TZID=America/New_York:20160320T080000
DTEND;TZID=America/New_York:20160320T170000
DTSTAMP:20260425T221411
CREATED:20160229T040000Z
LAST-MODIFIED:20160229T040000Z
UID:2650-1458460800-1458493200@gwinnettbiblechapel.org
SUMMARY:11am Joey Guikema
DESCRIPTION:
URL:https://gwinnettbiblechapel.org/event/11am-joey-guikema-2/
END:VEVENT
BEGIN:VEVENT
DTSTART;TZID=America/New_York:20160316T080000
DTEND;TZID=America/New_York:20160316T170000
DTSTAMP:20260425T221411
CREATED:20160229T034852Z
LAST-MODIFIED:20160229T034852Z
UID:2624-1458115200-1458147600@gwinnettbiblechapel.org
SUMMARY:7:00pm Awana\, 7:15pm Prayer & Bible Study
DESCRIPTION:
URL:https://gwinnettbiblechapel.org/event/700pm-awana-715pm-prayer-bible-study-52/
END:VEVENT
BEGIN:VEVENT
DTSTART;TZID=America/New_York:20160313T123000
DTEND;TZID=America/New_York:20160313T153000
DTSTAMP:20260425T221411
CREATED:20160229T035639Z
LAST-MODIFIED:20160229T035639Z
UID:2642-1457872200-1457883000@gwinnettbiblechapel.org
SUMMARY:12:30pm 412 Youth
DESCRIPTION:
URL:https://gwinnettbiblechapel.org/event/1230pm-412-youth-4/
END:VEVENT
BEGIN:VEVENT
DTSTART;TZID=America/New_York:20160313T080000
DTEND;TZID=America/New_York:20160313T170000
DTSTAMP:20260425T221411
CREATED:20160229T035919Z
LAST-MODIFIED:20160229T035919Z
UID:2648-1457856000-1457888400@gwinnettbiblechapel.org
SUMMARY:11am Peterjohn Walters
DESCRIPTION:
URL:https://gwinnettbiblechapel.org/event/11am-peterjohn-walters-3/
END:VEVENT
BEGIN:VEVENT
DTSTART;TZID=America/New_York:20160312T080000
DTEND;TZID=America/New_York:20160312T170000
DTSTAMP:20260425T221411
CREATED:20160102T012155Z
LAST-MODIFIED:20160102T012155Z
UID:2535-1457769600-1457802000@gwinnettbiblechapel.org
SUMMARY:7:30am Men’s Breakfast & Prayer
DESCRIPTION:
URL:https://gwinnettbiblechapel.org/event/730am-mens-breakfast-prayer-27/
END:VEVENT
BEGIN:VEVENT
DTSTART;TZID=America/New_York:20160309T080000
DTEND;TZID=America/New_York:20160309T170000
DTSTAMP:20260425T221411
CREATED:20160229T034751Z
LAST-MODIFIED:20160229T034751Z
UID:2622-1457510400-1457542800@gwinnettbiblechapel.org
SUMMARY:7:00pm Awana\, 7:15pm Prayer & Bible Study
DESCRIPTION:
URL:https://gwinnettbiblechapel.org/event/700pm-awana-715pm-prayer-bible-study-51/
END:VEVENT
BEGIN:VEVENT
DTSTART;TZID=America/New_York:20160306T080000
DTEND;TZID=America/New_York:20160306T170000
DTSTAMP:20260425T221411
CREATED:20160229T035731Z
LAST-MODIFIED:20160229T035731Z
UID:2644-1457251200-1457283600@gwinnettbiblechapel.org
SUMMARY:11am Rod Sharp
DESCRIPTION:
URL:https://gwinnettbiblechapel.org/event/11am-rod-sharp-3/
END:VEVENT
BEGIN:VEVENT
DTSTART;TZID=America/New_York:20160302T080000
DTEND;TZID=America/New_York:20160302T170000
DTSTAMP:20260425T221411
CREATED:20160102T011904Z
LAST-MODIFIED:20160102T011904Z
UID:2531-1456905600-1456938000@gwinnettbiblechapel.org
SUMMARY:7:00pm Awana\, 7:15pm Prayer & Bible Study
DESCRIPTION:
URL:https://gwinnettbiblechapel.org/event/700pm-awana-715pm-prayer-bible-study-50/
END:VEVENT
BEGIN:VEVENT
DTSTART;TZID=America/New_York:20160228T123000
DTEND;TZID=America/New_York:20160228T153000
DTSTAMP:20260425T221411
CREATED:20160130T020949Z
LAST-MODIFIED:20160130T020949Z
UID:2579-1456662600-1456673400@gwinnettbiblechapel.org
SUMMARY:12:30pm 412 Youth
DESCRIPTION:
URL:https://gwinnettbiblechapel.org/event/1230pm-412-youth-3/
END:VEVENT
BEGIN:VEVENT
DTSTART;TZID=America/New_York:20160228T110000
DTEND;TZID=America/New_York:20160228T120000
DTSTAMP:20260425T221411
CREATED:20160130T020659Z
LAST-MODIFIED:20160130T020659Z
UID:2577-1456657200-1456660800@gwinnettbiblechapel.org
SUMMARY:11am Gerald Baker
DESCRIPTION:
URL:https://gwinnettbiblechapel.org/event/11am-gerald-baker/
END:VEVENT
BEGIN:VEVENT
DTSTART;TZID=America/New_York:20160227T173000
DTEND;TZID=America/New_York:20160227T203000
DTSTAMP:20260425T221411
CREATED:20160220T230416Z
LAST-MODIFIED:20160220T230416Z
UID:2617-1456594200-1456605000@gwinnettbiblechapel.org
SUMMARY:5:30pm 1880s Fellowship at GBC
DESCRIPTION:
URL:https://gwinnettbiblechapel.org/event/530pm-1880s-fellowship-at-gbc/
END:VEVENT
BEGIN:VEVENT
DTSTART;TZID=America/New_York:20160224T080000
DTEND;TZID=America/New_York:20160224T170000
DTSTAMP:20260425T221411
CREATED:20160102T011801Z
LAST-MODIFIED:20160102T011801Z
UID:2529-1456300800-1456333200@gwinnettbiblechapel.org
SUMMARY:7:00pm Awana\, 7:15pm Prayer & Bible Study
DESCRIPTION:
URL:https://gwinnettbiblechapel.org/event/700pm-awana-715pm-prayer-bible-study-49/
END:VEVENT
BEGIN:VEVENT
DTSTART;TZID=America/New_York:20160221T110000
DTEND;TZID=America/New_York:20160221T120000
DTSTAMP:20260425T221411
CREATED:20160130T020619Z
LAST-MODIFIED:20160130T020619Z
UID:2575-1456052400-1456056000@gwinnettbiblechapel.org
SUMMARY:11am Vinoji Samuel
DESCRIPTION:
URL:https://gwinnettbiblechapel.org/event/11am-vinoji-samuel-3/
END:VEVENT
BEGIN:VEVENT
DTSTART;TZID=America/New_York:20160217T080000
DTEND;TZID=America/New_York:20160217T170000
DTSTAMP:20260425T221411
CREATED:20160102T011734Z
LAST-MODIFIED:20160102T011734Z
UID:2527-1455696000-1455728400@gwinnettbiblechapel.org
SUMMARY:7:00pm Awana\, 7:15pm Prayer & Bible Study
DESCRIPTION:
URL:https://gwinnettbiblechapel.org/event/700pm-awana-715pm-prayer-bible-study-48/
END:VEVENT
BEGIN:VEVENT
DTSTART;TZID=America/New_York:20160214T110000
DTEND;TZID=America/New_York:20160214T120000
DTSTAMP:20260425T221411
CREATED:20160130T020535Z
LAST-MODIFIED:20160130T020535Z
UID:2573-1455447600-1455451200@gwinnettbiblechapel.org
SUMMARY:11am Scott Batterton
DESCRIPTION:
URL:https://gwinnettbiblechapel.org/event/11am-scott-batterton-2/
END:VEVENT
BEGIN:VEVENT
DTSTART;TZID=America/New_York:20160213T090000
DTEND;TZID=America/New_York:20160213T140000
DTSTAMP:20260425T221411
CREATED:20160130T021831Z
LAST-MODIFIED:20160130T021831Z
UID:2583-1455354000-1455372000@gwinnettbiblechapel.org
SUMMARY:9am 412 Youth Service Project
DESCRIPTION:
URL:https://gwinnettbiblechapel.org/event/9am-412-youth-service-project/
END:VEVENT
BEGIN:VEVENT
DTSTART;TZID=America/New_York:20160213T073000
DTEND;TZID=America/New_York:20160213T090000
DTSTAMP:20260425T221411
CREATED:20160130T021629Z
LAST-MODIFIED:20160130T021629Z
UID:2581-1455348600-1455354000@gwinnettbiblechapel.org
SUMMARY:7:30am Men’s Breakfast & Prayer
DESCRIPTION:
URL:https://gwinnettbiblechapel.org/event/730am-mens-breakfast-prayer-28/
END:VEVENT
BEGIN:VEVENT
DTSTART;TZID=America/New_York:20160210T080000
DTEND;TZID=America/New_York:20160210T170000
DTSTAMP:20260425T221411
CREATED:20160102T011710Z
LAST-MODIFIED:20160102T011710Z
UID:2525-1455091200-1455123600@gwinnettbiblechapel.org
SUMMARY:7:00pm Awana\, 7:15pm Prayer & Bible Study
DESCRIPTION:
URL:https://gwinnettbiblechapel.org/event/700pm-awana-715pm-prayer-bible-study-47/
END:VEVENT
BEGIN:VEVENT
DTSTART;TZID=America/New_York:20160207T110000
DTEND;TZID=America/New_York:20160207T120000
DTSTAMP:20260425T221411
CREATED:20160130T020445Z
LAST-MODIFIED:20160130T020446Z
UID:2571-1454842800-1454846400@gwinnettbiblechapel.org
SUMMARY:11am Rojers Paul
DESCRIPTION:
URL:https://gwinnettbiblechapel.org/event/11am-rojers-paul-5/
END:VEVENT
BEGIN:VEVENT
DTSTART;TZID=America/New_York:20160203T080000
DTEND;TZID=America/New_York:20160203T170000
DTSTAMP:20260425T221411
CREATED:20160102T011645Z
LAST-MODIFIED:20160102T011645Z
UID:2523-1454486400-1454518800@gwinnettbiblechapel.org
SUMMARY:7:00pm Awana\, 7:15pm Prayer & Bible Study
DESCRIPTION:
URL:https://gwinnettbiblechapel.org/event/700pm-awana-715pm-prayer-bible-study-46/
END:VEVENT
BEGIN:VEVENT
DTSTART;TZID=America/New_York:20160131T123000
DTEND;TZID=America/New_York:20160131T153000
DTSTAMP:20260425T221411
CREATED:20160112T054439Z
LAST-MODIFIED:20160112T054439Z
UID:2552-1454243400-1454254200@gwinnettbiblechapel.org
SUMMARY:12:30pm 412 Youth
DESCRIPTION:
URL:https://gwinnettbiblechapel.org/event/1230pm-412-youth-2/
END:VEVENT
BEGIN:VEVENT
DTSTART;TZID=America/New_York:20160131T080000
DTEND;TZID=America/New_York:20160131T170000
DTSTAMP:20260425T221411
CREATED:20160102T012429Z
LAST-MODIFIED:20160102T012429Z
UID:2545-1454227200-1454259600@gwinnettbiblechapel.org
SUMMARY:11am Bobby Young
DESCRIPTION:
URL:https://gwinnettbiblechapel.org/event/11am-bobby-young-2/
END:VEVENT
BEGIN:VEVENT
DTSTART;TZID=America/New_York:20160127T080000
DTEND;TZID=America/New_York:20160127T170000
DTSTAMP:20260425T221411
CREATED:20160102T011623Z
LAST-MODIFIED:20160102T011623Z
UID:2521-1453881600-1453914000@gwinnettbiblechapel.org
SUMMARY:7:00pm Awana\, 7:15pm Prayer & Bible Study
DESCRIPTION:
URL:https://gwinnettbiblechapel.org/event/700pm-awana-715pm-prayer-bible-study-45/
END:VEVENT
BEGIN:VEVENT
DTSTART;TZID=America/New_York:20160124T080000
DTEND;TZID=America/New_York:20160124T170000
DTSTAMP:20260425T221411
CREATED:20160102T012401Z
LAST-MODIFIED:20160102T012401Z
UID:2543-1453622400-1453654800@gwinnettbiblechapel.org
SUMMARY:11am Dennis Bryan
DESCRIPTION:
URL:https://gwinnettbiblechapel.org/event/11am-dennis-bryan-5/
END:VEVENT
END:VCALENDAR