BEGIN:VCALENDAR
VERSION:2.0
PRODID:-//Gwinnett Bible Chapel - ECPv6.15.16.1//NONSGML v1.0//EN
CALSCALE:GREGORIAN
METHOD:PUBLISH
X-ORIGINAL-URL:https://gwinnettbiblechapel.org
X-WR-CALDESC:Events for Gwinnett Bible Chapel
REFRESH-INTERVAL;VALUE=DURATION:PT1H
X-Robots-Tag:noindex
X-PUBLISHED-TTL:PT1H
BEGIN:VTIMEZONE
TZID:America/New_York
BEGIN:DAYLIGHT
TZOFFSETFROM:-0500
TZOFFSETTO:-0400
TZNAME:EDT
DTSTART:20160313T070000
END:DAYLIGHT
BEGIN:STANDARD
TZOFFSETFROM:-0400
TZOFFSETTO:-0500
TZNAME:EST
DTSTART:20161106T060000
END:STANDARD
BEGIN:DAYLIGHT
TZOFFSETFROM:-0500
TZOFFSETTO:-0400
TZNAME:EDT
DTSTART:20170312T070000
END:DAYLIGHT
BEGIN:STANDARD
TZOFFSETFROM:-0400
TZOFFSETTO:-0500
TZNAME:EST
DTSTART:20171105T060000
END:STANDARD
BEGIN:DAYLIGHT
TZOFFSETFROM:-0500
TZOFFSETTO:-0400
TZNAME:EDT
DTSTART:20180311T070000
END:DAYLIGHT
BEGIN:STANDARD
TZOFFSETFROM:-0400
TZOFFSETTO:-0500
TZNAME:EST
DTSTART:20181104T060000
END:STANDARD
BEGIN:DAYLIGHT
TZOFFSETFROM:-0500
TZOFFSETTO:-0400
TZNAME:EDT
DTSTART:20190310T070000
END:DAYLIGHT
BEGIN:STANDARD
TZOFFSETFROM:-0400
TZOFFSETTO:-0500
TZNAME:EST
DTSTART:20191103T060000
END:STANDARD
END:VTIMEZONE
BEGIN:VEVENT
DTSTART;TZID=America/New_York:20180121T110000
DTEND;TZID=America/New_York:20180121T120000
DTSTAMP:20260423T200023
CREATED:20180107T225239Z
LAST-MODIFIED:20180107T225239Z
UID:4286-1516532400-1516536000@gwinnettbiblechapel.org
SUMMARY:Speaker @11am
DESCRIPTION:Phil G.
URL:https://gwinnettbiblechapel.org/event/speaker-11am-4/
END:VEVENT
BEGIN:VEVENT
DTSTART;TZID=America/New_York:20180121T090000
DTEND;TZID=America/New_York:20180121T120000
DTSTAMP:20260423T200023
CREATED:20180107T225625Z
LAST-MODIFIED:20180107T225823Z
UID:4310-1516525200-1516536000@gwinnettbiblechapel.org
SUMMARY:Nursery @9am/10am/11am
DESCRIPTION:Giji J.\nSharon D.\nRachael & Amanda D.
URL:https://gwinnettbiblechapel.org/event/nursery-9am-10am-3/
END:VEVENT
BEGIN:VEVENT
DTSTART;TZID=America/New_York:20180121T090000
DTEND;TZID=America/New_York:20180121T120000
DTSTAMP:20260423T200023
CREATED:20180107T225409Z
LAST-MODIFIED:20180107T225409Z
UID:4298-1516525200-1516536000@gwinnettbiblechapel.org
SUMMARY:Open/Close Greet @9am
DESCRIPTION:Horace W.
URL:https://gwinnettbiblechapel.org/event/open-close-greet-9am-4/
END:VEVENT
BEGIN:VEVENT
DTSTART;TZID=America/New_York:20180114T110000
DTEND;TZID=America/New_York:20180114T120000
DTSTAMP:20260423T200023
CREATED:20180107T225217Z
LAST-MODIFIED:20180107T225217Z
UID:4283-1515927600-1515931200@gwinnettbiblechapel.org
SUMMARY:Speaker @11am
DESCRIPTION:Vinoji S.
URL:https://gwinnettbiblechapel.org/event/speaker-11am-3/
END:VEVENT
BEGIN:VEVENT
DTSTART;TZID=America/New_York:20180114T090000
DTEND;TZID=America/New_York:20180114T120000
DTSTAMP:20260423T200023
CREATED:20180107T225602Z
LAST-MODIFIED:20180107T225755Z
UID:4307-1515920400-1515931200@gwinnettbiblechapel.org
SUMMARY:Nursery @9am/10am/11am
DESCRIPTION:* Volunteer Needed\nAlice L.\nAmber H.
URL:https://gwinnettbiblechapel.org/event/nursery-9am-10am-2/
END:VEVENT
BEGIN:VEVENT
DTSTART;TZID=America/New_York:20180114T090000
DTEND;TZID=America/New_York:20180114T120000
DTSTAMP:20260423T200023
CREATED:20180107T225350Z
LAST-MODIFIED:20180107T225350Z
UID:4295-1515920400-1515931200@gwinnettbiblechapel.org
SUMMARY:Open/Close Greet @9am
DESCRIPTION:Kevin B.
URL:https://gwinnettbiblechapel.org/event/open-close-greet-9am-3/
END:VEVENT
BEGIN:VEVENT
DTSTART;TZID=America/New_York:20180107T110000
DTEND;TZID=America/New_York:20180107T120000
DTSTAMP:20260423T200023
CREATED:20180107T225151Z
LAST-MODIFIED:20180107T225151Z
UID:4280-1515322800-1515326400@gwinnettbiblechapel.org
SUMMARY:Speaker @11am
DESCRIPTION:John. T
URL:https://gwinnettbiblechapel.org/event/speaker-11am-2/
END:VEVENT
BEGIN:VEVENT
DTSTART;TZID=America/New_York:20180107T090000
DTEND;TZID=America/New_York:20180107T120000
DTSTAMP:20260423T200023
CREATED:20180107T225526Z
LAST-MODIFIED:20180107T225733Z
UID:4304-1515315600-1515326400@gwinnettbiblechapel.org
SUMMARY:Nursery @9am/10am/11am
DESCRIPTION:Donna T.\nKaye V.\nRashelle S.
URL:https://gwinnettbiblechapel.org/event/nursery-9am-10am/
END:VEVENT
BEGIN:VEVENT
DTSTART;TZID=America/New_York:20180107T090000
DTEND;TZID=America/New_York:20180107T120000
DTSTAMP:20260423T200023
CREATED:20180107T225333Z
LAST-MODIFIED:20180107T225333Z
UID:4292-1515315600-1515326400@gwinnettbiblechapel.org
SUMMARY:Open/Close Greet @9am
DESCRIPTION:John J.
URL:https://gwinnettbiblechapel.org/event/open-close-greet-9am-2/
END:VEVENT
BEGIN:VEVENT
DTSTART;TZID=America/New_York:20171231T190000
DTEND;TZID=America/New_York:20180101T000000
DTSTAMP:20260423T200023
CREATED:20171108T232705Z
LAST-MODIFIED:20171108T232705Z
UID:4201-1514746800-1514764800@gwinnettbiblechapel.org
SUMMARY:Watch Night Meeting @ The Pauls
DESCRIPTION:
URL:https://gwinnettbiblechapel.org/event/watch-night-meeting-pauls/
END:VEVENT
BEGIN:VEVENT
DTSTART;TZID=America/New_York:20171231T110000
DTEND;TZID=America/New_York:20171231T120000
DTSTAMP:20260423T200023
CREATED:20171206T165741Z
LAST-MODIFIED:20171206T165741Z
UID:4238-1514718000-1514721600@gwinnettbiblechapel.org
SUMMARY:Speaker @11
DESCRIPTION:Richard M.
URL:https://gwinnettbiblechapel.org/event/speaker-11-11/
END:VEVENT
BEGIN:VEVENT
DTSTART;TZID=America/New_York:20171231T090000
DTEND;TZID=America/New_York:20171231T120000
DTSTAMP:20260423T200023
CREATED:20171206T165949Z
LAST-MODIFIED:20171206T170012Z
UID:4253-1514710800-1514721600@gwinnettbiblechapel.org
SUMMARY:Open/Close Greet
DESCRIPTION:Volunteer Needed
URL:https://gwinnettbiblechapel.org/event/open-close-greet-5/
END:VEVENT
BEGIN:VEVENT
DTSTART;TZID=America/New_York:20171227T150000
DTEND;TZID=America/New_York:20171231T140000
DTSTAMP:20260423T200023
CREATED:20171124T045611Z
LAST-MODIFIED:20171124T045611Z
UID:4214-1514386800-1514728800@gwinnettbiblechapel.org
SUMMARY:DuDream Winter Conference
DESCRIPTION:Theme: Serving God\, Serving Others\nLocation: Forest Glen (https://forestglen.org/)\n34 Forest Glen Road\, Huntsville\, TX 77340
URL:https://gwinnettbiblechapel.org/event/dudream-winter-conference/
ATTACH;FMTTYPE=image/jpeg:https://gwinnettbiblechapel.org/wp-content/uploads/2017/11/dudream_logo.jpg
END:VEVENT
BEGIN:VEVENT
DTSTART;TZID=America/New_York:20171227T120000
DTEND;TZID=America/New_York:20171230T120000
DTSTAMP:20260423T200023
CREATED:20171124T044429Z
LAST-MODIFIED:20171124T044429Z
UID:4205-1514376000-1514635200@gwinnettbiblechapel.org
SUMMARY:Believers Bible Conference
DESCRIPTION:(Wed-Sat) in Murfreesboro\, TN \nAbout Us
URL:https://gwinnettbiblechapel.org/event/believers-bible-conference/
END:VEVENT
BEGIN:VEVENT
DTSTART;TZID=America/New_York:20171224T110000
DTEND;TZID=America/New_York:20171224T120000
DTSTAMP:20260423T200023
CREATED:20171206T165722Z
LAST-MODIFIED:20171206T165722Z
UID:4235-1514113200-1514116800@gwinnettbiblechapel.org
SUMMARY:Speaker @11
DESCRIPTION:Dennis B.
URL:https://gwinnettbiblechapel.org/event/speaker-11-10/
END:VEVENT
BEGIN:VEVENT
DTSTART;TZID=America/New_York:20171224T090000
DTEND;TZID=America/New_York:20171224T120000
DTSTAMP:20260423T200023
CREATED:20171206T165923Z
LAST-MODIFIED:20171206T165923Z
UID:4250-1514106000-1514116800@gwinnettbiblechapel.org
SUMMARY:Open/Close Greet
DESCRIPTION:Paul K.
URL:https://gwinnettbiblechapel.org/event/open-close-greet-4/
END:VEVENT
BEGIN:VEVENT
DTSTART;TZID=America/New_York:20171217T110000
DTEND;TZID=America/New_York:20171217T120000
DTSTAMP:20260423T200023
CREATED:20171206T165700Z
LAST-MODIFIED:20171206T165700Z
UID:4232-1513508400-1513512000@gwinnettbiblechapel.org
SUMMARY:Speaker @11
DESCRIPTION:Alex T.
URL:https://gwinnettbiblechapel.org/event/speaker-11-9/
END:VEVENT
BEGIN:VEVENT
DTSTART;TZID=America/New_York:20171217T110000
DTEND;TZID=America/New_York:20171217T113000
DTSTAMP:20260423T200023
CREATED:20171108T232621Z
LAST-MODIFIED:20171108T232621Z
UID:4198-1513508400-1513510200@gwinnettbiblechapel.org
SUMMARY:GBC Choir Christmas Program
DESCRIPTION:
URL:https://gwinnettbiblechapel.org/event/gbc-choir-christmas-program/
END:VEVENT
BEGIN:VEVENT
DTSTART;TZID=America/New_York:20171217T090000
DTEND;TZID=America/New_York:20171217T120000
DTSTAMP:20260423T200023
CREATED:20171206T165904Z
LAST-MODIFIED:20171206T165904Z
UID:4247-1513501200-1513512000@gwinnettbiblechapel.org
SUMMARY:Open/Close Greet
DESCRIPTION:Horace W.http://gwinnettbiblechapel.org/wp-admin/profile.php
URL:https://gwinnettbiblechapel.org/event/open-close-greet-3/
END:VEVENT
BEGIN:VEVENT
DTSTART;TZID=America/New_York:20171210T110000
DTEND;TZID=America/New_York:20171210T120000
DTSTAMP:20260423T200023
CREATED:20171206T165639Z
LAST-MODIFIED:20171206T165639Z
UID:4229-1512903600-1512907200@gwinnettbiblechapel.org
SUMMARY:Speaker @11
DESCRIPTION:Rojers P.
URL:https://gwinnettbiblechapel.org/event/speaker-11-8/
END:VEVENT
BEGIN:VEVENT
DTSTART;TZID=America/New_York:20171210T100000
DTEND;TZID=America/New_York:20171210T110000
DTSTAMP:20260423T200023
CREATED:20171108T232601Z
LAST-MODIFIED:20171108T232601Z
UID:4195-1512900000-1512903600@gwinnettbiblechapel.org
SUMMARY:Sunday School Christmas Program
DESCRIPTION:
URL:https://gwinnettbiblechapel.org/event/sunday-school-christmas-program/
END:VEVENT
BEGIN:VEVENT
DTSTART;TZID=America/New_York:20171210T090000
DTEND;TZID=America/New_York:20171210T120000
DTSTAMP:20260423T200023
CREATED:20171206T165843Z
LAST-MODIFIED:20171206T165843Z
UID:4244-1512896400-1512907200@gwinnettbiblechapel.org
SUMMARY:Open/Close Greet
DESCRIPTION:Kevin B.
URL:https://gwinnettbiblechapel.org/event/open-close-greet-2/
END:VEVENT
BEGIN:VEVENT
DTSTART;TZID=America/New_York:20171209T073000
DTEND;TZID=America/New_York:20171209T093000
DTSTAMP:20260423T200023
CREATED:20171205T024213Z
LAST-MODIFIED:20171205T024213Z
UID:4222-1512804600-1512811800@gwinnettbiblechapel.org
SUMMARY:Men's Prayer Breakfast
DESCRIPTION:@ 7:390
URL:https://gwinnettbiblechapel.org/event/mens-prayer-breakfast-2/
END:VEVENT
BEGIN:VEVENT
DTSTART;TZID=America/New_York:20171203T120000
DTEND;TZID=America/New_York:20171203T150000
DTSTAMP:20260423T200023
CREATED:20171107T164433Z
LAST-MODIFIED:20171107T164433Z
UID:4145-1512302400-1512313200@gwinnettbiblechapel.org
SUMMARY:Christmas Dinner
DESCRIPTION:
URL:https://gwinnettbiblechapel.org/event/christmas-dinner/
END:VEVENT
BEGIN:VEVENT
DTSTART;TZID=America/New_York:20171203T110000
DTEND;TZID=America/New_York:20171203T120000
DTSTAMP:20260423T200023
CREATED:20171206T165550Z
LAST-MODIFIED:20171206T165550Z
UID:4226-1512298800-1512302400@gwinnettbiblechapel.org
SUMMARY:Speaker @11
DESCRIPTION:Ali F.
URL:https://gwinnettbiblechapel.org/event/speaker-11-7/
END:VEVENT
BEGIN:VEVENT
DTSTART;TZID=America/New_York:20171203T090000
DTEND;TZID=America/New_York:20171203T120000
DTSTAMP:20260423T200023
CREATED:20171206T165824Z
LAST-MODIFIED:20171206T165824Z
UID:4241-1512291600-1512302400@gwinnettbiblechapel.org
SUMMARY:Open/Close Greet
DESCRIPTION:John J.
URL:https://gwinnettbiblechapel.org/event/open-close-greet/
END:VEVENT
BEGIN:VEVENT
DTSTART;TZID=America/New_York:20171126T110000
DTEND;TZID=America/New_York:20171126T120000
DTSTAMP:20260423T200023
CREATED:20171108T232028Z
LAST-MODIFIED:20171108T232028Z
UID:4159-1511694000-1511697600@gwinnettbiblechapel.org
SUMMARY:Speaker @ 11 am
DESCRIPTION:Clive B.
URL:https://gwinnettbiblechapel.org/event/speaker-11-am-3/
END:VEVENT
BEGIN:VEVENT
DTSTART;TZID=America/New_York:20171126T103000
DTEND;TZID=America/New_York:20171126T110000
DTSTAMP:20260423T200023
CREATED:20171108T232520Z
LAST-MODIFIED:20171108T232520Z
UID:4192-1511692200-1511694000@gwinnettbiblechapel.org
SUMMARY:Refreshments
DESCRIPTION:Louise Cl.
URL:https://gwinnettbiblechapel.org/event/refreshments-18/
END:VEVENT
BEGIN:VEVENT
DTSTART;TZID=America/New_York:20171126T090000
DTEND;TZID=America/New_York:20171126T100000
DTSTAMP:20260423T200023
CREATED:20171108T232345Z
LAST-MODIFIED:20171108T232345Z
UID:4180-1511686800-1511690400@gwinnettbiblechapel.org
SUMMARY:Greeting @ 9am
DESCRIPTION:Paul K.
URL:https://gwinnettbiblechapel.org/event/greeting-9am-4/
END:VEVENT
BEGIN:VEVENT
DTSTART;TZID=America/New_York:20171125T100000
DTEND;TZID=America/New_York:20171125T150000
DTSTAMP:20260423T200023
CREATED:20171124T044700Z
LAST-MODIFIED:20171124T044753Z
UID:4208-1511604000-1511622000@gwinnettbiblechapel.org
SUMMARY:Fall Bible Conference
DESCRIPTION:Br. Thomas Wheeler (TX) ministering the Word. Topic: ‘Heart-Psalming’ – How a Devotional Walk With Our Lord Assures the Believer’s Confidence\, Peace and Strength.
URL:https://gwinnettbiblechapel.org/event/fall-bible-conference/
ATTACH;FMTTYPE=image/png:https://gwinnettbiblechapel.org/wp-content/uploads/2017/11/atlantasplash.png
END:VEVENT
END:VCALENDAR