BEGIN:VCALENDAR
VERSION:2.0
PRODID:-//Gwinnett Bible Chapel - ECPv6.15.16.1//NONSGML v1.0//EN
CALSCALE:GREGORIAN
METHOD:PUBLISH
X-ORIGINAL-URL:https://gwinnettbiblechapel.org
X-WR-CALDESC:Events for Gwinnett Bible Chapel
REFRESH-INTERVAL;VALUE=DURATION:PT1H
X-Robots-Tag:noindex
X-PUBLISHED-TTL:PT1H
BEGIN:VTIMEZONE
TZID:America/New_York
BEGIN:DAYLIGHT
TZOFFSETFROM:-0500
TZOFFSETTO:-0400
TZNAME:EDT
DTSTART:20160313T070000
END:DAYLIGHT
BEGIN:STANDARD
TZOFFSETFROM:-0400
TZOFFSETTO:-0500
TZNAME:EST
DTSTART:20161106T060000
END:STANDARD
BEGIN:DAYLIGHT
TZOFFSETFROM:-0500
TZOFFSETTO:-0400
TZNAME:EDT
DTSTART:20170312T070000
END:DAYLIGHT
BEGIN:STANDARD
TZOFFSETFROM:-0400
TZOFFSETTO:-0500
TZNAME:EST
DTSTART:20171105T060000
END:STANDARD
BEGIN:DAYLIGHT
TZOFFSETFROM:-0500
TZOFFSETTO:-0400
TZNAME:EDT
DTSTART:20180311T070000
END:DAYLIGHT
BEGIN:STANDARD
TZOFFSETFROM:-0400
TZOFFSETTO:-0500
TZNAME:EST
DTSTART:20181104T060000
END:STANDARD
END:VTIMEZONE
BEGIN:VEVENT
DTSTART;TZID=America/New_York:20171119T110000
DTEND;TZID=America/New_York:20171119T120000
DTSTAMP:20260424T012022
CREATED:20171108T232008Z
LAST-MODIFIED:20171108T232008Z
UID:4156-1511089200-1511092800@gwinnettbiblechapel.org
SUMMARY:Speaker @ 11 am
DESCRIPTION:Gladin J.
URL:https://gwinnettbiblechapel.org/event/speaker-11-am-2/
END:VEVENT
BEGIN:VEVENT
DTSTART;TZID=America/New_York:20171119T103000
DTEND;TZID=America/New_York:20171119T110000
DTSTAMP:20260424T012022
CREATED:20171108T232459Z
LAST-MODIFIED:20171108T232459Z
UID:4189-1511087400-1511089200@gwinnettbiblechapel.org
SUMMARY:Refreshments
DESCRIPTION:Arlene K.
URL:https://gwinnettbiblechapel.org/event/refreshments-17/
END:VEVENT
BEGIN:VEVENT
DTSTART;TZID=America/New_York:20171119T090000
DTEND;TZID=America/New_York:20171119T100000
DTSTAMP:20260424T012022
CREATED:20171108T232324Z
LAST-MODIFIED:20171108T232324Z
UID:4177-1511082000-1511085600@gwinnettbiblechapel.org
SUMMARY:Greeting @ 9am
DESCRIPTION:Horace W.
URL:https://gwinnettbiblechapel.org/event/greeting-9am-3/
END:VEVENT
BEGIN:VEVENT
DTSTART;TZID=America/New_York:20171112T110000
DTEND;TZID=America/New_York:20171112T120000
DTSTAMP:20260424T012022
CREATED:20171108T231945Z
LAST-MODIFIED:20171108T231945Z
UID:4152-1510484400-1510488000@gwinnettbiblechapel.org
SUMMARY:Speaker @ 11 am
DESCRIPTION:Rojers P.
URL:https://gwinnettbiblechapel.org/event/speaker-11-am/
END:VEVENT
BEGIN:VEVENT
DTSTART;TZID=America/New_York:20171112T103000
DTEND;TZID=America/New_York:20171112T110000
DTSTAMP:20260424T012022
CREATED:20171108T232438Z
LAST-MODIFIED:20171108T232438Z
UID:4186-1510482600-1510484400@gwinnettbiblechapel.org
SUMMARY:Refreshments
DESCRIPTION:Caroleeta W.
URL:https://gwinnettbiblechapel.org/event/refreshments-16/
END:VEVENT
BEGIN:VEVENT
DTSTART;TZID=America/New_York:20171112T090000
DTEND;TZID=America/New_York:20171112T100000
DTSTAMP:20260424T012022
CREATED:20171108T232304Z
LAST-MODIFIED:20171108T232304Z
UID:4174-1510477200-1510480800@gwinnettbiblechapel.org
SUMMARY:Greeting @ 9am
DESCRIPTION:Kevin B.
URL:https://gwinnettbiblechapel.org/event/greeting-9am-2/
END:VEVENT
BEGIN:VEVENT
DTSTART;TZID=America/New_York:20171111T073000
DTEND;TZID=America/New_York:20171111T093000
DTSTAMP:20260424T012022
CREATED:20171108T232134Z
LAST-MODIFIED:20171108T232134Z
UID:4165-1510385400-1510392600@gwinnettbiblechapel.org
SUMMARY:Men's Prayer Breakfast
DESCRIPTION:
URL:https://gwinnettbiblechapel.org/event/mens-prayer-breakfast/
END:VEVENT
BEGIN:VEVENT
DTSTART;TZID=America/New_York:20171110T170000
DTEND;TZID=America/New_York:20171110T170000
DTSTAMP:20260424T012022
CREATED:20171108T232100Z
LAST-MODIFIED:20171108T232100Z
UID:4162-1510333200-1510333200@gwinnettbiblechapel.org
SUMMARY:412 Hangout
DESCRIPTION:
URL:https://gwinnettbiblechapel.org/event/412-hangout/
END:VEVENT
BEGIN:VEVENT
DTSTART;TZID=America/New_York:20171105T110000
DTEND;TZID=America/New_York:20171105T120000
DTSTAMP:20260424T012022
CREATED:20171108T231919Z
LAST-MODIFIED:20171108T231919Z
UID:4150-1509879600-1509883200@gwinnettbiblechapel.org
SUMMARY:Speaker @ 11am
DESCRIPTION:John G.
URL:https://gwinnettbiblechapel.org/event/speaker-11am/
END:VEVENT
BEGIN:VEVENT
DTSTART;TZID=America/New_York:20171105T103000
DTEND;TZID=America/New_York:20171105T110000
DTSTAMP:20260424T012022
CREATED:20171108T232410Z
LAST-MODIFIED:20171108T232410Z
UID:4183-1509877800-1509879600@gwinnettbiblechapel.org
SUMMARY:Refreshments
DESCRIPTION:Donna T.
URL:https://gwinnettbiblechapel.org/event/refreshments-15/
END:VEVENT
BEGIN:VEVENT
DTSTART;TZID=America/New_York:20171105T090000
DTEND;TZID=America/New_York:20171105T100000
DTSTAMP:20260424T012022
CREATED:20171108T232239Z
LAST-MODIFIED:20171108T232239Z
UID:4171-1509872400-1509876000@gwinnettbiblechapel.org
SUMMARY:Greeting @ 9am
DESCRIPTION:John J.
URL:https://gwinnettbiblechapel.org/event/greeting-9am/
END:VEVENT
BEGIN:VEVENT
DTSTART;TZID=America/New_York:20171029T110000
DTEND;TZID=America/New_York:20171029T120000
DTSTAMP:20260424T012022
CREATED:20171006T172529Z
LAST-MODIFIED:20171006T172529Z
UID:4085-1509274800-1509278400@gwinnettbiblechapel.org
SUMMARY:Speaker @11
DESCRIPTION:Alan K.
URL:https://gwinnettbiblechapel.org/event/speaker-11-6/
END:VEVENT
BEGIN:VEVENT
DTSTART;TZID=America/New_York:20171029T103000
DTEND;TZID=America/New_York:20171029T110000
DTSTAMP:20260424T012022
CREATED:20171006T173009Z
LAST-MODIFIED:20171006T173009Z
UID:4115-1509273000-1509274800@gwinnettbiblechapel.org
SUMMARY:Refreshments
DESCRIPTION:Rashelle S.
URL:https://gwinnettbiblechapel.org/event/refreshments-14/
END:VEVENT
BEGIN:VEVENT
DTSTART;TZID=America/New_York:20171029T090000
DTEND;TZID=America/New_York:20171029T120000
DTSTAMP:20260424T012022
CREATED:20171006T172804Z
LAST-MODIFIED:20171006T172804Z
UID:4100-1509267600-1509278400@gwinnettbiblechapel.org
SUMMARY:Open/Close-Greet @9
DESCRIPTION:Kevin B.
URL:https://gwinnettbiblechapel.org/event/openclose-greet-9-5/
END:VEVENT
BEGIN:VEVENT
DTSTART;TZID=America/New_York:20171022T110000
DTEND;TZID=America/New_York:20171022T120000
DTSTAMP:20260424T012022
CREATED:20171006T172503Z
LAST-MODIFIED:20171006T172503Z
UID:4082-1508670000-1508673600@gwinnettbiblechapel.org
SUMMARY:Speaker @11
DESCRIPTION:Rod S.
URL:https://gwinnettbiblechapel.org/event/speaker-11-5/
END:VEVENT
BEGIN:VEVENT
DTSTART;TZID=America/New_York:20171022T103000
DTEND;TZID=America/New_York:20171022T110000
DTSTAMP:20260424T012022
CREATED:20171006T172945Z
LAST-MODIFIED:20171006T172945Z
UID:4112-1508668200-1508670000@gwinnettbiblechapel.org
SUMMARY:Refreshments
DESCRIPTION:Nancy C.
URL:https://gwinnettbiblechapel.org/event/refreshments-13/
END:VEVENT
BEGIN:VEVENT
DTSTART;TZID=America/New_York:20171022T090000
DTEND;TZID=America/New_York:20171022T120000
DTSTAMP:20260424T012022
CREATED:20171006T172739Z
LAST-MODIFIED:20171006T172739Z
UID:4097-1508662800-1508673600@gwinnettbiblechapel.org
SUMMARY:Open/Close-Greet @9
DESCRIPTION:Paul K.
URL:https://gwinnettbiblechapel.org/event/openclose-greet-9-4/
END:VEVENT
BEGIN:VEVENT
DTSTART;TZID=America/New_York:20171021T100000
DTEND;TZID=America/New_York:20171021T140000
DTSTAMP:20260424T012022
CREATED:20170904T145828Z
LAST-MODIFIED:20170904T145839Z
UID:3971-1508580000-1508594400@gwinnettbiblechapel.org
SUMMARY:GBC 2017 Picnic
DESCRIPTION:Lilburn Park
URL:https://gwinnettbiblechapel.org/event/gbc-2017-picnic/
ATTACH;FMTTYPE=image/jpeg:https://gwinnettbiblechapel.org/wp-content/uploads/2017/09/gbc-picnic-2012.jpg
END:VEVENT
BEGIN:VEVENT
DTSTART;TZID=America/New_York:20171015T120000
DTEND;TZID=America/New_York:20171015T140000
DTSTAMP:20260424T012022
CREATED:20171003T145705Z
LAST-MODIFIED:20171003T145705Z
UID:4066-1508068800-1508076000@gwinnettbiblechapel.org
SUMMARY:Dinner on the Grounds
DESCRIPTION:
URL:https://gwinnettbiblechapel.org/event/dinner-on-the-grounds/
END:VEVENT
BEGIN:VEVENT
DTSTART;TZID=America/New_York:20171015T120000
DTEND;TZID=America/New_York:20171015T133000
DTSTAMP:20260424T012022
CREATED:20170201T012523Z
LAST-MODIFIED:20171008T000029Z
UID:3184-1508068800-1508074200@gwinnettbiblechapel.org
SUMMARY:Dinner on the Grounds @12pm
DESCRIPTION:
URL:https://gwinnettbiblechapel.org/event/12pm-dinner-grounds-6/
END:VEVENT
BEGIN:VEVENT
DTSTART;TZID=America/New_York:20171015T110000
DTEND;TZID=America/New_York:20171015T120000
DTSTAMP:20260424T012022
CREATED:20171006T172441Z
LAST-MODIFIED:20171006T172441Z
UID:4079-1508065200-1508068800@gwinnettbiblechapel.org
SUMMARY:Speaker @11
DESCRIPTION:Alan P.
URL:https://gwinnettbiblechapel.org/event/speaker-11-3/
END:VEVENT
BEGIN:VEVENT
DTSTART;TZID=America/New_York:20171015T103000
DTEND;TZID=America/New_York:20171015T110000
DTSTAMP:20260424T012022
CREATED:20171006T172925Z
LAST-MODIFIED:20171006T172925Z
UID:4109-1508063400-1508065200@gwinnettbiblechapel.org
SUMMARY:Refreshments
DESCRIPTION:Joy H.
URL:https://gwinnettbiblechapel.org/event/refreshments-12/
END:VEVENT
BEGIN:VEVENT
DTSTART;TZID=America/New_York:20171015T090000
DTEND;TZID=America/New_York:20171015T120000
DTSTAMP:20260424T012022
CREATED:20171006T172720Z
LAST-MODIFIED:20171006T172720Z
UID:4094-1508058000-1508068800@gwinnettbiblechapel.org
SUMMARY:Open/Close-Greet @9
DESCRIPTION:Horrace W.
URL:https://gwinnettbiblechapel.org/event/openclose-greet-9-3/
END:VEVENT
BEGIN:VEVENT
DTSTART;TZID=America/New_York:20171008T110000
DTEND;TZID=America/New_York:20171008T120000
DTSTAMP:20260424T012022
CREATED:20171006T172416Z
LAST-MODIFIED:20171006T172416Z
UID:4076-1507460400-1507464000@gwinnettbiblechapel.org
SUMMARY:Speaker @11
DESCRIPTION:Peterjohn W.
URL:https://gwinnettbiblechapel.org/event/speaker-11-2/
END:VEVENT
BEGIN:VEVENT
DTSTART;TZID=America/New_York:20171008T103000
DTEND;TZID=America/New_York:20171008T110000
DTSTAMP:20260424T012022
CREATED:20171006T172904Z
LAST-MODIFIED:20171006T172904Z
UID:4105-1507458600-1507460400@gwinnettbiblechapel.org
SUMMARY:Refreshments
DESCRIPTION:Kathy B.
URL:https://gwinnettbiblechapel.org/event/refreshments-11/
END:VEVENT
BEGIN:VEVENT
DTSTART;TZID=America/New_York:20171008T090000
DTEND;TZID=America/New_York:20171008T120000
DTSTAMP:20260424T012022
CREATED:20171006T172657Z
LAST-MODIFIED:20171006T172657Z
UID:4091-1507453200-1507464000@gwinnettbiblechapel.org
SUMMARY:Open/Close-Greet @9
DESCRIPTION:Kevin B.
URL:https://gwinnettbiblechapel.org/event/openclose-greet-9-2/
END:VEVENT
BEGIN:VEVENT
DTSTART;TZID=America/New_York:20171007T073000
DTEND;TZID=America/New_York:20171007T093000
DTSTAMP:20260424T012022
CREATED:20171003T145618Z
LAST-MODIFIED:20171003T145618Z
UID:4063-1507361400-1507368600@gwinnettbiblechapel.org
SUMMARY:Men's Breakfast @7:30am
DESCRIPTION:
URL:https://gwinnettbiblechapel.org/event/mens-breakfast-730am/
END:VEVENT
BEGIN:VEVENT
DTSTART;TZID=America/New_York:20171001T110000
DTEND;TZID=America/New_York:20171001T120000
DTSTAMP:20260424T012022
CREATED:20171006T172347Z
LAST-MODIFIED:20171006T172347Z
UID:4073-1506855600-1506859200@gwinnettbiblechapel.org
SUMMARY:Speaker @11
DESCRIPTION:Dennis B.
URL:https://gwinnettbiblechapel.org/event/speaker-11/
END:VEVENT
BEGIN:VEVENT
DTSTART;TZID=America/New_York:20171001T103000
DTEND;TZID=America/New_York:20171001T110000
DTSTAMP:20260424T012022
CREATED:20171006T172841Z
LAST-MODIFIED:20171006T172841Z
UID:4103-1506853800-1506855600@gwinnettbiblechapel.org
SUMMARY:Refreshments
DESCRIPTION:Claudia B.
URL:https://gwinnettbiblechapel.org/event/refreshments-10/
END:VEVENT
BEGIN:VEVENT
DTSTART;TZID=America/New_York:20171001T090000
DTEND;TZID=America/New_York:20171001T120000
DTSTAMP:20260424T012022
CREATED:20171006T172637Z
LAST-MODIFIED:20171006T172637Z
UID:4088-1506848400-1506859200@gwinnettbiblechapel.org
SUMMARY:Open/Close-Greet @9
DESCRIPTION:John J.
URL:https://gwinnettbiblechapel.org/event/openclose-greet-9/
END:VEVENT
END:VCALENDAR